PDS_VERSION_ID = PDS3
/* FILE DATA ELEMENTS */
RECORD_TYPE = UNDEFINED
/* POINTERS TO DATA OBJECTS */
^IMAGE = ("H3312_0001_ND4.TIF")
/* IDENTIFICATION DATA ELEMENTS */
DATA_SET_ID = "MEX-M-HRSC-4-REFDR-MAPPROJECT-EXT1-V4.0"
DATA_SET_NAME = "MARS EXPRESS HRSC MAP PROJECTED REFDR EXTENSION1 V4.0"
DETECTOR_ID = MEX_HRSC_NADIR
EVENT_TYPE = "MARS-REGIONAL-MAPPING-Te-Im-Pf"
INSTRUMENT_HOST_ID = MEX
INSTRUMENT_HOST_NAME = "MARS EXPRESS"
INSTRUMENT_ID = HRSC
INSTRUMENT_NAME = "HIGH RESOLUTION STEREO CAMERA"
MISSION_NAME = "MARS EXPRESS"
MISSION_PHASE_NAME = ME_Phase_3
PROCESSING_LEVEL_ID = 4
PRODUCT_CREATION_TIME = 2023-02-09T17:15:12.000Z
PRODUCT_ID = "H3312_0001_ND4.TIF"
RELEASE_ID = 0004
REVISION_ID = 0000
/* QUALITY DATA ELEMENTS */
DATA_QUALITY_ID = 1
DATA_QUALITY_DESC = "Data calculated based on original SPICE kernels"
/* TIME DATA ELEMENTS */
SPACECRAFT_CLOCK_START_COUNT = "1/0103080533.07301"
SPACECRAFT_CLOCK_STOP_COUNT = "1/0103080807.14473"
START_TIME = 2006-08-08T01:29:40.605Z
STOP_TIME = 2006-08-08T01:32:59.614Z
/* ORBITAL DATA ELEMENTS */
ASCENDING_NODE_LONGITUDE = 158.74
MAXIMUM_RESOLUTION = 0.0139
FOOTPRINT_POINT_LATITUDE = (64.7552,64.7056,64.6625,64.6289, 64.6273,64.6272,64.3499,63.9345,63.6633 ,63.3917,63.1197,62.7135,62.4478, 62.1817,61.9152,61.6485,61.3814,61.1139 ,60.8462,60.5781,60.3097,60.041,59.772, 59.5027,59.2331,58.9632,58.6931,58.4227 ,58.152,57.881,57.6098,57.3383,56.9363, 56.4802,56.0235,55.5661,55.1081,54.6495 ,54.1903,53.9605,53.7306,53.5005, 53.2704,53.0401,52.8097,52.5791,52.3485 ,52.1177,52.0023,51.9916,52.0134, 52.0328,52.0458,52.0462,52.0466,52.3941 ,52.6256,52.857,53.0883,53.3195,53.5506 ,53.7816,54.0125,54.2433,54.4739, 54.7044,55.1651,55.6252,56.0848,56.5439 ,57.0024,57.4045,57.6775,57.9502, 58.2228,58.4951,58.7672,59.039,59.3106, 59.5819,59.853,60.1239,60.3945,60.6647, 60.9348,61.2048,61.474,61.7432,62.0122, 62.2808,62.5492,62.8172,63.2267,63.5012 ,63.7754,64.0492,64.3282,64.6086, 64.7486,64.7552)
FOOTPRINT_POINT_LONGITUDE = (310.705,309.172,308.124,307.411, 307.379,307.337,307.422,307.545,307.623 ,307.698,307.772,307.88,307.948,308.014 ,308.079,308.143,308.205,308.265, 308.325,308.383,308.439,308.495,308.549 ,308.602,308.654,308.704,308.754, 308.803,308.85,308.896,308.942,308.986, 309.05,309.12,309.187,309.252,309.315, 309.375,309.433,309.462,309.489,309.517 ,309.543,309.57,309.595,309.621,309.645 ,309.67,309.682,309.683,310.344,311.054 ,311.656,311.676,311.686,311.672, 311.663,311.654,311.645,311.636,311.626 ,311.616,311.606,311.596,311.586, 311.575,311.553,311.531,311.507,311.483 ,311.459,311.436,311.42,311.404,311.388 ,311.371,311.354,311.337,311.319, 311.301,311.283,311.264,311.245,311.224 ,311.204,311.19,311.162,311.14,311.119, 311.097,311.073,311.05,311.013,310.988, 310.962,310.935,310.907,310.878,310.864 ,310.705)
ORBIT_NUMBER = 3312
ORBITAL_ECCENTRICITY = 0.567
ORBITAL_INCLINATION = 86.68
ORBITAL_SEMIMAJOR_AXIS = 8577.3
PERIAPSIS_ALTITUDE = 329.49
PERIAPSIS_ARGUMENT_ANGLE = 135.73
PERIAPSIS_TIME = 2006-08-08T01:34:59.000Z
SPACECRAFT_ORIENTATION = (0.0,-1.0,0.0)
^MEX_ORIENTATION_DESC = "MEX_ORIENTATION_DESC.TXT"
SPACECRAFT_POINTING_MODE = ACROSSTRACK
^MEX_POINTING_DESC = "MEX_POINTING_DESC.TXT"
RIGHT_ASCENSION = -1e+32
DECLINATION = -1e+32
OFFSET_ANGLE = 0.5
SPACECRAFT_SOLAR_DISTANCE = 2.47865e+08
TARGET_NAME = MARS
/* CAMERA DATA ELEMENTS */
DETECTOR_TEMPERATURE = 19.1861
FOCAL_PLANE_TEMPERATURE = 8.1755
INST_CMPRS_NAME = "DISCRETE COSINE TRANSFORMATION (DCT)"
INST_CMPRS_RATIO = 6.85479
INST_CMPRS_QUALITY = 0
INST_CMPRS_QUANTZ_TBL_ID = 0
INSTRUMENT_TEMPERATURE = 12.8652
LENS_TEMPERATURE = 8.5833
MACROPIXEL_SIZE = 1
MISSING_FRAMES = 0
PIXEL_SUBSAMPLING_FLAG = N
SIGNAL_CHAIN_ID = 0
/* RADIOMETRIC DATA ELEMENTS */
BANDWIDTH = 177.0
CENTER_FILTER_WAVELENGTH = 677.5
RADIANCE_OFFSET = 2.81603
RADIANCE_SCALING_FACTOR = 0.0112733
REFLECTANCE_SCALING_FACTOR = 0.00036793
MEX:REFLECTANCE_OFFSET = 0.0919075
/* IMAGE OBJECT DEFINITIONS */
OBJECT = IMAGE
  INTERCHANGE_FORMAT = BINARY
  LINES = 60552
  LINE_SAMPLES = 10328
  SAMPLE_TYPE = UNSIGNED_INTEGER
  SAMPLE_BITS = 8
  BANDS = 1
  BAND_STORAGE_TYPE = BAND_SEQUENTIAL
  MAXIMUM = 255
  MEAN = 114.177
  MINIMUM = 1
  STANDARD_DEVIATION = 25.1611
END_OBJECT = IMAGE
/* MAP OBJECT DEFINITIONS */
OBJECT = IMAGE_MAP_PROJECTION
  ^DATA_SET_MAP_PROJECTION_CATALOG= "DSMAP.CAT"
  A_AXIS_RADIUS = 3396.0
  B_AXIS_RADIUS = 3396.0
  C_AXIS_RADIUS = 3396.0
  CENTER_LATITUDE = 0.0
  CENTER_LONGITUDE = 310.0
  COORDINATE_SYSTEM_NAME = PLANETOGRAPHIC
  COORDINATE_SYSTEM_TYPE = "BODY-FIXED ROTATING"
  EASTERNMOST_LONGITUDE = 311.686
  FIRST_STANDARD_PARALLEL = "N/A"
  LINE_FIRST_PIXEL = 1
  LINE_LAST_PIXEL = 60552
  LINE_PROJECTION_OFFSET = 307080.0
  MAP_PROJECTION_ROTATION = 0.0
  MAP_PROJECTION_TYPE = SINUSOIDAL
  MAP_RESOLUTION = 4741.71043093333
  MAP_SCALE = 0.0125
  MAXIMUM_LATITUDE = 64.7552
  MINIMUM_LATITUDE = 51.9916
  POSITIVE_LONGITUDE_DIRECTION = EAST
  REFERENCE_LATITUDE = "N/A"
  REFERENCE_LONGITUDE = "N/A"
  SAMPLE_FIRST_PIXEL = 1
  SAMPLE_LAST_PIXEL = 10328
  SAMPLE_PROJECTION_OFFSET = 5410.0
  SECOND_STANDARD_PARALLEL = "N/A"
  WESTERNMOST_LONGITUDE = 307.337
END_OBJECT = IMAGE_MAP_PROJECTION
END
