PDS_VERSION_ID = PDS3
/* FILE DATA ELEMENTS */
RECORD_TYPE = UNDEFINED
/* POINTERS TO DATA OBJECTS */
^IMAGE = ("H3312_0000_S24.TIF")
/* IDENTIFICATION DATA ELEMENTS */
DATA_SET_ID = "MEX-M-HRSC-4-REFDR-MAPPROJECT-EXT1-V4.0"
DATA_SET_NAME = "MARS EXPRESS HRSC MAP PROJECTED REFDR EXTENSION1 V4.0"
DETECTOR_ID = MEX_HRSC_S2
EVENT_TYPE = "MARS-REGIONAL-MAPPING-Gl-Eo-La"
INSTRUMENT_HOST_ID = MEX
INSTRUMENT_HOST_NAME = "MARS EXPRESS"
INSTRUMENT_ID = HRSC
INSTRUMENT_NAME = "HIGH RESOLUTION STEREO CAMERA"
MISSION_NAME = "MARS EXPRESS"
MISSION_PHASE_NAME = ME_Phase_3
PROCESSING_LEVEL_ID = 4
PRODUCT_CREATION_TIME = 2023-02-09T17:15:12.000Z
PRODUCT_ID = "H3312_0000_S24.TIF"
RELEASE_ID = 0004
REVISION_ID = 0000
/* QUALITY DATA ELEMENTS */
DATA_QUALITY_ID = 1
DATA_QUALITY_DESC = "Data calculated based on original SPICE kernels"
/* TIME DATA ELEMENTS */
SPACECRAFT_CLOCK_START_COUNT = "1/0103080085.07278"
SPACECRAFT_CLOCK_STOP_COUNT = "1/0103080402.39094"
START_TIME = 2006-08-08T01:24:21.856Z
STOP_TIME = 2006-08-08T01:26:45.781Z
/* ORBITAL DATA ELEMENTS */
ASCENDING_NODE_LONGITUDE = 158.74
MAXIMUM_RESOLUTION = 0.0469
FOOTPRINT_POINT_LATITUDE = (87.0761,86.9407,86.8254,86.7045, 86.5788,86.4488,86.315,86.178,86.0381, 85.8955,85.7505,85.5288,85.3787,85.3598 ,85.4109,85.2623,85.1567,84.9877,84.87, 84.7476,84.6221,84.4934,84.2935,84.1581 ,84.0199,83.8079,83.6655,83.4479, 83.3011,83.0789,82.9284,82.7788,82.6282 ,82.4784,82.3254,82.1726,82.0183, 81.7854,81.6303,81.4731,81.2374,80.9313 ,80.7745,80.5406,80.2292,79.7625, 79.4502,79.1421,78.755,78.218,78.1407, 78.1261,78.2333,78.3413,78.4171,78.4695 ,78.5302,78.5983,78.6016,78.6035, 78.9282,79.2505,79.5793,79.9906,80.241, 80.5751,80.9123,81.3356,81.5073,81.6785 ,81.8496,82.0205,82.1937,82.3686, 82.5391,82.7119,82.8859,83.1464,83.4114 ,83.5873,83.7638,84.0308,84.2096, 84.3876,84.5672,84.836,85.0125,85.1924, 85.373,85.6406,85.8198,85.9991,86.1748, 86.3536,86.5293,86.7051,86.8801,87.1335 ,87.2181,87.0761)
FOOTPRINT_POINT_LONGITUDE = (282.688,279.181,276.601,274.21,271.993 ,269.937,268.029,266.258,264.611, 263.078,261.647,259.673,258.462,258.316 ,256.527,259.671,261.634,264.428, 266.164,267.822,269.389,270.875,272.976 ,274.275,275.514,277.264,278.348, 279.882,280.844,282.2,283.058,283.866, 284.637,285.363,286.074,286.751,287.402 ,288.332,288.918,289.488,290.296, 291.267,291.738,292.407,293.242,294.386 ,295.089,295.738,296.497,297.458, 297.589,297.614,299.268,301.14,302.594, 303.701,305.104,306.911,307.007,307.041 ,306.828,306.6,306.356,306.028,305.813, 305.51,305.179,304.727,304.53,304.324, 304.11,303.886,303.649,303.402,303.138, 302.863,302.57,302.103,301.598,301.233, 300.849,300.227,299.776,299.297,298.781 ,297.934,297.317,296.646,295.924, 294.724,293.827,292.851,291.781,290.593 ,289.284,287.828,286.192,283.38,282.311 ,282.688)
ORBIT_NUMBER = 3312
ORBITAL_ECCENTRICITY = 0.567
ORBITAL_INCLINATION = 86.68
ORBITAL_SEMIMAJOR_AXIS = 8577.3
PERIAPSIS_ALTITUDE = 329.49
PERIAPSIS_ARGUMENT_ANGLE = 135.73
PERIAPSIS_TIME = 2006-08-08T01:34:59.000Z
SPACECRAFT_ORIENTATION = (0.0,-1.0,0.0)
^MEX_ORIENTATION_DESC = "MEX_ORIENTATION_DESC.TXT"
SPACECRAFT_POINTING_MODE = ACROSSTRACK
^MEX_POINTING_DESC = "MEX_POINTING_DESC.TXT"
RIGHT_ASCENSION = -1e+32
DECLINATION = -1e+32
OFFSET_ANGLE = 0.5
SPACECRAFT_SOLAR_DISTANCE = 2.47865e+08
TARGET_NAME = MARS
/* CAMERA DATA ELEMENTS */
DETECTOR_TEMPERATURE = 18.7783
FOCAL_PLANE_TEMPERATURE = 7.9716
INST_CMPRS_NAME = "DISCRETE COSINE TRANSFORMATION (DCT)"
INST_CMPRS_RATIO = 13.6394
INST_CMPRS_QUALITY = 0
INST_CMPRS_QUANTZ_TBL_ID = 0
INSTRUMENT_TEMPERATURE = 11.234
LENS_TEMPERATURE = 6.9521
MACROPIXEL_SIZE = 2
MISSING_FRAMES = 0
PIXEL_SUBSAMPLING_FLAG = N
SIGNAL_CHAIN_ID = 1
/* RADIOMETRIC DATA ELEMENTS */
BANDWIDTH = 178.0
CENTER_FILTER_WAVELENGTH = 679.0
RADIANCE_OFFSET = 3.73355
RADIANCE_SCALING_FACTOR = 0.0254071
REFLECTANCE_SCALING_FACTOR = 0.000826639
MEX:REFLECTANCE_OFFSET = 0.121474
/* IMAGE OBJECT DEFINITIONS */
OBJECT = IMAGE
  INTERCHANGE_FORMAT = BINARY
  LINES = 10864
  LINE_SAMPLES = 6861
  SAMPLE_TYPE = UNSIGNED_INTEGER
  SAMPLE_BITS = 8
  BANDS = 1
  BAND_STORAGE_TYPE = BAND_SEQUENTIAL
  MAXIMUM = 255
  MEAN = 128.84
  MINIMUM = 1
  STANDARD_DEVIATION = 55.1196
END_OBJECT = IMAGE
/* MAP OBJECT DEFINITIONS */
OBJECT = IMAGE_MAP_PROJECTION
  ^DATA_SET_MAP_PROJECTION_CATALOG= "DSMAP.CAT"
  A_AXIS_RADIUS = 3396.0
  B_AXIS_RADIUS = 3396.0
  C_AXIS_RADIUS = 3396.0
  CENTER_LATITUDE = 0.0
  CENTER_LONGITUDE = 294.0
  COORDINATE_SYSTEM_NAME = PLANETOGRAPHIC
  COORDINATE_SYSTEM_TYPE = "BODY-FIXED ROTATING"
  EASTERNMOST_LONGITUDE = 307.041
  FIRST_STANDARD_PARALLEL = "N/A"
  LINE_FIRST_PIXEL = 1
  LINE_LAST_PIXEL = 10864
  LINE_PROJECTION_OFFSET = 103441.25
  MAP_PROJECTION_ROTATION = 0.0
  MAP_PROJECTION_TYPE = SINUSOIDAL
  MAP_RESOLUTION = 1185.42760773333
  MAP_SCALE = 0.05
  MAXIMUM_LATITUDE = 87.21810000000001
  MINIMUM_LATITUDE = 78.12609999999999
  POSITIVE_LONGITUDE_DIRECTION = EAST
  REFERENCE_LATITUDE = "N/A"
  REFERENCE_LONGITUDE = "N/A"
  SAMPLE_FIRST_PIXEL = 1
  SAMPLE_LAST_PIXEL = 6861
  SAMPLE_PROJECTION_OFFSET = 3730.75
  SECOND_STANDARD_PARALLEL = "N/A"
  WESTERNMOST_LONGITUDE = 256.527
END_OBJECT = IMAGE_MAP_PROJECTION
END
