PDS_VERSION_ID = PDS3
/* FILE DATA ELEMENTS */
RECORD_TYPE = UNDEFINED
/* POINTERS TO DATA OBJECTS */
^IMAGE = ("H3311_0000_BL4.TIF")
/* IDENTIFICATION DATA ELEMENTS */
DATA_SET_ID = "MEX-M-HRSC-4-REFDR-MAPPROJECT-EXT1-V4.0"
DATA_SET_NAME = "MARS EXPRESS HRSC MAP PROJECTED REFDR EXTENSION1 V4.0"
DETECTOR_ID = MEX_HRSC_BLUE
EVENT_TYPE = "MARS-REGIONAL-MAPPING-Te-Pf-Mw"
INSTRUMENT_HOST_ID = MEX
INSTRUMENT_HOST_NAME = "MARS EXPRESS"
INSTRUMENT_ID = HRSC
INSTRUMENT_NAME = "HIGH RESOLUTION STEREO CAMERA"
MISSION_NAME = "MARS EXPRESS"
MISSION_PHASE_NAME = ME_Phase_3
PROCESSING_LEVEL_ID = 4
PRODUCT_CREATION_TIME = 2023-02-09T17:15:12.000Z
PRODUCT_ID = "H3311_0000_BL4.TIF"
RELEASE_ID = 0004
REVISION_ID = 0000
/* QUALITY DATA ELEMENTS */
DATA_QUALITY_ID = 1
DATA_QUALITY_DESC = "Data calculated based on original SPICE kernels"
/* TIME DATA ELEMENTS */
SPACECRAFT_CLOCK_START_COUNT = "1/0103056572.08278"
SPACECRAFT_CLOCK_STOP_COUNT = "1/0103056834.08034"
START_TIME = 2006-08-07T18:50:13.654Z
STOP_TIME = 2006-08-07T18:53:31.375Z
/* ORBITAL DATA ELEMENTS */
ASCENDING_NODE_LONGITUDE = 158.76
MAXIMUM_RESOLUTION = 0.1054
FOOTPRINT_POINT_LATITUDE = (50.123,50.1081,50.0907,50.0647,50.064, 50.0759,49.819,49.5622,49.3052,49.0481, 48.6625,48.4054,48.0196,47.7624,47.505, 47.2476,46.9901,46.7324,46.4752,46.2176 ,45.8312,45.5734,45.1869,44.9299,44.672 ,44.4127,44.0272,43.641,43.2539,42.9964 ,42.6113,42.3529,42.0963,41.8394, 41.4544,41.197,40.9405,40.6836,40.4258, 40.0399,39.6549,39.3979,39.0131,38.7566 ,38.2445,37.732,37.3483,37.2205,37.2062 ,37.2182,37.2247,37.2325,37.2327, 37.2342,37.8748,38.1313,38.3878,38.6448 ,38.9015,39.1584,39.4165,39.6727, 39.9301,40.1875,40.446,40.7028,40.96, 41.2186,41.6051,41.8646,42.1224,42.3803 ,42.638,42.8963,43.1546,43.4119,43.6698 ,43.9288,44.187,44.4451,44.8324,45.2199 ,45.4783,45.8656,46.1239,46.3826,46.641 ,46.8992,47.1575,47.5449,47.9322, 48.1904,48.4485,48.8355,49.0936,49.3512 ,49.6094,49.9965,50.1254,50.123)
FOOTPRINT_POINT_LONGITUDE = (48.6097,48.0858,47.5576,46.8742, 46.8574,46.7815,46.8118,46.8409,46.87, 46.8988,46.9399,46.967,47.006,47.0315, 47.0568,47.0815,47.1062,47.1311,47.1532 ,47.1767,47.2105,47.2336,47.2659, 47.2844,47.3062,47.3335,47.3591,47.3867 ,47.4178,47.4358,47.4572,47.4785, 47.4919,47.5066,47.5271,47.5431,47.5558 ,47.5699,47.5878,47.6111,47.6306, 47.6451,47.6642,47.6766,47.6989,47.7229 ,47.7388,47.7439,47.7445,48.2973, 48.6546,49.1863,49.1999,49.2089,49.1882 ,49.1798,49.1713,49.1629,49.154,49.1451 ,49.1369,49.1271,49.1179,49.1087, 49.0999,49.0898,49.0798,49.0706,49.0554 ,49.0464,49.036,49.0254,49.0144,49.0038 ,48.993,48.9812,48.9697,48.9588,48.9471 ,48.9352,48.917,48.8986,48.8862,48.8668 ,48.8538,48.8409,48.8275,48.8139, 48.8001,48.779,48.7574,48.7427,48.7277, 48.7048,48.6894,48.6734,48.6577,48.6335 ,48.6252,48.6097)
ORBIT_NUMBER = 3311
ORBITAL_ECCENTRICITY = 0.567
ORBITAL_INCLINATION = 86.68
ORBITAL_SEMIMAJOR_AXIS = 8583.67
PERIAPSIS_ALTITUDE = 329.11
PERIAPSIS_ARGUMENT_ANGLE = 135.9
PERIAPSIS_TIME = 2006-08-07T18:51:42.000Z
SPACECRAFT_ORIENTATION = (0.0,-1.0,0.0)
^MEX_ORIENTATION_DESC = "MEX_ORIENTATION_DESC.TXT"
SPACECRAFT_POINTING_MODE = ACROSSTRACK
^MEX_POINTING_DESC = "MEX_POINTING_DESC.TXT"
RIGHT_ASCENSION = -1e+32
DECLINATION = -1e+32
OFFSET_ANGLE = -0.35
SPACECRAFT_SOLAR_DISTANCE = 2.47882e+08
TARGET_NAME = MARS
/* CAMERA DATA ELEMENTS */
DETECTOR_TEMPERATURE = 18.1666
FOCAL_PLANE_TEMPERATURE = 7.7677
INST_CMPRS_NAME = "DISCRETE COSINE TRANSFORMATION (DCT)"
INST_CMPRS_RATIO = 24.3181
INST_CMPRS_QUALITY = 0
INST_CMPRS_QUANTZ_TBL_ID = 0
INSTRUMENT_TEMPERATURE = 12.4574
LENS_TEMPERATURE = 7.9716
MACROPIXEL_SIZE = 8
MISSING_FRAMES = 0
PIXEL_SUBSAMPLING_FLAG = N
SIGNAL_CHAIN_ID = 2
/* RADIOMETRIC DATA ELEMENTS */
BANDWIDTH = 76.0
CENTER_FILTER_WAVELENGTH = 444.0
RADIANCE_OFFSET = 0.716027
RADIANCE_SCALING_FACTOR = 0.00178282
REFLECTANCE_SCALING_FACTOR = 0.000112553
MEX:REFLECTANCE_OFFSET = 0.045204
/* IMAGE OBJECT DEFINITIONS */
OBJECT = IMAGE
  INTERCHANGE_FORMAT = BINARY
  LINES = 7679
  LINE_SAMPLES = 1044
  SAMPLE_TYPE = UNSIGNED_INTEGER
  SAMPLE_BITS = 8
  BANDS = 1
  BAND_STORAGE_TYPE = BAND_SEQUENTIAL
  MAXIMUM = 254
  MEAN = 126.583
  MINIMUM = 1
  STANDARD_DEVIATION = 34.1335
END_OBJECT = IMAGE
/* MAP OBJECT DEFINITIONS */
OBJECT = IMAGE_MAP_PROJECTION
  ^DATA_SET_MAP_PROJECTION_CATALOG= "DSMAP.CAT"
  A_AXIS_RADIUS = 3396.0
  B_AXIS_RADIUS = 3396.0
  C_AXIS_RADIUS = 3396.0
  CENTER_LATITUDE = 0.0
  CENTER_LONGITUDE = 48.0
  COORDINATE_SYSTEM_NAME = PLANETOGRAPHIC
  COORDINATE_SYSTEM_TYPE = "BODY-FIXED ROTATING"
  EASTERNMOST_LONGITUDE = 49.2089
  FIRST_STANDARD_PARALLEL = "N/A"
  LINE_FIRST_PIXEL = 1
  LINE_LAST_PIXEL = 7679
  LINE_PROJECTION_OFFSET = 29728.1875
  MAP_PROJECTION_ROTATION = 0.0
  MAP_PROJECTION_TYPE = SINUSOIDAL
  MAP_RESOLUTION = 592.713803866667
  MAP_SCALE = 0.1
  MAXIMUM_LATITUDE = 50.1254
  MINIMUM_LATITUDE = 37.2062
  POSITIVE_LONGITUDE_DIRECTION = EAST
  REFERENCE_LATITUDE = "N/A"
  REFERENCE_LONGITUDE = "N/A"
  SAMPLE_FIRST_PIXEL = 1
  SAMPLE_LAST_PIXEL = 1044
  SAMPLE_PROJECTION_OFFSET = 473.4375
  SECOND_STANDARD_PARALLEL = "N/A"
  WESTERNMOST_LONGITUDE = 46.7815
END_OBJECT = IMAGE_MAP_PROJECTION
END
