PDS_VERSION_ID = PDS3
/* FILE DATA ELEMENTS */
RECORD_TYPE = UNDEFINED
/* POINTERS TO DATA OBJECTS */
^IMAGE = ("H3308_0000_BL4.TIF")
/* IDENTIFICATION DATA ELEMENTS */
DATA_SET_ID = "MEX-M-HRSC-4-REFDR-MAPPROJECT-EXT1-V4.0"
DATA_SET_NAME = "MARS EXPRESS HRSC MAP PROJECTED REFDR EXTENSION1 V4.0"
DETECTOR_ID = MEX_HRSC_BLUE
EVENT_TYPE = "MARS-REGIONAL-MAPPING-Fl-La-Ts"
INSTRUMENT_HOST_ID = MEX
INSTRUMENT_HOST_NAME = "MARS EXPRESS"
INSTRUMENT_ID = HRSC
INSTRUMENT_NAME = "HIGH RESOLUTION STEREO CAMERA"
MISSION_NAME = "MARS EXPRESS"
MISSION_PHASE_NAME = ME_Phase_3
PROCESSING_LEVEL_ID = 4
PRODUCT_CREATION_TIME = 2023-02-09T17:15:12.000Z
PRODUCT_ID = "H3308_0000_BL4.TIF"
RELEASE_ID = 0004
REVISION_ID = 0000
/* QUALITY DATA ELEMENTS */
DATA_QUALITY_ID = 1
DATA_QUALITY_DESC = "Data calculated based on original SPICE kernels"
/* TIME DATA ELEMENTS */
SPACECRAFT_CLOCK_START_COUNT = "1/0102984325.07302"
SPACECRAFT_CLOCK_STOP_COUNT = "1/0102984623.32138"
START_TIME = 2006-08-06T22:46:09.734Z
STOP_TIME = 2006-08-06T22:49:41.086Z
/* ORBITAL DATA ELEMENTS */
ASCENDING_NODE_LONGITUDE = 158.83
MAXIMUM_RESOLUTION = 0.0615
FOOTPRINT_POINT_LATITUDE = (27.3781,27.3754,27.372,27.3676,27.3675 ,27.375,27.0115,26.7693,26.5275,26.1649 ,25.9235,25.6828,25.3217,24.8413, 24.2422,23.7651,23.4026,23.1574,22.9133 ,22.6696,22.4262,22.052,21.8024,21.5544 ,21.1761,20.9217,20.6689,20.4143, 20.0275,19.769,19.3815,19.1177,18.7222, 18.3245,18.0568,17.7889,17.3817,17.1085 ,16.8358,16.5605,16.2842,16.0068, 15.7236,15.4412,15.1596,14.7294,14.5861 ,14.5039,14.5029,14.5014,14.4999, 14.4973,14.4933,14.4936,14.4943,14.7807 ,15.0684,15.3516,15.6361,15.9197, 16.1976,16.476,16.8902,17.299,17.5728, 17.8408,18.1096,18.5132,18.777,19.1723, 19.4355,19.6943,19.9538,20.2134,20.5975 ,20.8518,21.1067,21.3617,21.6101, 21.8593,22.1087,22.4823,22.8483,23.0925 ,23.3372,23.5824,24.0608,24.5401, 24.7803,25.0207,25.2613,25.5021,25.7437 ,26.1057,26.3474,26.5894,26.953,27.1964 ,27.3173,27.3781)
FOOTPRINT_POINT_LONGITUDE = (344.954,344.346,343.907,343.496, 343.483,343.468,343.468,343.468,343.468 ,343.468,343.468,343.467,343.466, 343.464,343.461,343.457,343.455,343.454 ,343.452,343.449,343.446,343.442,343.44 ,343.436,343.433,343.43,343.425,343.423 ,343.417,343.412,343.406,343.402, 343.395,343.388,343.382,343.376,343.37, 343.364,343.358,343.352,343.344,343.337 ,343.333,343.326,343.319,343.308, 343.304,343.302,343.572,343.912,344.167 ,344.558,345.106,345.124,345.129, 345.123,345.12,345.116,345.116,345.114, 345.111,345.108,345.103,345.095,345.092 ,345.088,345.085,345.082,345.079, 345.073,345.07,345.067,345.065,345.062, 345.058,345.055,345.053,345.05,345.046, 345.043,345.04,345.035,345.03,345.026, 345.023,345.021,345.015,345.009,345.006 ,345.004,345.001,344.998,344.996, 344.991,344.987,344.984,344.98,344.978, 344.975,344.954)
ORBIT_NUMBER = 3308
ORBITAL_ECCENTRICITY = 0.567
ORBITAL_INCLINATION = 86.68
ORBITAL_SEMIMAJOR_AXIS = 8578.18
PERIAPSIS_ALTITUDE = 329.11
PERIAPSIS_ARGUMENT_ANGLE = 136.4
PERIAPSIS_TIME = 2006-08-06T22:41:54.000Z
SPACECRAFT_ORIENTATION = (0.0,-1.0,0.0)
^MEX_ORIENTATION_DESC = "MEX_ORIENTATION_DESC.TXT"
SPACECRAFT_POINTING_MODE = ACROSSTRACK
^MEX_POINTING_DESC = "MEX_POINTING_DESC.TXT"
RIGHT_ASCENSION = -1e+32
DECLINATION = -1e+32
OFFSET_ANGLE = 0.18
SPACECRAFT_SOLAR_DISTANCE = 2.47934e+08
TARGET_NAME = MARS
/* CAMERA DATA ELEMENTS */
DETECTOR_TEMPERATURE = 18.3705
FOCAL_PLANE_TEMPERATURE = 7.9716
INST_CMPRS_NAME = "DISCRETE COSINE TRANSFORMATION (DCT)"
INST_CMPRS_RATIO = 19.1404
INST_CMPRS_QUALITY = 0
INST_CMPRS_QUANTZ_TBL_ID = 0
INSTRUMENT_TEMPERATURE = 11.234
LENS_TEMPERATURE = 7.9716
MACROPIXEL_SIZE = 4
MISSING_FRAMES = 0
PIXEL_SUBSAMPLING_FLAG = N
SIGNAL_CHAIN_ID = 2
/* RADIOMETRIC DATA ELEMENTS */
BANDWIDTH = 76.0
CENTER_FILTER_WAVELENGTH = 444.0
RADIANCE_OFFSET = 0.931252
RADIANCE_SCALING_FACTOR = 0.00219998
REFLECTANCE_SCALING_FACTOR = 0.000138946
MEX:REFLECTANCE_OFFSET = 0.058816
/* IMAGE OBJECT DEFINITIONS */
OBJECT = IMAGE
  INTERCHANGE_FORMAT = BINARY
  LINES = 15292
  LINE_SAMPLES = 2085
  SAMPLE_TYPE = UNSIGNED_INTEGER
  SAMPLE_BITS = 8
  BANDS = 1
  BAND_STORAGE_TYPE = BAND_SEQUENTIAL
  MAXIMUM = 255
  MEAN = 129.311
  MINIMUM = 1
  STANDARD_DEVIATION = 40.311
END_OBJECT = IMAGE
/* MAP OBJECT DEFINITIONS */
OBJECT = IMAGE_MAP_PROJECTION
  ^DATA_SET_MAP_PROJECTION_CATALOG= "DSMAP.CAT"
  A_AXIS_RADIUS = 3396.0
  B_AXIS_RADIUS = 3396.0
  C_AXIS_RADIUS = 3396.0
  CENTER_LATITUDE = 0.0
  CENTER_LONGITUDE = 344.0
  COORDINATE_SYSTEM_NAME = PLANETOGRAPHIC
  COORDINATE_SYSTEM_TYPE = "BODY-FIXED ROTATING"
  EASTERNMOST_LONGITUDE = 345.129
  FIRST_STANDARD_PARALLEL = "N/A"
  LINE_FIRST_PIXEL = 1
  LINE_LAST_PIXEL = 15292
  LINE_PROJECTION_OFFSET = 32474.375
  MAP_PROJECTION_ROTATION = 0.0
  MAP_PROJECTION_TYPE = SINUSOIDAL
  MAP_RESOLUTION = 1185.42760773333
  MAP_SCALE = 0.05
  MAXIMUM_LATITUDE = 27.3781
  MINIMUM_LATITUDE = 14.4933
  POSITIVE_LONGITUDE_DIRECTION = EAST
  REFERENCE_LATITUDE = "N/A"
  REFERENCE_LONGITUDE = "N/A"
  SAMPLE_FIRST_PIXEL = 1
  SAMPLE_LAST_PIXEL = 2085
  SAMPLE_PROJECTION_OFFSET = 800.125
  SECOND_STANDARD_PARALLEL = "N/A"
  WESTERNMOST_LONGITUDE = 343.302
END_OBJECT = IMAGE_MAP_PROJECTION
END
