PDS_VERSION_ID = PDS3
/* FILE DATA ELEMENTS */
RECORD_TYPE = UNDEFINED
/* POINTERS TO DATA OBJECTS */
^IMAGE = ("H3297_0000_RE4.TIF")
/* IDENTIFICATION DATA ELEMENTS */
DATA_SET_ID = "MEX-M-HRSC-4-REFDR-MAPPROJECT-EXT1-V4.0"
DATA_SET_NAME = "MARS EXPRESS HRSC MAP PROJECTED REFDR EXTENSION1 V4.0"
DETECTOR_ID = MEX_HRSC_RED
EVENT_TYPE = "MARS-REGIONAL-MAPPING-Im-La-Ts"
INSTRUMENT_HOST_ID = MEX
INSTRUMENT_HOST_NAME = "MARS EXPRESS"
INSTRUMENT_ID = HRSC
INSTRUMENT_NAME = "HIGH RESOLUTION STEREO CAMERA"
MISSION_NAME = "MARS EXPRESS"
MISSION_PHASE_NAME = ME_Phase_3
PROCESSING_LEVEL_ID = 4
PRODUCT_CREATION_TIME = 2023-02-09T11:24:25.000Z
PRODUCT_ID = "H3297_0000_RE4.TIF"
RELEASE_ID = 0003
REVISION_ID = 0000
/* QUALITY DATA ELEMENTS */
DATA_QUALITY_ID = 1
DATA_QUALITY_DESC = "Data calculated based on original SPICE kernels"
/* TIME DATA ELEMENTS */
SPACECRAFT_CLOCK_START_COUNT = "1/0102718156.08246"
SPACECRAFT_CLOCK_STOP_COUNT = "1/0102718484.61033"
START_TIME = 2006-08-03T20:50:22.988Z
STOP_TIME = 2006-08-03T20:54:37.667Z
/* ORBITAL DATA ELEMENTS */
ASCENDING_NODE_LONGITUDE = 159.06
MAXIMUM_RESOLUTION = 0.0647
FOOTPRINT_POINT_LATITUDE = (26.4554,26.451,26.4471,26.4398,26.4396 ,26.4764,26.0647,25.516,25.2441,24.8357 ,24.564,24.1577,23.4836,22.943,22.6683, 22.2635,21.9887,21.7085,21.2889,21.009, 20.7244,20.2956,20.0115,19.7245,19.4354 ,19.1465,18.8638,18.5687,18.2648, 17.9687,17.6707,17.3739,16.9266,16.6241 ,16.3166,16.0091,15.6995,15.3793, 15.0682,14.5932,14.2765,13.955,13.6335, 13.308,12.983,12.6522,12.3232,11.9881, 11.8208,11.7574,11.7546,11.751,11.7488, 11.7483,11.7503,11.7515,12.0838,12.4175 ,12.7479,13.2406,13.7255,14.2136, 14.5381,14.8561,15.1705,15.4869,15.7986 ,16.1081,16.4167,16.7188,17.0104, 17.3167,17.618,17.917,18.2169,18.5119, 18.9546,19.3925,19.6807,19.9705,20.2531 ,20.6796,20.9646,21.2431,21.6622, 21.9419,22.3536,22.6281,22.9063,23.1799 ,23.7141,24.2553,24.5261,24.7979, 25.2072,25.4798,25.7583,26.3013,26.4395 ,26.4554)
FOOTPRINT_POINT_LONGITUDE = (346.2,345.741,345.367,344.732,344.718, 344.702,344.702,344.702,344.701,344.7, 344.698,344.696,344.692,344.688,344.685 ,344.679,344.677,344.674,344.669, 344.666,344.663,344.658,344.654,344.649 ,344.644,344.639,344.631,344.626, 344.624,344.618,344.612,344.606,344.594 ,344.587,344.58,344.573,344.566,344.561 ,344.552,344.54,344.531,344.522,344.513 ,344.504,344.494,344.484,344.474, 344.463,344.458,344.456,344.893,345.405 ,345.809,346.398,346.417,346.423, 346.417,346.412,346.406,346.399,346.391 ,346.386,346.384,346.379,346.374, 346.371,346.366,346.363,346.358,346.353 ,346.343,346.34,346.337,346.333,346.329 ,346.326,346.32,346.316,346.311,346.307 ,346.303,346.297,346.293,346.289, 346.284,346.279,346.274,346.27,346.268, 346.264,346.255,346.248,346.244,346.241 ,346.235,346.232,346.23,346.22,346.219, 346.2)
ORBIT_NUMBER = 3297
ORBITAL_ECCENTRICITY = 0.567
ORBITAL_INCLINATION = 86.68
ORBITAL_SEMIMAJOR_AXIS = 8581.34
PERIAPSIS_ALTITUDE = 328.12
PERIAPSIS_ARGUMENT_ANGLE = 138.35
PERIAPSIS_TIME = 2006-08-03T20:46:00.000Z
SPACECRAFT_ORIENTATION = (0.0,-1.0,0.0)
^MEX_ORIENTATION_DESC = "MEX_ORIENTATION_DESC.TXT"
SPACECRAFT_POINTING_MODE = ACROSSTRACK
^MEX_POINTING_DESC = "MEX_POINTING_DESC.TXT"
RIGHT_ASCENSION = -1e+32
DECLINATION = -1e+32
OFFSET_ANGLE = 0.15
SPACECRAFT_SOLAR_DISTANCE = 2.48117e+08
TARGET_NAME = MARS
/* CAMERA DATA ELEMENTS */
DETECTOR_TEMPERATURE = 18.3705
FOCAL_PLANE_TEMPERATURE = 8.1755
INST_CMPRS_NAME = "DISCRETE COSINE TRANSFORMATION (DCT)"
INST_CMPRS_RATIO = 15.6704
INST_CMPRS_QUALITY = 0
INST_CMPRS_QUANTZ_TBL_ID = 0
INSTRUMENT_TEMPERATURE = 11.0301
LENS_TEMPERATURE = 8.3794
MACROPIXEL_SIZE = 4
MISSING_FRAMES = 0
PIXEL_SUBSAMPLING_FLAG = N
SIGNAL_CHAIN_ID = 2
/* RADIOMETRIC DATA ELEMENTS */
BANDWIDTH = 48.0
CENTER_FILTER_WAVELENGTH = 748.0
RADIANCE_OFFSET = 0.85295
RADIANCE_SCALING_FACTOR = 0.00849786
REFLECTANCE_SCALING_FACTOR = 0.00119385
MEX:REFLECTANCE_OFFSET = 0.11983
/* IMAGE OBJECT DEFINITIONS */
OBJECT = IMAGE
  INTERCHANGE_FORMAT = BINARY
  LINES = 17488
  LINE_SAMPLES = 2123
  SAMPLE_TYPE = UNSIGNED_INTEGER
  SAMPLE_BITS = 8
  BANDS = 1
  BAND_STORAGE_TYPE = BAND_SEQUENTIAL
  MAXIMUM = 255
  MEAN = 147.977
  MINIMUM = 1
  STANDARD_DEVIATION = 40.6127
END_OBJECT = IMAGE
/* MAP OBJECT DEFINITIONS */
OBJECT = IMAGE_MAP_PROJECTION
  ^DATA_SET_MAP_PROJECTION_CATALOG= "DSMAP.CAT"
  A_AXIS_RADIUS = 3396.0
  B_AXIS_RADIUS = 3396.0
  C_AXIS_RADIUS = 3396.0
  CENTER_LATITUDE = 0.0
  CENTER_LONGITUDE = 345.0
  COORDINATE_SYSTEM_NAME = PLANETOGRAPHIC
  COORDINATE_SYSTEM_TYPE = "BODY-FIXED ROTATING"
  EASTERNMOST_LONGITUDE = 346.423
  FIRST_STANDARD_PARALLEL = "N/A"
  LINE_FIRST_PIXEL = 1
  LINE_LAST_PIXEL = 17488
  LINE_PROJECTION_OFFSET = 31381.375
  MAP_PROJECTION_ROTATION = 0.0
  MAP_PROJECTION_TYPE = SINUSOIDAL
  MAP_RESOLUTION = 1185.42760773333
  MAP_SCALE = 0.05
  MAXIMUM_LATITUDE = 26.4764
  MINIMUM_LATITUDE = 11.7483
  POSITIVE_LONGITUDE_DIRECTION = EAST
  REFERENCE_LATITUDE = "N/A"
  REFERENCE_LONGITUDE = "N/A"
  SAMPLE_FIRST_PIXEL = 1
  SAMPLE_LAST_PIXEL = 2123
  SAMPLE_PROJECTION_OFFSET = 557.125
  SECOND_STANDARD_PARALLEL = "N/A"
  WESTERNMOST_LONGITUDE = 344.456
END_OBJECT = IMAGE_MAP_PROJECTION
END
