PDS_VERSION_ID = PDS3
/* FILE DATA ELEMENTS */
RECORD_TYPE = UNDEFINED
/* POINTERS TO DATA OBJECTS */
^IMAGE = ("H3293_0000_ND4.TIF")
/* IDENTIFICATION DATA ELEMENTS */
DATA_SET_ID = "MEX-M-HRSC-4-REFDR-MAPPROJECT-EXT1-V4.0"
DATA_SET_NAME = "MARS EXPRESS HRSC MAP PROJECTED REFDR EXTENSION1 V4.0"
DETECTOR_ID = MEX_HRSC_NADIR
EVENT_TYPE = "MARS-REGIONAL-MAPPING-Te-Pf-Mw"
INSTRUMENT_HOST_ID = MEX
INSTRUMENT_HOST_NAME = "MARS EXPRESS"
INSTRUMENT_ID = HRSC
INSTRUMENT_NAME = "HIGH RESOLUTION STEREO CAMERA"
MISSION_NAME = "MARS EXPRESS"
MISSION_PHASE_NAME = ME_Phase_3
PROCESSING_LEVEL_ID = 4
PRODUCT_CREATION_TIME = 2023-02-09T11:24:25.000Z
PRODUCT_ID = "H3293_0000_ND4.TIF"
RELEASE_ID = 0003
REVISION_ID = 0000
/* QUALITY DATA ELEMENTS */
DATA_QUALITY_ID = 1
DATA_QUALITY_DESC = "Data calculated based on original SPICE kernels"
/* TIME DATA ELEMENTS */
SPACECRAFT_CLOCK_START_COUNT = "1/0102621040.08241"
SPACECRAFT_CLOCK_STOP_COUNT = "1/0102621279.22543"
START_TIME = 2006-08-02T17:51:16.383Z
STOP_TIME = 2006-08-02T17:54:12.382Z
/* ORBITAL DATA ELEMENTS */
ASCENDING_NODE_LONGITUDE = 159.14
MAXIMUM_RESOLUTION = 0.0132
FOOTPRINT_POINT_LATITUDE = (47.5209,47.5101,47.4935,47.4703, 47.4697,47.4693,47.1146,46.8857,46.6567 ,46.4276,46.1984,45.9691,45.7398, 45.5104,45.2809,44.9366,44.5922,44.3625 ,44.1327,43.9029,43.673,43.4432,43.2132 ,42.9833,42.7533,42.5232,42.2931, 42.0631,41.8329,41.6028,41.3726,41.1425 ,40.9132,40.5552,39.9989,39.5538, 39.1088,38.6509,38.3058,37.9607,37.7306 ,37.5007,37.2707,37.0407,36.6959,36.466 ,36.1214,36.0065,35.9994,36.0077, 36.0135,36.0184,36.0249,36.0251,36.0254 ,36.2556,36.4858,36.716,36.9465,37.292, 37.5222,37.7527,37.9832,38.2137,38.4442 ,38.6748,38.9054,39.357,39.803,40.249, 40.5835,40.9422,41.1718,41.5176,41.8638 ,42.0946,42.3253,42.5559,42.9017, 43.1323,43.3629,43.5934,43.8239,44.0543 ,44.2848,44.5151,44.7454,44.9757, 45.2059,45.5511,45.7812,46.0112,46.2412 ,46.4712,46.701,46.9307,47.1605,47.3975 ,47.5161,47.5209)
FOOTPRINT_POINT_LONGITUDE = (18.5703,18.1359,17.5673,16.8977, 16.8809,16.8307,16.8629,16.8832,16.9028 ,16.9221,16.9418,16.9606,16.9791, 16.9972,17.016,17.0415,17.067,17.0833, 17.0995,17.1156,17.1314,17.1468,17.163, 17.1769,17.1915,17.2063,17.22,17.2338, 17.2472,17.2607,17.2752,17.2892,17.3017 ,17.3189,17.348,17.3703,17.3908,17.4117 ,17.4273,17.4403,17.4498,17.4563, 17.4654,17.4744,17.4894,17.4968,17.5093 ,17.5127,17.5129,17.8829,18.1807, 18.4641,18.9312,18.9454,18.9523,18.9473 ,18.9421,18.9368,18.9341,18.9265,18.918 ,18.9127,18.9071,18.9017,18.8959, 18.8903,18.8845,18.8757,18.8643,18.8523 ,18.8429,18.832,18.8248,18.8125,18.8041 ,18.7993,18.7922,18.7849,18.773,18.7661 ,18.759,18.7514,18.7437,18.7361,18.7287 ,18.7206,18.7122,18.7044,18.6959,18.682 ,18.6738,18.6653,18.6567,18.6483, 18.6393,18.6297,18.6208,18.611,18.606, 18.5703)
ORBIT_NUMBER = 3293
ORBITAL_ECCENTRICITY = 0.567
ORBITAL_INCLINATION = 86.67
ORBITAL_SEMIMAJOR_AXIS = 8586.49
PERIAPSIS_ALTITUDE = 327.81
PERIAPSIS_ARGUMENT_ANGLE = 139.08
PERIAPSIS_TIME = 2006-08-02T17:52:58.000Z
SPACECRAFT_ORIENTATION = (0.0,-1.0,0.0)
^MEX_ORIENTATION_DESC = "MEX_ORIENTATION_DESC.TXT"
SPACECRAFT_POINTING_MODE = ACROSSTRACK
^MEX_POINTING_DESC = "MEX_POINTING_DESC.TXT"
RIGHT_ASCENSION = -1e+32
DECLINATION = -1e+32
OFFSET_ANGLE = -0.05
SPACECRAFT_SOLAR_DISTANCE = 2.48181e+08
TARGET_NAME = MARS
/* CAMERA DATA ELEMENTS */
DETECTOR_TEMPERATURE = 17.9627
FOCAL_PLANE_TEMPERATURE = 7.3599
INST_CMPRS_NAME = "DISCRETE COSINE TRANSFORMATION (DCT)"
INST_CMPRS_RATIO = 7.35453
INST_CMPRS_QUALITY = 0
INST_CMPRS_QUANTZ_TBL_ID = 0
INSTRUMENT_TEMPERATURE = 10.8262
LENS_TEMPERATURE = 7.7677
MACROPIXEL_SIZE = 1
MISSING_FRAMES = 15
PIXEL_SUBSAMPLING_FLAG = N
SIGNAL_CHAIN_ID = 0
/* RADIOMETRIC DATA ELEMENTS */
BANDWIDTH = 177.0
CENTER_FILTER_WAVELENGTH = 677.5
RADIANCE_OFFSET = 3.92117
RADIANCE_SCALING_FACTOR = 0.0244387
REFLECTANCE_SCALING_FACTOR = 0.000799646
MEX:REFLECTANCE_OFFSET = 0.128303
/* IMAGE OBJECT DEFINITIONS */
OBJECT = IMAGE
  INTERCHANGE_FORMAT = BINARY
  LINES = 54650
  LINE_SAMPLES = 7390
  SAMPLE_TYPE = UNSIGNED_INTEGER
  SAMPLE_BITS = 8
  BANDS = 1
  BAND_STORAGE_TYPE = BAND_SEQUENTIAL
  MAXIMUM = 255
  MEAN = 154.161
  MINIMUM = 1
  STANDARD_DEVIATION = 22.8559
END_OBJECT = IMAGE
/* MAP OBJECT DEFINITIONS */
OBJECT = IMAGE_MAP_PROJECTION
  ^DATA_SET_MAP_PROJECTION_CATALOG= "DSMAP.CAT"
  A_AXIS_RADIUS = 3396.0
  B_AXIS_RADIUS = 3396.0
  C_AXIS_RADIUS = 3396.0
  CENTER_LATITUDE = 0.0
  CENTER_LONGITUDE = 18.0
  COORDINATE_SYSTEM_NAME = PLANETOGRAPHIC
  COORDINATE_SYSTEM_TYPE = "BODY-FIXED ROTATING"
  EASTERNMOST_LONGITUDE = 18.9523
  FIRST_STANDARD_PARALLEL = "N/A"
  LINE_FIRST_PIXEL = 1
  LINE_LAST_PIXEL = 54650
  LINE_PROJECTION_OFFSET = 225344.0
  MAP_PROJECTION_ROTATION = 0.0
  MAP_PROJECTION_TYPE = SINUSOIDAL
  MAP_RESOLUTION = 4741.71043093333
  MAP_SCALE = 0.0125
  MAXIMUM_LATITUDE = 47.5209
  MINIMUM_LATITUDE = 35.9994
  POSITIVE_LONGITUDE_DIRECTION = EAST
  REFERENCE_LATITUDE = "N/A"
  REFERENCE_LONGITUDE = "N/A"
  SAMPLE_FIRST_PIXEL = 1
  SAMPLE_LAST_PIXEL = 7390
  SAMPLE_PROJECTION_OFFSET = 3738.0
  SECOND_STANDARD_PARALLEL = "N/A"
  WESTERNMOST_LONGITUDE = 16.8307
END_OBJECT = IMAGE_MAP_PROJECTION
END
