PDS_VERSION_ID = PDS3
/* FILE DATA ELEMENTS */
RECORD_TYPE = UNDEFINED
/* POINTERS TO DATA OBJECTS */
^IMAGE = ("H3289_0000_S24.TIF")
/* IDENTIFICATION DATA ELEMENTS */
DATA_SET_ID = "MEX-M-HRSC-4-REFDR-MAPPROJECT-EXT1-V4.0"
DATA_SET_NAME = "MARS EXPRESS HRSC MAP PROJECTED REFDR EXTENSION1 V4.0"
DETECTOR_ID = MEX_HRSC_S2
EVENT_TYPE = "MARS-REGIONAL-MAPPING-Te-Pf-Mw"
INSTRUMENT_HOST_ID = MEX
INSTRUMENT_HOST_NAME = "MARS EXPRESS"
INSTRUMENT_ID = HRSC
INSTRUMENT_NAME = "HIGH RESOLUTION STEREO CAMERA"
MISSION_NAME = "MARS EXPRESS"
MISSION_PHASE_NAME = ME_Phase_3
PROCESSING_LEVEL_ID = 4
PRODUCT_CREATION_TIME = 2023-02-09T11:24:25.000Z
PRODUCT_ID = "H3289_0000_S24.TIF"
RELEASE_ID = 0003
REVISION_ID = 0000
/* QUALITY DATA ELEMENTS */
DATA_QUALITY_ID = 1
DATA_QUALITY_DESC = "Data calculated based on original SPICE kernels"
/* TIME DATA ELEMENTS */
SPACECRAFT_CLOCK_START_COUNT = "1/0102524216.08250"
SPACECRAFT_CLOCK_STOP_COUNT = "1/0102524436.42005"
START_TIME = 2006-08-01T14:58:04.435Z
STOP_TIME = 2006-08-01T15:00:39.761Z
/* ORBITAL DATA ELEMENTS */
ASCENDING_NODE_LONGITUDE = 159.21
MAXIMUM_RESOLUTION = 0.0279
FOOTPRINT_POINT_LATITUDE = (49.3887,49.3711,49.3569,49.3374, 49.3368,49.424,49.2091,48.995,48.6735, 48.4619,48.2548,48.0466,47.7347,47.5272 ,47.3172,47.0111,46.8018,46.5876, 46.3856,46.1781,45.9671,45.6631,45.4581 ,45.2523,45.0451,44.839,44.6332,44.4264 ,44.2209,43.9118,43.7055,43.4964,43.295 ,42.9968,42.7972,42.5978,42.394,42.1881 ,41.8998,41.5054,41.3049,41.0954, 40.7038,40.5009,40.1075,39.9098,39.6142 ,39.3177,39.2191,39.2055,39.2151, 39.2215,39.2276,39.2325,39.2328,39.2332 ,39.5298,39.7266,39.9345,40.1383, 40.5187,40.7279,40.9308,41.3247,41.7149 ,41.9219,42.3199,42.5174,42.7165, 43.1102,43.3099,43.5189,43.7264,44.0358 ,44.2427,44.4454,44.6578,44.8617, 45.1753,45.3835,45.6941,45.9012,46.1086 ,46.3163,46.5231,46.728,46.937,47.1449, 47.3524,47.5619,47.7688,48.077,48.2899, 48.4981,48.7097,48.9249,49.1398,49.355, 49.4624,49.3887)
FOOTPRINT_POINT_LONGITUDE = (51.756,51.0833,50.6008,49.9974,49.9802 ,49.9262,49.9483,49.9697,50.0012, 50.0215,50.041,50.0607,50.0896,50.1083, 50.128,50.1523,50.1709,50.1918,50.2061, 50.223,50.2414,50.2622,50.2771,50.292, 50.3074,50.3221,50.3364,50.351,50.3647, 50.3853,50.3989,50.4137,50.4246,50.4426 ,50.4551,50.4672,50.4812,50.496,50.5084 ,50.5291,50.5407,50.5561,50.5743, 50.5863,50.6045,50.6139,50.6273,50.6407 ,50.645,50.6456,51.0782,51.4389,51.7998 ,52.1174,52.1318,52.137,52.1295,52.1241 ,52.1226,52.1195,52.1032,52.1018,52.098 ,52.0858,52.0718,52.0691,52.0573, 52.0508,52.0447,52.0305,52.0243,52.0187 ,52.0124,52.0021,51.9953,51.9868, 51.9819,51.9736,51.9639,51.957,51.9457, 51.9381,51.9304,51.9228,51.9146,51.9057 ,51.8981,51.89,51.8817,51.8739,51.865, 51.8506,51.8438,51.835,51.8257,51.8163, 51.8067,51.797,51.792,51.756)
ORBIT_NUMBER = 3289
ORBITAL_ECCENTRICITY = 0.568
ORBITAL_INCLINATION = 86.68
ORBITAL_SEMIMAJOR_AXIS = 8590.35
PERIAPSIS_ALTITUDE = 327.07
PERIAPSIS_ARGUMENT_ANGLE = 139.81
PERIAPSIS_TIME = 2006-08-01T14:59:56.000Z
SPACECRAFT_ORIENTATION = (0.0,-1.0,0.0)
^MEX_ORIENTATION_DESC = "MEX_ORIENTATION_DESC.TXT"
SPACECRAFT_POINTING_MODE = NADIR
^MEX_POINTING_DESC = "MEX_POINTING_DESC.TXT"
RIGHT_ASCENSION = -1e+32
DECLINATION = -1e+32
OFFSET_ANGLE = -1e+32
SPACECRAFT_SOLAR_DISTANCE = 2.48242e+08
TARGET_NAME = MARS
/* CAMERA DATA ELEMENTS */
DETECTOR_TEMPERATURE = 18.5744
FOCAL_PLANE_TEMPERATURE = 8.1755
INST_CMPRS_NAME = "DISCRETE COSINE TRANSFORMATION (DCT)"
INST_CMPRS_RATIO = 12.0881
INST_CMPRS_QUALITY = 0
INST_CMPRS_QUANTZ_TBL_ID = 0
INSTRUMENT_TEMPERATURE = 11.234
LENS_TEMPERATURE = 8.5833
MACROPIXEL_SIZE = 2
MISSING_FRAMES = 0
PIXEL_SUBSAMPLING_FLAG = N
SIGNAL_CHAIN_ID = 1
/* RADIOMETRIC DATA ELEMENTS */
BANDWIDTH = 178.0
CENTER_FILTER_WAVELENGTH = 679.0
RADIANCE_OFFSET = 3.70147
RADIANCE_SCALING_FACTOR = 0.0301771
REFLECTANCE_SCALING_FACTOR = 0.000984823
MEX:REFLECTANCE_OFFSET = 0.120797
/* IMAGE OBJECT DEFINITIONS */
OBJECT = IMAGE
  INTERCHANGE_FORMAT = BINARY
  LINES = 24360
  LINE_SAMPLES = 3747
  SAMPLE_TYPE = UNSIGNED_INTEGER
  SAMPLE_BITS = 8
  BANDS = 1
  BAND_STORAGE_TYPE = BAND_SEQUENTIAL
  MAXIMUM = 255
  MEAN = 174.168
  MINIMUM = 1
  STANDARD_DEVIATION = 20.5019
END_OBJECT = IMAGE
/* MAP OBJECT DEFINITIONS */
OBJECT = IMAGE_MAP_PROJECTION
  ^DATA_SET_MAP_PROJECTION_CATALOG= "DSMAP.CAT"
  A_AXIS_RADIUS = 3396.0
  B_AXIS_RADIUS = 3396.0
  C_AXIS_RADIUS = 3396.0
  CENTER_LATITUDE = 0.0
  CENTER_LONGITUDE = 51.0
  COORDINATE_SYSTEM_NAME = PLANETOGRAPHIC
  COORDINATE_SYSTEM_TYPE = "BODY-FIXED ROTATING"
  EASTERNMOST_LONGITUDE = 52.137
  FIRST_STANDARD_PARALLEL = "N/A"
  LINE_FIRST_PIXEL = 1
  LINE_LAST_PIXEL = 24360
  LINE_PROJECTION_OFFSET = 117292.75
  MAP_PROJECTION_ROTATION = 0.0
  MAP_PROJECTION_TYPE = SINUSOIDAL
  MAP_RESOLUTION = 2370.85521546667
  MAP_SCALE = 0.025
  MAXIMUM_LATITUDE = 49.4624
  MINIMUM_LATITUDE = 39.2055
  POSITIVE_LONGITUDE_DIRECTION = EAST
  REFERENCE_LATITUDE = "N/A"
  REFERENCE_LONGITUDE = "N/A"
  SAMPLE_FIRST_PIXEL = 1
  SAMPLE_LAST_PIXEL = 3747
  SAMPLE_PROJECTION_OFFSET = 1677.25
  SECOND_STANDARD_PARALLEL = "N/A"
  WESTERNMOST_LONGITUDE = 49.9262
END_OBJECT = IMAGE_MAP_PROJECTION
END
