PDS_VERSION_ID = PDS3
/* FILE DATA ELEMENTS */
RECORD_TYPE = UNDEFINED
/* POINTERS TO DATA OBJECTS */
^IMAGE = ("H3289_0000_RE4.TIF")
/* IDENTIFICATION DATA ELEMENTS */
DATA_SET_ID = "MEX-M-HRSC-4-REFDR-MAPPROJECT-EXT1-V4.0"
DATA_SET_NAME = "MARS EXPRESS HRSC MAP PROJECTED REFDR EXTENSION1 V4.0"
DETECTOR_ID = MEX_HRSC_RED
EVENT_TYPE = "MARS-REGIONAL-MAPPING-Te-Pf-Mw"
INSTRUMENT_HOST_ID = MEX
INSTRUMENT_HOST_NAME = "MARS EXPRESS"
INSTRUMENT_ID = HRSC
INSTRUMENT_NAME = "HIGH RESOLUTION STEREO CAMERA"
MISSION_NAME = "MARS EXPRESS"
MISSION_PHASE_NAME = ME_Phase_3
PROCESSING_LEVEL_ID = 4
PRODUCT_CREATION_TIME = 2023-02-09T11:24:25.000Z
PRODUCT_ID = "H3289_0000_RE4.TIF"
RELEASE_ID = 0003
REVISION_ID = 0000
/* QUALITY DATA ELEMENTS */
DATA_QUALITY_ID = 1
DATA_QUALITY_DESC = "Data calculated based on original SPICE kernels"
/* TIME DATA ELEMENTS */
SPACECRAFT_CLOCK_START_COUNT = "1/0102524216.08250"
SPACECRAFT_CLOCK_STOP_COUNT = "1/0102524436.42005"
START_TIME = 2006-08-01T14:57:59.399Z
STOP_TIME = 2006-08-01T15:00:34.882Z
/* ORBITAL DATA ELEMENTS */
ASCENDING_NODE_LONGITUDE = 159.21
MAXIMUM_RESOLUTION = 0.1095
FOOTPRINT_POINT_LATITUDE = (49.3894,49.378,49.3603,49.338,49.3374, 49.4079,49.0886,48.8752,48.6629,48.4504 ,48.2378,48.0303,47.8233,47.6174, 47.4106,47.2021,47.0011,46.7934,46.5802 ,46.3801,46.0695,45.8628,45.6614, 45.4575,45.2527,45.0467,44.8419,44.5345 ,44.3287,44.1245,43.9195,43.6102, 43.4041,43.2024,42.9982,42.7981,42.5993 ,42.3972,42.1922,41.8061,41.4114, 41.2102,40.9076,40.6145,40.4143,40.022, 39.8247,39.5297,39.3327,39.2344,39.1923 ,39.198,39.2093,39.2151,39.2197,39.2199 ,39.2217,39.5173,39.9213,40.1208, 40.5034,40.7101,40.9115,41.3046,41.6945 ,41.8994,42.2958,42.4928,42.8878, 43.0875,43.2932,43.5008,43.7072,44.0151 ,44.2209,44.4234,44.6334,44.8371, 45.0434,45.3554,45.6643,45.8702,46.0764 ,46.2829,46.4885,46.6926,46.9003, 47.1066,47.3128,47.5204,47.7268,48.033, 48.2437,48.4572,48.6704,48.8841,49.0974 ,49.311,49.4176,49.3894)
FOOTPRINT_POINT_LONGITUDE = (51.7534,51.3057,50.6927,50.0135, 49.9969,49.9425,49.975,49.9965,50.0169, 50.0372,50.0572,50.0766,50.0961,50.1146 ,50.1334,50.1529,50.1677,50.1862, 50.2076,50.2211,50.247,50.2636,50.277, 50.2917,50.3065,50.3219,50.3364,50.3578 ,50.3722,50.3856,50.3992,50.4201, 50.4339,50.4449,50.4572,50.4695,50.4818 ,50.4957,50.5109,50.5282,50.5494, 50.5618,50.5805,50.5939,50.6052,50.6232 ,50.6326,50.646,50.6549,50.6592,50.6611 ,50.9216,51.4875,51.819,52.1093,52.1231 ,52.1323,52.1249,52.1189,52.1148, 52.0989,52.0976,52.0938,52.0818,52.068, 52.0653,52.0537,52.0472,52.0344,52.027, 52.0207,52.0152,52.009,51.9988,51.9921, 51.9837,51.9788,51.9707,51.9638,51.9544 ,51.9433,51.9357,51.9282,51.9206, 51.9126,51.9037,51.8964,51.8883,51.8801 ,51.8723,51.8639,51.8495,51.8428, 51.8338,51.8245,51.8153,51.8058,51.7963 ,51.7914,51.7534)
ORBIT_NUMBER = 3289
ORBITAL_ECCENTRICITY = 0.568
ORBITAL_INCLINATION = 86.68
ORBITAL_SEMIMAJOR_AXIS = 8590.35
PERIAPSIS_ALTITUDE = 327.07
PERIAPSIS_ARGUMENT_ANGLE = 139.81
PERIAPSIS_TIME = 2006-08-01T14:59:56.000Z
SPACECRAFT_ORIENTATION = (0.0,-1.0,0.0)
^MEX_ORIENTATION_DESC = "MEX_ORIENTATION_DESC.TXT"
SPACECRAFT_POINTING_MODE = NADIR
^MEX_POINTING_DESC = "MEX_POINTING_DESC.TXT"
RIGHT_ASCENSION = -1e+32
DECLINATION = -1e+32
OFFSET_ANGLE = -1e+32
SPACECRAFT_SOLAR_DISTANCE = 2.48242e+08
TARGET_NAME = MARS
/* CAMERA DATA ELEMENTS */
DETECTOR_TEMPERATURE = 18.5744
FOCAL_PLANE_TEMPERATURE = 8.1755
INST_CMPRS_NAME = "DISCRETE COSINE TRANSFORMATION (DCT)"
INST_CMPRS_RATIO = 20.4254
INST_CMPRS_QUALITY = 0
INST_CMPRS_QUANTZ_TBL_ID = 0
INSTRUMENT_TEMPERATURE = 11.234
LENS_TEMPERATURE = 8.5833
MACROPIXEL_SIZE = 8
MISSING_FRAMES = 0
PIXEL_SUBSAMPLING_FLAG = N
SIGNAL_CHAIN_ID = 2
/* RADIOMETRIC DATA ELEMENTS */
BANDWIDTH = 48.0
CENTER_FILTER_WAVELENGTH = 748.0
RADIANCE_OFFSET = 1.01816
RADIANCE_SCALING_FACTOR = 0.00852515
REFLECTANCE_SCALING_FACTOR = 0.00119889
MEX:REFLECTANCE_OFFSET = 0.143184
/* IMAGE OBJECT DEFINITIONS */
OBJECT = IMAGE
  INTERCHANGE_FORMAT = BINARY
  LINES = 6090
  LINE_SAMPLES = 937
  SAMPLE_TYPE = UNSIGNED_INTEGER
  SAMPLE_BITS = 8
  BANDS = 1
  BAND_STORAGE_TYPE = BAND_SEQUENTIAL
  MAXIMUM = 255
  MEAN = 175.767
  MINIMUM = 1
  STANDARD_DEVIATION = 22.3725
END_OBJECT = IMAGE
/* MAP OBJECT DEFINITIONS */
OBJECT = IMAGE_MAP_PROJECTION
  ^DATA_SET_MAP_PROJECTION_CATALOG= "DSMAP.CAT"
  A_AXIS_RADIUS = 3396.0
  B_AXIS_RADIUS = 3396.0
  C_AXIS_RADIUS = 3396.0
  CENTER_LATITUDE = 0.0
  CENTER_LONGITUDE = 51.0
  COORDINATE_SYSTEM_NAME = PLANETOGRAPHIC
  COORDINATE_SYSTEM_TYPE = "BODY-FIXED ROTATING"
  EASTERNMOST_LONGITUDE = 52.1323
  FIRST_STANDARD_PARALLEL = "N/A"
  LINE_FIRST_PIXEL = 1
  LINE_LAST_PIXEL = 6090
  LINE_PROJECTION_OFFSET = 29322.8125
  MAP_PROJECTION_ROTATION = 0.0
  MAP_PROJECTION_TYPE = SINUSOIDAL
  MAP_RESOLUTION = 592.713803866667
  MAP_SCALE = 0.1
  MAXIMUM_LATITUDE = 49.4176
  MINIMUM_LATITUDE = 39.1923
  POSITIVE_LONGITUDE_DIRECTION = EAST
  REFERENCE_LATITUDE = "N/A"
  REFERENCE_LONGITUDE = "N/A"
  SAMPLE_FIRST_PIXEL = 1
  SAMPLE_LAST_PIXEL = 937
  SAMPLE_PROJECTION_OFFSET = 418.9375
  SECOND_STANDARD_PARALLEL = "N/A"
  WESTERNMOST_LONGITUDE = 49.9425
END_OBJECT = IMAGE_MAP_PROJECTION
END
