PDS_VERSION_ID = PDS3
/* FILE DATA ELEMENTS */
RECORD_TYPE = UNDEFINED
/* POINTERS TO DATA OBJECTS */
^IMAGE = ("H3286_0000_S14.TIF")
/* IDENTIFICATION DATA ELEMENTS */
DATA_SET_ID = "MEX-M-HRSC-4-REFDR-MAPPROJECT-EXT1-V4.0"
DATA_SET_NAME = "MARS EXPRESS HRSC MAP PROJECTED REFDR EXTENSION1 V4.0"
DETECTOR_ID = MEX_HRSC_S1
EVENT_TYPE = "MARS-REGIONAL-MAPPING-Im-Fl-La"
INSTRUMENT_HOST_ID = MEX
INSTRUMENT_HOST_NAME = "MARS EXPRESS"
INSTRUMENT_ID = HRSC
INSTRUMENT_NAME = "HIGH RESOLUTION STEREO CAMERA"
MISSION_NAME = "MARS EXPRESS"
MISSION_PHASE_NAME = ME_Phase_3
PROCESSING_LEVEL_ID = 4
PRODUCT_CREATION_TIME = 2023-02-09T11:24:25.000Z
PRODUCT_ID = "H3286_0000_S14.TIF"
RELEASE_ID = 0003
REVISION_ID = 0000
/* QUALITY DATA ELEMENTS */
DATA_QUALITY_ID = 1
DATA_QUALITY_DESC = "Data calculated based on original SPICE kernels"
/* TIME DATA ELEMENTS */
SPACECRAFT_CLOCK_START_COUNT = "1/0102451980.08266"
SPACECRAFT_CLOCK_STOP_COUNT = "1/0102452299.24072"
START_TIME = 2006-07-31T18:53:05.315Z
STOP_TIME = 2006-07-31T18:56:47.257Z
/* ORBITAL DATA ELEMENTS */
ASCENDING_NODE_LONGITUDE = 159.28
MAXIMUM_RESOLUTION = 0.03
FOOTPRINT_POINT_LATITUDE = (26.2633,26.2655,26.2649,26.2625, 26.2624,26.2217,25.8367,25.3413,24.8383 ,24.4611,24.2097,23.8279,23.572,23.071, 22.5741,22.3101,22.0097,21.7089,21.4094 ,21.1044,20.8043,20.5055,20.0571, 19.7543,19.3055,18.8562,18.5548,18.2635 ,17.9624,17.6681,17.3695,17.0689, 16.7735,16.4661,16.1602,15.8557,15.3999 ,15.0898,14.6209,14.3087,13.9899, 13.6684,13.1879,12.8548,12.5323,12.2059 ,11.8744,11.7073,11.6574,11.6569, 11.6513,11.6453,11.6393,11.6389,11.6394 ,12.1405,12.6313,12.9581,13.4434,13.926 ,14.2465,14.5592,14.8704,15.1717,15.481 ,15.7858,16.2462,16.5514,16.8513, 17.1614,17.6107,17.9088,18.2087,18.508, 18.806,19.1068,19.4003,19.7036,20.1542, 20.4538,20.7543,21.0553,21.5094,21.8094 ,22.1102,22.4056,22.6575,23.0358, 23.2882,23.5402,23.918,24.1692,24.4209, 24.7976,25.0505,25.3019,25.6803,26.059, 26.1856,26.2633)
FOOTPRINT_POINT_LONGITUDE = (347.356,346.831,346.412,346.02,346.007 ,345.993,345.993,345.996,345.998, 345.998,345.998,345.997,345.996,345.996 ,345.996,345.995,345.994,345.992, 345.991,345.989,345.987,345.985,345.982 ,345.978,345.974,345.97,345.966,345.964 ,345.96,345.958,345.954,345.95,345.947, 345.94,345.936,345.931,345.924,345.92, 345.911,345.906,345.9,345.893,345.883, 345.875,345.869,345.862,345.855,345.851 ,345.85,346.182,346.579,347.056,347.47, 347.486,347.491,347.488,347.484,347.482 ,347.478,347.474,347.471,347.469, 347.467,347.469,347.467,347.465,347.461 ,347.459,347.456,347.449,347.447, 347.445,347.442,347.439,347.438,347.435 ,347.435,347.431,347.427,347.424, 347.422,347.419,347.415,347.413,347.41, 347.408,347.405,347.402,347.4,347.397, 347.394,347.392,347.39,347.387,347.384, 347.382,347.378,347.375,347.373, 347.356)
ORBIT_NUMBER = 3286
ORBITAL_ECCENTRICITY = 0.567
ORBITAL_INCLINATION = 86.68
ORBITAL_SEMIMAJOR_AXIS = 8584.42
PERIAPSIS_ALTITUDE = 327.06
PERIAPSIS_ARGUMENT_ANGLE = 140.3
PERIAPSIS_TIME = 2006-07-31T18:50:11.000Z
SPACECRAFT_ORIENTATION = (0.0,-1.0,0.0)
^MEX_ORIENTATION_DESC = "MEX_ORIENTATION_DESC.TXT"
SPACECRAFT_POINTING_MODE = ACROSSTRACK
^MEX_POINTING_DESC = "MEX_POINTING_DESC.TXT"
RIGHT_ASCENSION = -1e+32
DECLINATION = -1e+32
OFFSET_ANGLE = 0.12
SPACECRAFT_SOLAR_DISTANCE = 2.48287e+08
TARGET_NAME = MARS
/* CAMERA DATA ELEMENTS */
DETECTOR_TEMPERATURE = 17.5549
FOCAL_PLANE_TEMPERATURE = 8.7872
INST_CMPRS_NAME = "DISCRETE COSINE TRANSFORMATION (DCT)"
INST_CMPRS_RATIO = 11.2982
INST_CMPRS_QUALITY = 0
INST_CMPRS_QUANTZ_TBL_ID = 0
INSTRUMENT_TEMPERATURE = 11.4379
LENS_TEMPERATURE = 9.195
MACROPIXEL_SIZE = 2
PIXEL_SUBSAMPLING_FLAG = N
SIGNAL_CHAIN_ID = 1
/* RADIOMETRIC DATA ELEMENTS */
BANDWIDTH = 180.0
CENTER_FILTER_WAVELENGTH = 677.0
RADIANCE_OFFSET = 3.56438
RADIANCE_SCALING_FACTOR = 0.0304409
REFLECTANCE_SCALING_FACTOR = 0.000979054
MEX:REFLECTANCE_OFFSET = 0.114639
/* IMAGE OBJECT DEFINITIONS */
OBJECT = IMAGE
  INTERCHANGE_FORMAT = BINARY
  LINES = 34565
  LINE_SAMPLES = 4039
  SAMPLE_TYPE = UNSIGNED_INTEGER
  SAMPLE_BITS = 8
  BANDS = 1
  BAND_STORAGE_TYPE = BAND_SEQUENTIAL
  MAXIMUM = 255
  MEAN = 142.852
  MINIMUM = 1
  STANDARD_DEVIATION = 42.8638
END_OBJECT = IMAGE
/* MAP OBJECT DEFINITIONS */
OBJECT = IMAGE_MAP_PROJECTION
  ^DATA_SET_MAP_PROJECTION_CATALOG= "DSMAP.CAT"
  A_AXIS_RADIUS = 3396.0
  B_AXIS_RADIUS = 3396.0
  C_AXIS_RADIUS = 3396.0
  CENTER_LATITUDE = 0.0
  CENTER_LONGITUDE = 347.0
  COORDINATE_SYSTEM_NAME = PLANETOGRAPHIC
  COORDINATE_SYSTEM_TYPE = "BODY-FIXED ROTATING"
  EASTERNMOST_LONGITUDE = 347.491
  FIRST_STANDARD_PARALLEL = "N/A"
  LINE_FIRST_PIXEL = 1
  LINE_LAST_PIXEL = 34565
  LINE_PROJECTION_OFFSET = 62233.25
  MAP_PROJECTION_ROTATION = 0.0
  MAP_PROJECTION_TYPE = SINUSOIDAL
  MAP_RESOLUTION = 2370.85521546667
  MAP_SCALE = 0.025
  MAXIMUM_LATITUDE = 26.2655
  MINIMUM_LATITUDE = 11.6389
  POSITIVE_LONGITUDE_DIRECTION = EAST
  REFERENCE_LATITUDE = "N/A"
  REFERENCE_LONGITUDE = "N/A"
  SAMPLE_FIRST_PIXEL = 1
  SAMPLE_LAST_PIXEL = 4039
  SAMPLE_PROJECTION_OFFSET = 2789.25
  SECOND_STANDARD_PARALLEL = "N/A"
  WESTERNMOST_LONGITUDE = 345.85
END_OBJECT = IMAGE_MAP_PROJECTION
END
