PDS_VERSION_ID = PDS3
/* FILE DATA ELEMENTS */
RECORD_TYPE = UNDEFINED
/* POINTERS TO DATA OBJECTS */
^IMAGE = ("H3275_0000_IR4.TIF")
/* IDENTIFICATION DATA ELEMENTS */
DATA_SET_ID = "MEX-M-HRSC-4-REFDR-MAPPROJECT-EXT1-V4.0"
DATA_SET_NAME = "MARS EXPRESS HRSC MAP PROJECTED REFDR EXTENSION1 V4.0"
DETECTOR_ID = MEX_HRSC_IR
EVENT_TYPE = "MARS-REGIONAL-MAPPING-Fl-Lc-La"
INSTRUMENT_HOST_ID = MEX
INSTRUMENT_HOST_NAME = "MARS EXPRESS"
INSTRUMENT_ID = HRSC
INSTRUMENT_NAME = "HIGH RESOLUTION STEREO CAMERA"
MISSION_NAME = "MARS EXPRESS"
MISSION_PHASE_NAME = ME_Phase_3
PROCESSING_LEVEL_ID = 4
PRODUCT_CREATION_TIME = 2023-02-09T11:24:25.000Z
PRODUCT_ID = "H3275_0000_IR4.TIF"
RELEASE_ID = 0003
REVISION_ID = 0000
/* QUALITY DATA ELEMENTS */
DATA_QUALITY_ID = 1
DATA_QUALITY_DESC = "Data calculated based on original SPICE kernels"
/* TIME DATA ELEMENTS */
SPACECRAFT_CLOCK_START_COUNT = "1/0102185862.09050"
SPACECRAFT_CLOCK_STOP_COUNT = "1/0102186099.38675"
START_TIME = 2006-07-28T16:57:52.707Z
STOP_TIME = 2006-07-28T17:00:23.363Z
/* ORBITAL DATA ELEMENTS */
ASCENDING_NODE_LONGITUDE = 159.51
MAXIMUM_RESOLUTION = 0.1207
FOOTPRINT_POINT_LATITUDE = (22.6086,22.6122,22.6146,22.6158, 22.6165,22.6169,22.6168,22.5876,22.3319 ,21.9058,21.6498,21.3095,21.0546, 20.8838,20.6282,20.3556,20.153,19.9505, 19.7481,19.5431,19.2413,19.0384,18.7339 ,18.5316,18.329,18.1263,17.9242,17.6221 ,17.4203,17.2211,17.0125,16.8058, 16.6033,16.4017,16.0997,15.8966,15.6933 ,15.496,15.2941,15.0939,14.897,14.593, 14.3887,14.0833,13.7745,13.5682,13.2507 ,12.9343,12.8292,12.7563,12.7528, 12.7495,12.7432,12.7363,12.7359,12.7379 ,13.0541,13.2645,13.5802,13.7865, 13.9925,14.199,14.4052,14.6116,14.8155, 15.1174,15.4194,15.6211,15.9243,16.1257 ,16.3279,16.6309,16.8322,17.0341, 17.2366,17.4389,17.6419,17.8444,18.1483 ,18.3502,18.5481,18.7481,18.9507, 19.1562,19.3651,19.5684,19.7671,19.9696 ,20.1726,20.4748,20.6478,20.9891, 21.1597,21.4996,21.8404,22.0114,22.182, 22.4386,22.524,22.6086)
FOOTPRINT_POINT_LONGITUDE = (348.69,348.374,348.084,347.883,347.683 ,347.37,347.358,347.344,347.344,347.342 ,347.341,347.34,347.339,347.338,347.336 ,347.334,347.333,347.332,347.33,347.328 ,347.326,347.324,347.321,347.319, 347.317,347.315,347.313,347.31,347.308, 347.306,347.302,347.298,347.295,347.292 ,347.288,347.285,347.281,347.279, 347.276,347.273,347.271,347.266,347.263 ,347.259,347.253,347.25,347.243,347.237 ,347.235,347.234,347.649,347.893, 348.298,348.748,348.763,348.772,348.77, 348.769,348.767,348.765,348.764,348.762 ,348.761,348.76,348.758,348.756,348.754 ,348.753,348.75,348.749,348.747,348.745 ,348.744,348.743,348.741,348.74,348.738 ,348.737,348.735,348.734,348.735, 348.735,348.733,348.731,348.726,348.725 ,348.726,348.724,348.723,348.72,348.717 ,348.715,348.713,348.712,348.709, 348.708,348.707,348.704,348.704,348.69)
ORBIT_NUMBER = 3275
ORBITAL_ECCENTRICITY = 0.567
ORBITAL_INCLINATION = 86.68
ORBITAL_SEMIMAJOR_AXIS = 8587.49
PERIAPSIS_ALTITUDE = 326.04
PERIAPSIS_ARGUMENT_ANGLE = 142.25
PERIAPSIS_TIME = 2006-07-28T16:54:27.000Z
SPACECRAFT_ORIENTATION = (0.0,-1.0,0.0)
^MEX_ORIENTATION_DESC = "MEX_ORIENTATION_DESC.TXT"
SPACECRAFT_POINTING_MODE = ACROSSTRACK
^MEX_POINTING_DESC = "MEX_POINTING_DESC.TXT"
RIGHT_ASCENSION = -1e+32
DECLINATION = -1e+32
OFFSET_ANGLE = 0.2
SPACECRAFT_SOLAR_DISTANCE = 2.48443e+08
TARGET_NAME = MARS
/* CAMERA DATA ELEMENTS */
DETECTOR_TEMPERATURE = 17.1471
FOCAL_PLANE_TEMPERATURE = 8.1755
INST_CMPRS_NAME = "DISCRETE COSINE TRANSFORMATION (DCT)"
INST_CMPRS_RATIO = 17.2586
INST_CMPRS_QUALITY = 0
INST_CMPRS_QUANTZ_TBL_ID = 0
INSTRUMENT_TEMPERATURE = 11.0301
LENS_TEMPERATURE = 8.5833
MACROPIXEL_SIZE = 8
MISSING_FRAMES = 0
PIXEL_SUBSAMPLING_FLAG = N
SIGNAL_CHAIN_ID = 2
/* RADIOMETRIC DATA ELEMENTS */
BANDWIDTH = 81.0
CENTER_FILTER_WAVELENGTH = 955.5
RADIANCE_OFFSET = 0.773165
RADIANCE_SCALING_FACTOR = 0.00842227
REFLECTANCE_SCALING_FACTOR = 0.00112153
MEX:REFLECTANCE_OFFSET = 0.102956
/* IMAGE OBJECT DEFINITIONS */
OBJECT = IMAGE
  INTERCHANGE_FORMAT = BINARY
  LINES = 5824
  LINE_SAMPLES = 938
  SAMPLE_TYPE = UNSIGNED_INTEGER
  SAMPLE_BITS = 8
  BANDS = 1
  BAND_STORAGE_TYPE = BAND_SEQUENTIAL
  MAXIMUM = 255
  MEAN = 169.513
  MINIMUM = 1
  STANDARD_DEVIATION = 28.211
END_OBJECT = IMAGE
/* MAP OBJECT DEFINITIONS */
OBJECT = IMAGE_MAP_PROJECTION
  ^DATA_SET_MAP_PROJECTION_CATALOG= "DSMAP.CAT"
  A_AXIS_RADIUS = 3396.0
  B_AXIS_RADIUS = 3396.0
  C_AXIS_RADIUS = 3396.0
  CENTER_LATITUDE = 0.0
  CENTER_LONGITUDE = 348.0
  COORDINATE_SYSTEM_NAME = PLANETOGRAPHIC
  COORDINATE_SYSTEM_TYPE = "BODY-FIXED ROTATING"
  EASTERNMOST_LONGITUDE = 348.772
  FIRST_STANDARD_PARALLEL = "N/A"
  LINE_FIRST_PIXEL = 1
  LINE_LAST_PIXEL = 5824
  LINE_PROJECTION_OFFSET = 13404.8125
  MAP_PROJECTION_ROTATION = 0.0
  MAP_PROJECTION_TYPE = SINUSOIDAL
  MAP_RESOLUTION = 592.713803866667
  MAP_SCALE = 0.1
  MAXIMUM_LATITUDE = 22.6169
  MINIMUM_LATITUDE = 12.7359
  POSITIVE_LONGITUDE_DIRECTION = EAST
  REFERENCE_LATITUDE = "N/A"
  REFERENCE_LONGITUDE = "N/A"
  SAMPLE_FIRST_PIXEL = 1
  SAMPLE_LAST_PIXEL = 938
  SAMPLE_PROJECTION_OFFSET = 470.9375
  SECOND_STANDARD_PARALLEL = "N/A"
  WESTERNMOST_LONGITUDE = 347.234
END_OBJECT = IMAGE_MAP_PROJECTION
END
