PDS_VERSION_ID = PDS3
/* FILE DATA ELEMENTS */
RECORD_TYPE = UNDEFINED
/* POINTERS TO DATA OBJECTS */
^IMAGE = ("H3272_0000_P14.TIF")
/* IDENTIFICATION DATA ELEMENTS */
DATA_SET_ID = "MEX-M-HRSC-4-REFDR-MAPPROJECT-EXT1-V4.0"
DATA_SET_NAME = "MARS EXPRESS HRSC MAP PROJECTED REFDR EXTENSION1 V4.0"
DETECTOR_ID = MEX_HRSC_P1
EVENT_TYPE = "MARS-REGIONAL-MAPPING-Vo-Te"
INSTRUMENT_HOST_ID = MEX
INSTRUMENT_HOST_NAME = "MARS EXPRESS"
INSTRUMENT_ID = HRSC
INSTRUMENT_NAME = "HIGH RESOLUTION STEREO CAMERA"
MISSION_NAME = "MARS EXPRESS"
MISSION_PHASE_NAME = ME_Phase_3
PROCESSING_LEVEL_ID = 4
PRODUCT_CREATION_TIME = 2023-02-09T11:24:25.000Z
PRODUCT_ID = "H3272_0000_P14.TIF"
RELEASE_ID = 0003
REVISION_ID = 0000
/* QUALITY DATA ELEMENTS */
DATA_QUALITY_ID = 1
DATA_QUALITY_DESC = "Data calculated based on original SPICE kernels"
/* TIME DATA ELEMENTS */
SPACECRAFT_CLOCK_START_COUNT = "1/0102112849.07300"
SPACECRAFT_CLOCK_STOP_COUNT = "1/0102113057.13810"
START_TIME = 2006-07-27T20:41:06.469Z
STOP_TIME = 2006-07-27T20:43:31.580Z
/* ORBITAL DATA ELEMENTS */
ASCENDING_NODE_LONGITUDE = 159.57
MAXIMUM_RESOLUTION = 0.0543
FOOTPRINT_POINT_LATITUDE = (50.1805,50.1763,50.1715,50.1658, 50.1593,50.1519,50.1386,50.138,50.0801, 49.7647,49.5542,49.3435,49.1326,48.9257 ,48.5739,48.2266,48.0499,47.8726, 47.6946,47.5173,47.3394,47.1615,46.983, 46.8037,46.6255,46.4484,46.2716,46.0921 ,45.8235,45.6443,45.4657,45.1942, 45.0128,44.8321,44.5669,44.3886,44.2062 ,43.9337,43.7523,43.5703,43.3867, 43.2029,42.9334,42.7514,42.5696,42.3004 ,41.9484,41.5957,41.419,40.978,40.8895, 40.8879,40.8956,40.9008,40.9037,40.9037 ,40.9046,41.0817,41.2586,41.6121,41.877 ,42.2294,42.4062,42.5878,42.8609,43.135 ,43.318,43.5001,43.7734,44.0448,44.2259 ,44.4069,44.5848,44.7645,45.0343, 45.2148,45.3952,45.5751,45.7563,45.936, 46.115,46.3842,46.5644,46.7438,46.9226, 47.1014,47.2792,47.7174,47.9845,48.1628 ,48.341,48.6082,48.9632,49.1707,49.3825 ,49.594,49.8054,50.0165,50.1219, 50.1805)
FOOTPRINT_POINT_LONGITUDE = (283.227,282.911,282.615,282.32,282.026 ,281.733,281.278,281.26,281.24,281.273, 281.294,281.316,281.337,281.357,281.392 ,281.427,281.444,281.46,281.476,281.492 ,281.507,281.523,281.538,281.552, 281.567,281.582,281.597,281.611,281.632 ,281.645,281.659,281.678,281.691, 281.703,281.723,281.736,281.747,281.765 ,281.776,281.788,281.798,281.809, 281.826,281.837,281.848,281.863,281.883 ,281.902,281.911,281.934,281.939, 281.939,282.432,282.903,283.449,283.463 ,283.468,283.466,283.463,283.458, 283.454,283.449,283.445,283.442,283.437 ,283.431,283.427,283.423,283.417, 283.413,283.41,283.407,283.404,283.401, 283.397,283.394,283.39,283.387,283.382, 283.379,283.376,283.371,283.366,283.362 ,283.359,283.355,283.353,283.352, 283.346,283.342,283.338,283.331,283.323 ,283.318,283.312,283.306,283.3,283.295, 283.292,283.227)
ORBIT_NUMBER = 3272
ORBITAL_ECCENTRICITY = 0.568
ORBITAL_INCLINATION = 86.67
ORBITAL_SEMIMAJOR_AXIS = 8595.37
PERIAPSIS_ALTITUDE = 325.32
PERIAPSIS_ARGUMENT_ANGLE = 142.82
PERIAPSIS_TIME = 2006-07-27T20:44:49.000Z
SPACECRAFT_ORIENTATION = (0.0,-1.0,0.0)
^MEX_ORIENTATION_DESC = "MEX_ORIENTATION_DESC.TXT"
SPACECRAFT_POINTING_MODE = ACROSSTRACK
^MEX_POINTING_DESC = "MEX_POINTING_DESC.TXT"
RIGHT_ASCENSION = -1e+32
DECLINATION = -1e+32
OFFSET_ANGLE = 0.3
SPACECRAFT_SOLAR_DISTANCE = 2.48483e+08
TARGET_NAME = MARS
/* CAMERA DATA ELEMENTS */
DETECTOR_TEMPERATURE = 17.351
FOCAL_PLANE_TEMPERATURE = 7.9716
INST_CMPRS_NAME = "DISCRETE COSINE TRANSFORMATION (DCT)"
INST_CMPRS_RATIO = 7.91561
INST_CMPRS_QUALITY = 0
INST_CMPRS_QUANTZ_TBL_ID = 0
INSTRUMENT_TEMPERATURE = 11.0301
LENS_TEMPERATURE = 8.5833
MACROPIXEL_SIZE = 4
PIXEL_SUBSAMPLING_FLAG = N
SIGNAL_CHAIN_ID = 3
/* RADIOMETRIC DATA ELEMENTS */
BANDWIDTH = 174.0
CENTER_FILTER_WAVELENGTH = 675.0
RADIANCE_OFFSET = 4.61173
RADIANCE_SCALING_FACTOR = 0.0272893
REFLECTANCE_SCALING_FACTOR = 0.000906297
MEX:REFLECTANCE_OFFSET = 0.153159
/* IMAGE OBJECT DEFINITIONS */
OBJECT = IMAGE
  INTERCHANGE_FORMAT = BINARY
  LINES = 10966
  LINE_SAMPLES = 1739
  SAMPLE_TYPE = UNSIGNED_INTEGER
  SAMPLE_BITS = 8
  BANDS = 1
  BAND_STORAGE_TYPE = BAND_SEQUENTIAL
  MAXIMUM = 255
  MEAN = 137.989
  MINIMUM = 1
  STANDARD_DEVIATION = 32.8315
END_OBJECT = IMAGE
/* MAP OBJECT DEFINITIONS */
OBJECT = IMAGE_MAP_PROJECTION
  ^DATA_SET_MAP_PROJECTION_CATALOG= "DSMAP.CAT"
  A_AXIS_RADIUS = 3396.0
  B_AXIS_RADIUS = 3396.0
  C_AXIS_RADIUS = 3396.0
  CENTER_LATITUDE = 0.0
  CENTER_LONGITUDE = 283.0
  COORDINATE_SYSTEM_NAME = PLANETOGRAPHIC
  COORDINATE_SYSTEM_TYPE = "BODY-FIXED ROTATING"
  EASTERNMOST_LONGITUDE = 283.468
  FIRST_STANDARD_PARALLEL = "N/A"
  LINE_FIRST_PIXEL = 1
  LINE_LAST_PIXEL = 10966
  LINE_PROJECTION_OFFSET = 59424.875
  MAP_PROJECTION_ROTATION = 0.0
  MAP_PROJECTION_TYPE = SINUSOIDAL
  MAP_RESOLUTION = 1185.42760773333
  MAP_SCALE = 0.05
  MAXIMUM_LATITUDE = 50.1805
  MINIMUM_LATITUDE = 40.8879
  POSITIVE_LONGITUDE_DIRECTION = EAST
  REFERENCE_LATITUDE = "N/A"
  REFERENCE_LONGITUDE = "N/A"
  SAMPLE_FIRST_PIXEL = 1
  SAMPLE_LAST_PIXEL = 1739
  SAMPLE_PROJECTION_OFFSET = 1327.875
  SECOND_STANDARD_PARALLEL = "N/A"
  WESTERNMOST_LONGITUDE = 281.24
END_OBJECT = IMAGE_MAP_PROJECTION
END
