PDS_VERSION_ID = PDS3
/* FILE DATA ELEMENTS */
RECORD_TYPE = UNDEFINED
/* POINTERS TO DATA OBJECTS */
^IMAGE = ("H3268_0000_S14.TIF")
/* IDENTIFICATION DATA ELEMENTS */
DATA_SET_ID = "MEX-M-HRSC-4-REFDR-MAPPROJECT-EXT1-V4.0"
DATA_SET_NAME = "MARS EXPRESS HRSC MAP PROJECTED REFDR EXTENSION1 V4.0"
DETECTOR_ID = MEX_HRSC_S1
EVENT_TYPE = "MARS-REGIONAL-MAPPING-Im-Eo"
INSTRUMENT_HOST_ID = MEX
INSTRUMENT_HOST_NAME = "MARS EXPRESS"
INSTRUMENT_ID = HRSC
INSTRUMENT_NAME = "HIGH RESOLUTION STEREO CAMERA"
MISSION_NAME = "MARS EXPRESS"
MISSION_PHASE_NAME = ME_Phase_3
PROCESSING_LEVEL_ID = 4
PRODUCT_CREATION_TIME = 2023-02-09T11:24:25.000Z
PRODUCT_ID = "H3268_0000_S14.TIF"
RELEASE_ID = 0003
REVISION_ID = 0000
/* QUALITY DATA ELEMENTS */
DATA_QUALITY_ID = 1
DATA_QUALITY_DESC = "Data calculated based on original SPICE kernels"
/* TIME DATA ELEMENTS */
SPACECRAFT_CLOCK_START_COUNT = "1/0102015806.09039"
SPACECRAFT_CLOCK_STOP_COUNT = "1/0102016057.50209"
START_TIME = 2006-07-26T17:43:31.376Z
STOP_TIME = 2006-07-26T17:46:25.813Z
/* ORBITAL DATA ELEMENTS */
ASCENDING_NODE_LONGITUDE = 159.65
MAXIMUM_RESOLUTION = 0.0361
FOOTPRINT_POINT_LATITUDE = (64.5286,64.5007,64.4694,64.4229, 64.3834,64.3403,64.2906,64.2875,64.146, 63.8284,63.6167,63.3015,63.093,62.7799, 62.5739,62.3673,62.1608,61.9577,61.7552 ,61.5502,61.3459,61.0443,60.7447, 60.4469,60.2484,60.0495,59.8542,59.6587 ,59.4627,59.2673,59.0749,58.8819, 58.6885,58.495,58.3057,58.1157,57.9253, 57.6404,57.4537,57.2664,57.0789,56.7976 ,56.4298,56.2454,55.8769,55.5147, 55.1513,54.7911,54.5242,54.435,54.4066, 54.437,54.4675,54.4921,54.5133,54.5343, 54.5353,54.5361,55.0745,55.5328,55.9896 ,56.1746,56.3611,56.5473,56.7333, 56.9189,57.2024,57.3918,57.5808,57.7695 ,58.057,58.2493,58.4414,58.6333,58.8284 ,59.0239,59.2192,59.4142,59.7109, 59.9094,60.1071,60.3056,60.5071,60.7084 ,60.9092,61.2143,61.4185,61.6222, 61.8281,62.0353,62.3458,62.6597,62.8695 ,63.1857,63.3983,63.7169,63.9329, 64.2558,64.3637,64.5286)
FOOTPRINT_POINT_LONGITUDE = (314.494,313.836,313.178,312.315, 311.659,311.003,310.306,310.265,310.181 ,310.308,310.39,310.51,310.587,310.701, 310.773,310.845,310.915,310.984,311.051 ,311.117,311.179,311.273,311.365, 311.452,311.51,311.566,311.621,311.674, 311.727,311.779,311.829,311.879,311.928 ,311.976,312.023,312.069,312.114,312.18 ,312.223,312.265,312.307,312.368, 312.446,312.484,312.56,312.631,312.701, 312.768,312.817,312.833,312.838,313.336 ,313.884,314.381,314.852,315.372, 315.397,315.406,315.374,315.347,315.319 ,315.307,315.295,315.283,315.27,315.258 ,315.239,315.226,315.213,315.199, 315.179,315.165,315.15,315.136,315.121, 315.106,315.091,315.075,315.051,315.034 ,315.018,315.001,314.984,314.966, 314.948,314.921,314.902,314.883,314.863 ,314.843,314.812,314.781,314.759, 314.725,314.703,314.667,314.643,314.606 ,314.593,314.494)
ORBIT_NUMBER = 3268
ORBITAL_ECCENTRICITY = 0.568
ORBITAL_INCLINATION = 86.69
ORBITAL_SEMIMAJOR_AXIS = 8589.05
PERIAPSIS_ALTITUDE = 325.23
PERIAPSIS_ARGUMENT_ANGLE = 143.53
PERIAPSIS_TIME = 2006-07-26T17:51:45.000Z
SPACECRAFT_ORIENTATION = (0.0,-1.0,0.0)
^MEX_ORIENTATION_DESC = "MEX_ORIENTATION_DESC.TXT"
SPACECRAFT_POINTING_MODE = ACROSSTRACK
^MEX_POINTING_DESC = "MEX_POINTING_DESC.TXT"
RIGHT_ASCENSION = -1e+32
DECLINATION = -1e+32
OFFSET_ANGLE = -0.25
SPACECRAFT_SOLAR_DISTANCE = 2.48534e+08
TARGET_NAME = MARS
/* CAMERA DATA ELEMENTS */
DETECTOR_TEMPERATURE = 17.351
FOCAL_PLANE_TEMPERATURE = 7.7677
INST_CMPRS_NAME = "DISCRETE COSINE TRANSFORMATION (DCT)"
INST_CMPRS_RATIO = 14.6992
INST_CMPRS_QUALITY = 0
INST_CMPRS_QUANTZ_TBL_ID = 0
INSTRUMENT_TEMPERATURE = 11.4379
LENS_TEMPERATURE = 7.9716
MACROPIXEL_SIZE = 2
MISSING_FRAMES = 0
PIXEL_SUBSAMPLING_FLAG = N
SIGNAL_CHAIN_ID = 1
/* RADIOMETRIC DATA ELEMENTS */
BANDWIDTH = 180.0
CENTER_FILTER_WAVELENGTH = 677.0
RADIANCE_OFFSET = 4.2773
RADIANCE_SCALING_FACTOR = 0.0130872
REFLECTANCE_SCALING_FACTOR = 0.000421757
MEX:REFLECTANCE_OFFSET = 0.137843
/* IMAGE OBJECT DEFINITIONS */
OBJECT = IMAGE
  INTERCHANGE_FORMAT = BINARY
  LINES = 23581
  LINE_SAMPLES = 5962
  SAMPLE_TYPE = UNSIGNED_INTEGER
  SAMPLE_BITS = 8
  BANDS = 1
  BAND_STORAGE_TYPE = BAND_SEQUENTIAL
  MAXIMUM = 255
  MEAN = 123.848
  MINIMUM = 1
  STANDARD_DEVIATION = 58.7233
END_OBJECT = IMAGE
/* MAP OBJECT DEFINITIONS */
OBJECT = IMAGE_MAP_PROJECTION
  ^DATA_SET_MAP_PROJECTION_CATALOG= "DSMAP.CAT"
  A_AXIS_RADIUS = 3396.0
  B_AXIS_RADIUS = 3396.0
  C_AXIS_RADIUS = 3396.0
  CENTER_LATITUDE = 0.0
  CENTER_LONGITUDE = 313.0
  COORDINATE_SYSTEM_NAME = PLANETOGRAPHIC
  COORDINATE_SYSTEM_TYPE = "BODY-FIXED ROTATING"
  EASTERNMOST_LONGITUDE = 315.406
  FIRST_STANDARD_PARALLEL = "N/A"
  LINE_FIRST_PIXEL = 1
  LINE_LAST_PIXEL = 23581
  LINE_PROJECTION_OFFSET = 152646.75
  MAP_PROJECTION_ROTATION = 0.0
  MAP_PROJECTION_TYPE = SINUSOIDAL
  MAP_RESOLUTION = 2370.85521546667
  MAP_SCALE = 0.025
  MAXIMUM_LATITUDE = 64.5286
  MINIMUM_LATITUDE = 54.4066
  POSITIVE_LONGITUDE_DIRECTION = EAST
  REFERENCE_LATITUDE = "N/A"
  REFERENCE_LONGITUDE = "N/A"
  SAMPLE_FIRST_PIXEL = 1
  SAMPLE_LAST_PIXEL = 5962
  SAMPLE_PROJECTION_OFFSET = 2756.25
  SECOND_STANDARD_PARALLEL = "N/A"
  WESTERNMOST_LONGITUDE = 310.181
END_OBJECT = IMAGE_MAP_PROJECTION
END
