PDS_VERSION_ID = PDS3
/* FILE DATA ELEMENTS */
RECORD_TYPE = UNDEFINED
/* POINTERS TO DATA OBJECTS */
^IMAGE = ("H3268_0000_P14.TIF")
/* IDENTIFICATION DATA ELEMENTS */
DATA_SET_ID = "MEX-M-HRSC-4-REFDR-MAPPROJECT-EXT1-V4.0"
DATA_SET_NAME = "MARS EXPRESS HRSC MAP PROJECTED REFDR EXTENSION1 V4.0"
DETECTOR_ID = MEX_HRSC_P1
EVENT_TYPE = "MARS-REGIONAL-MAPPING-Im-Eo"
INSTRUMENT_HOST_ID = MEX
INSTRUMENT_HOST_NAME = "MARS EXPRESS"
INSTRUMENT_ID = HRSC
INSTRUMENT_NAME = "HIGH RESOLUTION STEREO CAMERA"
MISSION_NAME = "MARS EXPRESS"
MISSION_PHASE_NAME = ME_Phase_3
PROCESSING_LEVEL_ID = 4
PRODUCT_CREATION_TIME = 2023-02-09T11:24:25.000Z
PRODUCT_ID = "H3268_0000_P14.TIF"
RELEASE_ID = 0003
REVISION_ID = 0000
/* QUALITY DATA ELEMENTS */
DATA_QUALITY_ID = 1
DATA_QUALITY_DESC = "Data calculated based on original SPICE kernels"
/* TIME DATA ELEMENTS */
SPACECRAFT_CLOCK_START_COUNT = "1/0102015806.09039"
SPACECRAFT_CLOCK_STOP_COUNT = "1/0102016057.50209"
START_TIME = 2006-07-26T17:43:50.938Z
STOP_TIME = 2006-07-26T17:46:39.832Z
/* ORBITAL DATA ELEMENTS */
ASCENDING_NODE_LONGITUDE = 159.65
MAXIMUM_RESOLUTION = 0.0343
FOOTPRINT_POINT_LATITUDE = (64.4814,64.4638,64.4356,64.4022, 64.3677,64.3299,64.2618,64.259,64.1646, 63.8441,63.6334,63.4223,63.2108,63.0032 ,62.6907,62.4824,62.1749,61.9698, 61.7649,61.5623,61.3554,61.1525,60.8556 ,60.6564,60.4562,60.2564,60.0603,59.864 ,59.6672,59.3732,59.18,58.9865,58.7927, 58.5988,58.4089,58.2188,58.0284,57.8375 ,57.6483,57.2742,57.0868,56.899,56.6215 ,56.2537,55.793,55.5225,54.9794,54.5322 ,54.4434,54.4172,54.4382,54.4591, 54.4887,54.5076,54.5337,54.5346,54.5354 ,55.0749,55.5311,55.8951,56.1733, 56.5449,56.9156,57.1048,57.2942,57.4832 ,57.672,57.8606,58.0533,58.3421,58.5344 ,58.7264,59.0197,59.2156,59.4112, 59.6064,59.8061,60.005,60.2038,60.4022, 60.6039,60.8062,61.0082,61.2098,61.4153 ,61.7234,61.9283,62.1362,62.3451, 62.5531,62.7619,62.9739,63.1855,63.3965 ,63.6112,63.8259,64.0403,64.2569, 64.3658,64.4814)
FOOTPRINT_POINT_LONGITUDE = (314.422,313.985,313.35,312.676,312.041 ,311.408,310.377,310.337,310.238, 310.364,310.444,310.524,310.602,310.677 ,310.787,310.859,310.963,311.031, 311.098,311.162,311.221,311.283,311.377 ,311.436,311.494,311.55,311.605,311.659 ,311.712,311.79,311.841,311.89,311.939, 311.987,312.033,312.079,312.124,312.168 ,312.212,312.295,312.336,312.377, 312.436,312.512,312.604,312.656,312.758 ,312.84,312.855,312.86,313.226,313.617, 314.226,314.664,315.343,315.367,315.376 ,315.343,315.314,315.29,315.271,315.246 ,315.22,315.206,315.193,315.179,315.165 ,315.151,315.136,315.113,315.098, 315.083,315.059,315.042,315.026,315.009 ,314.991,314.974,314.956,314.938, 314.919,314.9,314.881,314.861,314.841, 314.81,314.789,314.767,314.745,314.723, 314.7,314.676,314.652,314.627,314.602, 314.576,314.55,314.523,314.509,314.422)
ORBIT_NUMBER = 3268
ORBITAL_ECCENTRICITY = 0.568
ORBITAL_INCLINATION = 86.69
ORBITAL_SEMIMAJOR_AXIS = 8589.05
PERIAPSIS_ALTITUDE = 325.23
PERIAPSIS_ARGUMENT_ANGLE = 143.53
PERIAPSIS_TIME = 2006-07-26T17:51:45.000Z
SPACECRAFT_ORIENTATION = (0.0,-1.0,0.0)
^MEX_ORIENTATION_DESC = "MEX_ORIENTATION_DESC.TXT"
SPACECRAFT_POINTING_MODE = ACROSSTRACK
^MEX_POINTING_DESC = "MEX_POINTING_DESC.TXT"
RIGHT_ASCENSION = -1e+32
DECLINATION = -1e+32
OFFSET_ANGLE = -0.25
SPACECRAFT_SOLAR_DISTANCE = 2.48534e+08
TARGET_NAME = MARS
/* CAMERA DATA ELEMENTS */
DETECTOR_TEMPERATURE = 17.351
FOCAL_PLANE_TEMPERATURE = 7.7677
INST_CMPRS_NAME = "DISCRETE COSINE TRANSFORMATION (DCT)"
INST_CMPRS_RATIO = 18.1827
INST_CMPRS_QUALITY = 0
INST_CMPRS_QUANTZ_TBL_ID = 0
INSTRUMENT_TEMPERATURE = 11.4379
LENS_TEMPERATURE = 7.9716
MACROPIXEL_SIZE = 2
MISSING_FRAMES = 0
PIXEL_SUBSAMPLING_FLAG = N
SIGNAL_CHAIN_ID = 3
/* RADIOMETRIC DATA ELEMENTS */
BANDWIDTH = 174.0
CENTER_FILTER_WAVELENGTH = 675.0
RADIANCE_OFFSET = 3.95623
RADIANCE_SCALING_FACTOR = 0.011676
REFLECTANCE_SCALING_FACTOR = 0.000387928
MEX:REFLECTANCE_OFFSET = 0.131444
/* IMAGE OBJECT DEFINITIONS */
OBJECT = IMAGE
  INTERCHANGE_FORMAT = BINARY
  LINES = 23581
  LINE_SAMPLES = 5962
  SAMPLE_TYPE = UNSIGNED_INTEGER
  SAMPLE_BITS = 8
  BANDS = 1
  BAND_STORAGE_TYPE = BAND_SEQUENTIAL
  MAXIMUM = 255
  MEAN = 121.871
  MINIMUM = 1
  STANDARD_DEVIATION = 59.866
END_OBJECT = IMAGE
/* MAP OBJECT DEFINITIONS */
OBJECT = IMAGE_MAP_PROJECTION
  ^DATA_SET_MAP_PROJECTION_CATALOG= "DSMAP.CAT"
  A_AXIS_RADIUS = 3396.0
  B_AXIS_RADIUS = 3396.0
  C_AXIS_RADIUS = 3396.0
  CENTER_LATITUDE = 0.0
  CENTER_LONGITUDE = 313.0
  COORDINATE_SYSTEM_NAME = PLANETOGRAPHIC
  COORDINATE_SYSTEM_TYPE = "BODY-FIXED ROTATING"
  EASTERNMOST_LONGITUDE = 315.376
  FIRST_STANDARD_PARALLEL = "N/A"
  LINE_FIRST_PIXEL = 1
  LINE_LAST_PIXEL = 23581
  LINE_PROJECTION_OFFSET = 152646.75
  MAP_PROJECTION_ROTATION = 0.0
  MAP_PROJECTION_TYPE = SINUSOIDAL
  MAP_RESOLUTION = 2370.85521546667
  MAP_SCALE = 0.025
  MAXIMUM_LATITUDE = 64.48139999999999
  MINIMUM_LATITUDE = 54.4172
  POSITIVE_LONGITUDE_DIRECTION = EAST
  REFERENCE_LATITUDE = "N/A"
  REFERENCE_LONGITUDE = "N/A"
  SAMPLE_FIRST_PIXEL = 1
  SAMPLE_LAST_PIXEL = 5962
  SAMPLE_PROJECTION_OFFSET = 2756.25
  SECOND_STANDARD_PARALLEL = "N/A"
  WESTERNMOST_LONGITUDE = 310.238
END_OBJECT = IMAGE_MAP_PROJECTION
END
