PDS_VERSION_ID = PDS3
/* FILE DATA ELEMENTS */
RECORD_TYPE = UNDEFINED
/* POINTERS TO DATA OBJECTS */
^IMAGE = ("H3264_0000_RE4.TIF")
/* IDENTIFICATION DATA ELEMENTS */
DATA_SET_ID = "MEX-M-HRSC-4-REFDR-MAPPROJECT-EXT1-V4.0"
DATA_SET_NAME = "MARS EXPRESS HRSC MAP PROJECTED REFDR EXTENSION1 V4.0"
DETECTOR_ID = MEX_HRSC_RED
EVENT_TYPE = "MARS-REGIONAL-MAPPING-Im-Lc-La"
INSTRUMENT_HOST_ID = MEX
INSTRUMENT_HOST_NAME = "MARS EXPRESS"
INSTRUMENT_ID = HRSC
INSTRUMENT_NAME = "HIGH RESOLUTION STEREO CAMERA"
MISSION_NAME = "MARS EXPRESS"
MISSION_PHASE_NAME = ME_Phase_3
PROCESSING_LEVEL_ID = 4
PRODUCT_CREATION_TIME = 2023-02-09T11:24:25.000Z
PRODUCT_ID = "H3264_0000_RE4.TIF"
RELEASE_ID = 0003
REVISION_ID = 0000
/* QUALITY DATA ELEMENTS */
DATA_QUALITY_ID = 1
DATA_QUALITY_DESC = "Data calculated based on original SPICE kernels"
/* TIME DATA ELEMENTS */
SPACECRAFT_CLOCK_START_COUNT = "1/0101919933.07308"
SPACECRAFT_CLOCK_STOP_COUNT = "1/0101920261.23771"
START_TIME = 2006-07-25T15:07:05.038Z
STOP_TIME = 2006-07-25T15:10:48.560Z
/* ORBITAL DATA ELEMENTS */
ASCENDING_NODE_LONGITUDE = 159.74
MAXIMUM_RESOLUTION = 0.0886
FOOTPRINT_POINT_LATITUDE = (7.02999,7.03191,7.03445,7.03801, 7.04174,7.0452,7.04961,7.04985,7.06363, 6.55751,6.25147,5.83761,5.42218,5.00262 ,4.57792,4.25756,3.83442,3.61519, 3.39195,2.95528,2.73584,2.51353,2.17992 ,1.95418,1.72931,1.38734,1.15989, 0.929959,0.700494,0.468162,0.236316, 0.00160809,-0.232942,-0.469981, -0.707196,-0.945617,-1.18552,-1.42764, -1.67099,-2.03601,-2.2823,-2.65353, -3.02768,-3.27811,-3.53095,-3.78515, -4.16839,-4.29704,-4.37579,-4.38285, -4.39124,-4.39863,-4.40808,-4.41402, -4.41808,-4.42122,-4.4216,-4.42029, -4.1613,-3.90584,-3.52394,-3.14457, -2.89332,-2.64555,-2.39721,-2.15088, -1.90552,-1.65981,-1.4182,-1.17377, -0.813227,-0.45759,-0.220425,0.0142948, 0.248414,0.480879,0.713261,0.943912, 1.17414,1.40214,1.74327,1.96859,2.19252 ,2.41505,2.6389,2.86088,3.18946,3.40803 ,3.62623,3.84364,4.16876,4.59988, 5.01808,5.23549,5.65401,6.16578,6.57471 ,6.87992,6.98134,7.02999)
FOOTPRINT_POINT_LONGITUDE = (349.88,349.638,349.344,348.98,348.652, 348.375,348.046,348.029,348.019,348.002 ,347.991,347.977,347.962,347.947, 347.931,347.919,347.9,347.892,347.885, 347.867,347.857,347.848,347.834,347.824 ,347.814,347.8,347.79,347.779,347.768, 347.758,347.747,347.736,347.724,347.713 ,347.701,347.689,347.678,347.665, 347.653,347.634,347.621,347.602,347.582 ,347.568,347.554,347.54,347.518,347.511 ,347.506,347.772,348.136,348.451,348.96 ,349.373,349.761,350.077,350.101, 350.109,350.103,350.096,350.087,350.078 ,350.072,350.066,350.06,350.054,350.049 ,350.044,350.038,350.034,350.026, 350.018,350.013,350.008,350.003,349.998 ,349.994,349.989,349.985,349.98,349.974 ,349.97,349.965,349.961,349.957,349.954 ,349.947,349.943,349.94,349.936,349.931 ,349.926,349.916,349.916,349.909, 349.898,349.892,349.887,349.886,349.88)
ORBIT_NUMBER = 3264
ORBITAL_ECCENTRICITY = 0.568
ORBITAL_INCLINATION = 86.68
ORBITAL_SEMIMAJOR_AXIS = 8590.41
PERIAPSIS_ALTITUDE = 324.74
PERIAPSIS_ARGUMENT_ANGLE = 144.21
PERIAPSIS_TIME = 2006-07-25T14:58:50.000Z
SPACECRAFT_ORIENTATION = (0.0,-1.0,0.0)
^MEX_ORIENTATION_DESC = "MEX_ORIENTATION_DESC.TXT"
SPACECRAFT_POINTING_MODE = NADIR
^MEX_POINTING_DESC = "MEX_POINTING_DESC.TXT"
RIGHT_ASCENSION = -1e+32
DECLINATION = -1e+32
OFFSET_ANGLE = -1e+32
SPACECRAFT_SOLAR_DISTANCE = 2.48584e+08
TARGET_NAME = MARS
/* CAMERA DATA ELEMENTS */
DETECTOR_TEMPERATURE = 18.3705
FOCAL_PLANE_TEMPERATURE = 7.5638
INST_CMPRS_NAME = "DISCRETE COSINE TRANSFORMATION (DCT)"
INST_CMPRS_RATIO = 11.6132
INST_CMPRS_QUALITY = 0
INST_CMPRS_QUANTZ_TBL_ID = 0
INSTRUMENT_TEMPERATURE = 11.0301
LENS_TEMPERATURE = 7.7677
MACROPIXEL_SIZE = 4
MISSING_FRAMES = 0
PIXEL_SUBSAMPLING_FLAG = N
SIGNAL_CHAIN_ID = 2
/* RADIOMETRIC DATA ELEMENTS */
BANDWIDTH = 48.0
CENTER_FILTER_WAVELENGTH = 748.0
RADIANCE_OFFSET = 0.76935
RADIANCE_SCALING_FACTOR = 0.0072803
REFLECTANCE_SCALING_FACTOR = 0.00102665
MEX:REFLECTANCE_OFFSET = 0.108492
/* IMAGE OBJECT DEFINITIONS */
OBJECT = IMAGE
  INTERCHANGE_FORMAT = BINARY
  LINES = 6803
  LINE_SAMPLES = 1388
  SAMPLE_TYPE = UNSIGNED_INTEGER
  SAMPLE_BITS = 8
  BANDS = 1
  BAND_STORAGE_TYPE = BAND_SEQUENTIAL
  MAXIMUM = 255
  MEAN = 117.5
  MINIMUM = 1
  STANDARD_DEVIATION = 32.1809
END_OBJECT = IMAGE
/* MAP OBJECT DEFINITIONS */
OBJECT = IMAGE_MAP_PROJECTION
  ^DATA_SET_MAP_PROJECTION_CATALOG= "DSMAP.CAT"
  A_AXIS_RADIUS = 3396.0
  B_AXIS_RADIUS = 3396.0
  C_AXIS_RADIUS = 3396.0
  CENTER_LATITUDE = 0.0
  CENTER_LONGITUDE = 349.0
  COORDINATE_SYSTEM_NAME = PLANETOGRAPHIC
  COORDINATE_SYSTEM_TYPE = "BODY-FIXED ROTATING"
  EASTERNMOST_LONGITUDE = 350.109
  FIRST_STANDARD_PARALLEL = "N/A"
  LINE_FIRST_PIXEL = 1
  LINE_LAST_PIXEL = 6803
  LINE_PROJECTION_OFFSET = 4161.625
  MAP_PROJECTION_ROTATION = 0.0
  MAP_PROJECTION_TYPE = SINUSOIDAL
  MAP_RESOLUTION = 592.713803866667
  MAP_SCALE = 0.1
  MAXIMUM_LATITUDE = 7.06363
  MINIMUM_LATITUDE = -4.4216
  POSITIVE_LONGITUDE_DIRECTION = EAST
  REFERENCE_LATITUDE = "N/A"
  REFERENCE_LONGITUDE = "N/A"
  SAMPLE_FIRST_PIXEL = 1
  SAMPLE_LAST_PIXEL = 1388
  SAMPLE_PROJECTION_OFFSET = 809.125
  SECOND_STANDARD_PARALLEL = "N/A"
  WESTERNMOST_LONGITUDE = 347.506
END_OBJECT = IMAGE_MAP_PROJECTION
END
