PDS_VERSION_ID = PDS3
/* FILE DATA ELEMENTS */
RECORD_TYPE = UNDEFINED
/* POINTERS TO DATA OBJECTS */
^IMAGE = ("H3261_0000_BL4.TIF")
/* IDENTIFICATION DATA ELEMENTS */
DATA_SET_ID = "MEX-M-HRSC-4-REFDR-MAPPROJECT-EXT1-V4.0"
DATA_SET_NAME = "MARS EXPRESS HRSC MAP PROJECTED REFDR EXTENSION1 V4.0"
DETECTOR_ID = MEX_HRSC_BLUE
EVENT_TYPE = "MARS-REGIONAL-MAPPING-Vo-Fl-Gl"
INSTRUMENT_HOST_ID = MEX
INSTRUMENT_HOST_NAME = "MARS EXPRESS"
INSTRUMENT_ID = HRSC
INSTRUMENT_NAME = "HIGH RESOLUTION STEREO CAMERA"
MISSION_NAME = "MARS EXPRESS"
MISSION_PHASE_NAME = ME_Phase_3
PROCESSING_LEVEL_ID = 4
PRODUCT_CREATION_TIME = 2023-02-09T11:24:25.000Z
PRODUCT_ID = "H3261_0000_BL4.TIF"
RELEASE_ID = 0003
REVISION_ID = 0000
/* QUALITY DATA ELEMENTS */
DATA_QUALITY_ID = 1
DATA_QUALITY_DESC = "Data calculated based on original SPICE kernels"
/* TIME DATA ELEMENTS */
SPACECRAFT_CLOCK_START_COUNT = "1/0101847043.08424"
SPACECRAFT_CLOCK_STOP_COUNT = "1/0101847457.05923"
START_TIME = 2006-07-24T18:51:23.037Z
STOP_TIME = 2006-07-24T18:56:56.175Z
/* ORBITAL DATA ELEMENTS */
ASCENDING_NODE_LONGITUDE = 159.8
MAXIMUM_RESOLUTION = 0.1073
FOOTPRINT_POINT_LATITUDE = (27.0651,27.0619,27.0537,27.0536, 27.0549,26.5232,25.9786,25.6135,25.2486 ,24.8843,24.338,23.9742,23.6109,23.2481 ,22.8854,22.5233,22.1619,21.8007, 21.4399,20.7201,20.0019,19.575,18.9348, 18.509,18.0839,17.6596,17.2362,16.8134, 16.3915,15.9707,15.5505,15.1313,14.7129 ,14.0743,13.647,12.9962,12.5602,11.8959 ,11.4516,10.9988,10.5459,10.085,9.62375 ,9.15457,8.44537,7.96714,7.48239, 6.74648,6.49799,6.3456,6.34153,6.33811, 6.33235,6.33221,6.33443,6.82978,7.56506 ,8.28844,8.76734,9.23785,9.70584, 10.1681,10.6272,11.0811,11.5326,11.9778 ,12.4231,12.8593,13.5139,14.1555, 14.5837,15.0021,15.6319,16.0526,16.4742 ,16.8967,17.3198,17.744,18.1688,18.5944 ,19.0208,19.448,20.0761,20.7957,21.5169 ,21.878,22.2395,22.6015,22.9641,23.3268 ,23.6902,24.0541,24.4183,24.7826, 25.1479,25.6954,26.062,26.7828,26.9604, 27.0651)
FOOTPRINT_POINT_LONGITUDE = (284.795,284.294,283.522,283.51,283.502 ,283.505,283.508,283.509,283.51,283.511 ,283.512,283.512,283.512,283.511, 283.511,283.51,283.509,283.508,283.506, 283.502,283.497,283.494,283.488,283.484 ,283.48,283.475,283.47,283.465,283.459, 283.453,283.447,283.441,283.434,283.423 ,283.415,283.403,283.394,283.381, 283.371,283.361,283.35,283.34,283.328, 283.316,283.298,283.285,283.271,283.25, 283.244,283.24,283.803,284.225,284.944, 284.96,284.971,284.966,284.96,284.953, 284.951,284.947,284.943,284.938,284.934 ,284.93,284.926,284.922,284.919,284.915 ,284.91,284.905,284.901,284.897,284.893 ,284.89,284.887,284.883,284.88,284.877, 284.874,284.871,284.867,284.864,284.861 ,284.856,284.851,284.848,284.845, 284.842,284.84,284.836,284.833,284.831, 284.828,284.824,284.823,284.817,284.816 ,284.811,284.81,284.795)
ORBIT_NUMBER = 3261
ORBITAL_ECCENTRICITY = 0.568
ORBITAL_INCLINATION = 86.67
ORBITAL_SEMIMAJOR_AXIS = 8598.16
PERIAPSIS_ALTITUDE = 324.04
PERIAPSIS_ARGUMENT_ANGLE = 144.77
PERIAPSIS_TIME = 2006-07-24T18:49:14.000Z
SPACECRAFT_ORIENTATION = (0.0,-1.0,0.0)
^MEX_ORIENTATION_DESC = "MEX_ORIENTATION_DESC.TXT"
SPACECRAFT_POINTING_MODE = ACROSSTRACK
^MEX_POINTING_DESC = "MEX_POINTING_DESC.TXT"
RIGHT_ASCENSION = -1e+32
DECLINATION = -1e+32
OFFSET_ANGLE = 0.3
SPACECRAFT_SOLAR_DISTANCE = 2.48621e+08
TARGET_NAME = MARS
/* CAMERA DATA ELEMENTS */
DETECTOR_TEMPERATURE = 18.5744
FOCAL_PLANE_TEMPERATURE = 8.3794
INST_CMPRS_NAME = "DISCRETE COSINE TRANSFORMATION (DCT)"
INST_CMPRS_RATIO = 18.2668
INST_CMPRS_QUALITY = 0
INST_CMPRS_QUANTZ_TBL_ID = 0
INSTRUMENT_TEMPERATURE = 11.8457
LENS_TEMPERATURE = 8.7872
MACROPIXEL_SIZE = 8
MISSING_FRAMES = 0
PIXEL_SUBSAMPLING_FLAG = N
SIGNAL_CHAIN_ID = 2
/* RADIOMETRIC DATA ELEMENTS */
BANDWIDTH = 76.0
CENTER_FILTER_WAVELENGTH = 444.0
RADIANCE_OFFSET = 0.878329
RADIANCE_SCALING_FACTOR = 0.00290624
REFLECTANCE_SCALING_FACTOR = 0.00018457
MEX:REFLECTANCE_OFFSET = 0.0557812
/* IMAGE OBJECT DEFINITIONS */
OBJECT = IMAGE
  INTERCHANGE_FORMAT = BINARY
  LINES = 12292
  LINE_SAMPLES = 1021
  SAMPLE_TYPE = UNSIGNED_INTEGER
  SAMPLE_BITS = 8
  BANDS = 1
  BAND_STORAGE_TYPE = BAND_SEQUENTIAL
  MAXIMUM = 255
  MEAN = 122.504
  MINIMUM = 1
  STANDARD_DEVIATION = 37.7359
END_OBJECT = IMAGE
/* MAP OBJECT DEFINITIONS */
OBJECT = IMAGE_MAP_PROJECTION
  ^DATA_SET_MAP_PROJECTION_CATALOG= "DSMAP.CAT"
  A_AXIS_RADIUS = 3396.0
  B_AXIS_RADIUS = 3396.0
  C_AXIS_RADIUS = 3396.0
  CENTER_LATITUDE = 0.0
  CENTER_LONGITUDE = 284.0
  COORDINATE_SYSTEM_NAME = PLANETOGRAPHIC
  COORDINATE_SYSTEM_TYPE = "BODY-FIXED ROTATING"
  EASTERNMOST_LONGITUDE = 284.971
  FIRST_STANDARD_PARALLEL = "N/A"
  LINE_FIRST_PIXEL = 1
  LINE_LAST_PIXEL = 12292
  LINE_PROJECTION_OFFSET = 16048.4375
  MAP_PROJECTION_ROTATION = 0.0
  MAP_PROJECTION_TYPE = SINUSOIDAL
  MAP_RESOLUTION = 592.713803866667
  MAP_SCALE = 0.1
  MAXIMUM_LATITUDE = 27.0651
  MINIMUM_LATITUDE = 6.33221
  POSITIVE_LONGITUDE_DIRECTION = EAST
  REFERENCE_LATITUDE = "N/A"
  REFERENCE_LONGITUDE = "N/A"
  SAMPLE_FIRST_PIXEL = 1
  SAMPLE_LAST_PIXEL = 1021
  SAMPLE_PROJECTION_OFFSET = 453.6875
  SECOND_STANDARD_PARALLEL = "N/A"
  WESTERNMOST_LONGITUDE = 283.24
END_OBJECT = IMAGE_MAP_PROJECTION
END
