PDS_VERSION_ID = PDS3
/* FILE DATA ELEMENTS */
RECORD_TYPE = UNDEFINED
/* POINTERS TO DATA OBJECTS */
^IMAGE = ("H3254_0000_IR4.TIF")
/* IDENTIFICATION DATA ELEMENTS */
DATA_SET_ID = "MEX-M-HRSC-4-REFDR-MAPPROJECT-EXT1-V4.0"
DATA_SET_NAME = "MARS EXPRESS HRSC MAP PROJECTED REFDR EXTENSION1 V4.0"
DETECTOR_ID = MEX_HRSC_IR
EVENT_TYPE = "MARS-REGIONAL-MAPPING-Vo-Gl"
INSTRUMENT_HOST_ID = MEX
INSTRUMENT_HOST_NAME = "MARS EXPRESS"
INSTRUMENT_ID = HRSC
INSTRUMENT_NAME = "HIGH RESOLUTION STEREO CAMERA"
MISSION_NAME = "MARS EXPRESS"
MISSION_PHASE_NAME = ME_Phase_3
PROCESSING_LEVEL_ID = 4
PRODUCT_CREATION_TIME = 2023-02-09T11:24:25.000Z
PRODUCT_ID = "H3254_0000_IR4.TIF"
RELEASE_ID = 0003
REVISION_ID = 0000
/* QUALITY DATA ELEMENTS */
DATA_QUALITY_ID = 1
DATA_QUALITY_DESC = "Data calculated based on original SPICE kernels"
/* TIME DATA ELEMENTS */
SPACECRAFT_CLOCK_START_COUNT = "1/0101677839.08372"
SPACECRAFT_CLOCK_STOP_COUNT = "1/0101678102.25352"
START_TIME = 2006-07-22T19:50:49.668Z
STOP_TIME = 2006-07-22T19:53:35.939Z
/* ORBITAL DATA ELEMENTS */
ASCENDING_NODE_LONGITUDE = 159.95
MAXIMUM_RESOLUTION = 0.1242
FOOTPRINT_POINT_LATITUDE = (15.7397,15.7446,15.7477,15.7517, 15.7541,15.7541,15.7605,15.4497,15.2427 ,15.0358,14.7258,14.5187,14.3116, 14.1048,13.8981,13.6919,13.4854,13.176, 12.9696,12.7635,12.4545,12.2489,12.0429 ,11.6318,11.2223,10.8153,10.6079, 10.3991,10.1899,9.87731,9.66858,9.34853 ,9.13502,8.92125,8.70628,8.49218, 8.27245,8.05234,7.72229,7.50276,7.16617 ,6.94138,6.71692,6.49256,6.14899, 5.91931,5.69008,5.46097,5.22669,5.10979 ,5.00216,4.99788,4.99504,4.9908,4.98753 ,4.97946,4.97913,4.98125,5.21621, 5.56667,5.91231,6.14313,6.37386,6.6005, 6.93896,7.16467,7.39049,7.61243,7.94369 ,8.16433,8.38397,8.6019,8.8165,9.03081, 9.24602,9.46008,9.67221,9.88127,10.0906 ,10.4045,10.6134,11.1284,11.5352, 12.1442,12.552,12.9621,13.1685,13.375, 13.5817,13.7885,13.9954,14.2023,14.4094 ,14.6166,14.8237,15.1344,15.3417, 15.5491,15.6527,15.7397)
FOOTPRINT_POINT_LONGITUDE = (252.757,252.439,252.198,251.795,251.43 ,251.417,251.413,251.41,251.407,251.405 ,251.401,251.398,251.395,251.393,251.39 ,251.387,251.384,251.379,251.376, 251.373,251.368,251.364,251.361,251.354 ,251.347,251.34,251.336,251.333,251.329 ,251.323,251.32,251.313,251.309,251.305 ,251.3,251.296,251.291,251.286,251.278, 251.273,251.265,251.259,251.254,251.248 ,251.24,251.234,251.228,251.222,251.216 ,251.212,251.21,251.567,251.793,252.109 ,252.335,252.788,252.803,252.813, 252.811,252.808,252.805,252.803,252.801 ,252.799,252.796,252.794,252.792,252.79 ,252.787,252.785,252.784,252.782, 252.781,252.78,252.779,252.778,252.777, 252.776,252.775,252.774,252.774,252.771 ,252.771,252.771,252.771,252.769, 252.768,252.767,252.766,252.764,252.763 ,252.762,252.76,252.759,252.758,252.756 ,252.755,252.754,252.753,252.757)
ORBIT_NUMBER = 3254
ORBITAL_ECCENTRICITY = 0.569
ORBITAL_INCLINATION = 86.68
ORBITAL_SEMIMAJOR_AXIS = 8605.2
PERIAPSIS_ALTITUDE = 322.93
PERIAPSIS_ARGUMENT_ANGLE = 145.98
PERIAPSIS_TIME = 2006-07-22T19:46:36.000Z
SPACECRAFT_ORIENTATION = (0.0,-1.0,0.0)
^MEX_ORIENTATION_DESC = "MEX_ORIENTATION_DESC.TXT"
SPACECRAFT_POINTING_MODE = ACROSSTRACK
^MEX_POINTING_DESC = "MEX_POINTING_DESC.TXT"
RIGHT_ASCENSION = -1e+32
DECLINATION = -1e+32
OFFSET_ANGLE = 0.19
SPACECRAFT_SOLAR_DISTANCE = 2.48701e+08
TARGET_NAME = MARS
/* CAMERA DATA ELEMENTS */
DETECTOR_TEMPERATURE = 17.351
FOCAL_PLANE_TEMPERATURE = 8.3794
INST_CMPRS_NAME = "DISCRETE COSINE TRANSFORMATION (DCT)"
INST_CMPRS_RATIO = 25.7565
INST_CMPRS_QUALITY = 0
INST_CMPRS_QUANTZ_TBL_ID = 0
INSTRUMENT_TEMPERATURE = 11.234
LENS_TEMPERATURE = 8.7872
MACROPIXEL_SIZE = 8
MISSING_FRAMES = 0
PIXEL_SUBSAMPLING_FLAG = N
SIGNAL_CHAIN_ID = 2
/* RADIOMETRIC DATA ELEMENTS */
BANDWIDTH = 81.0
CENTER_FILTER_WAVELENGTH = 955.5
RADIANCE_OFFSET = 2.31004
RADIANCE_SCALING_FACTOR = 0.00326123
REFLECTANCE_SCALING_FACTOR = 0.000435176
MEX:REFLECTANCE_OFFSET = 0.30825
/* IMAGE OBJECT DEFINITIONS */
OBJECT = IMAGE
  INTERCHANGE_FORMAT = BINARY
  LINES = 6388
  LINE_SAMPLES = 1008
  SAMPLE_TYPE = UNSIGNED_INTEGER
  SAMPLE_BITS = 8
  BANDS = 1
  BAND_STORAGE_TYPE = BAND_SEQUENTIAL
  MAXIMUM = 255
  MEAN = 165.57
  MINIMUM = 1
  STANDARD_DEVIATION = 35.4846
END_OBJECT = IMAGE
/* MAP OBJECT DEFINITIONS */
OBJECT = IMAGE_MAP_PROJECTION
  ^DATA_SET_MAP_PROJECTION_CATALOG= "DSMAP.CAT"
  A_AXIS_RADIUS = 3396.0
  B_AXIS_RADIUS = 3396.0
  C_AXIS_RADIUS = 3396.0
  CENTER_LATITUDE = 0.0
  CENTER_LONGITUDE = 252.0
  COORDINATE_SYSTEM_NAME = PLANETOGRAPHIC
  COORDINATE_SYSTEM_TYPE = "BODY-FIXED ROTATING"
  EASTERNMOST_LONGITUDE = 252.813
  FIRST_STANDARD_PARALLEL = "N/A"
  LINE_FIRST_PIXEL = 1
  LINE_LAST_PIXEL = 6388
  LINE_PROJECTION_OFFSET = 9334.9375
  MAP_PROJECTION_ROTATION = 0.0
  MAP_PROJECTION_TYPE = SINUSOIDAL
  MAP_RESOLUTION = 592.713803866667
  MAP_SCALE = 0.1
  MAXIMUM_LATITUDE = 15.7605
  MINIMUM_LATITUDE = 4.97913
  POSITIVE_LONGITUDE_DIRECTION = EAST
  REFERENCE_LATITUDE = "N/A"
  REFERENCE_LONGITUDE = "N/A"
  SAMPLE_FIRST_PIXEL = 1
  SAMPLE_LAST_PIXEL = 1008
  SAMPLE_PROJECTION_OFFSET = 502.9375
  SECOND_STANDARD_PARALLEL = "N/A"
  WESTERNMOST_LONGITUDE = 251.21
END_OBJECT = IMAGE_MAP_PROJECTION
END
