PDS_VERSION_ID = PDS3
/* FILE DATA ELEMENTS */
RECORD_TYPE = UNDEFINED
/* POINTERS TO DATA OBJECTS */
^IMAGE = ("H3253_0001_S14.TIF")
/* IDENTIFICATION DATA ELEMENTS */
DATA_SET_ID = "MEX-M-HRSC-4-REFDR-MAPPROJECT-EXT1-V4.0"
DATA_SET_NAME = "MARS EXPRESS HRSC MAP PROJECTED REFDR EXTENSION1 V4.0"
DETECTOR_ID = MEX_HRSC_S1
EVENT_TYPE = "MARS-REGIONAL-MAPPING-Im-Lc-La"
INSTRUMENT_HOST_ID = MEX
INSTRUMENT_HOST_NAME = "MARS EXPRESS"
INSTRUMENT_ID = HRSC
INSTRUMENT_NAME = "HIGH RESOLUTION STEREO CAMERA"
MISSION_NAME = "MARS EXPRESS"
MISSION_PHASE_NAME = ME_Phase_3
PROCESSING_LEVEL_ID = 4
PRODUCT_CREATION_TIME = 2023-02-09T11:24:25.000Z
PRODUCT_ID = "H3253_0001_S14.TIF"
RELEASE_ID = 0003
REVISION_ID = 0000
/* QUALITY DATA ELEMENTS */
DATA_QUALITY_ID = 1
DATA_QUALITY_DESC = "Data calculated based on original SPICE kernels"
/* TIME DATA ELEMENTS */
SPACECRAFT_CLOCK_START_COUNT = "1/0101653508.08280"
SPACECRAFT_CLOCK_STOP_COUNT = "1/0101653660.40356"
START_TIME = 2006-07-22T13:05:13.330Z
STOP_TIME = 2006-07-22T13:06:37.033Z
/* ORBITAL DATA ELEMENTS */
ASCENDING_NODE_LONGITUDE = 159.97
MAXIMUM_RESOLUTION = 0.0284
FOOTPRINT_POINT_LATITUDE = (24.6045,24.6116,24.6163,24.6204, 24.6241,24.6274,24.6302,24.6303,24.5952 ,24.4303,24.3206,24.1077,23.8382, 23.7299,23.6208,23.5114,23.4033,23.2947 ,23.1859,23.0779,22.9159,22.7532, 22.6421,22.5299,22.3615,22.1935,22.0815 ,21.9692,21.8571,21.7451,21.5775, 21.4096,21.2412,21.1289,20.9606,20.848, 20.6806,20.5131,20.3457,20.178,20.0661, 19.8983,19.7313,19.5589,19.4439,19.2688 ,19.1552,19.099,19.0441,19.0444,19.0486 ,19.0447,19.0377,19.0339,19.0311, 19.0269,19.0265,19.0268,19.1366,19.3003 ,19.4669,19.6334,19.8033,19.9156,20.084 ,20.197,20.3124,20.4267,20.5969,20.7083 ,20.8165,20.9801,21.1443,21.2562, 21.3687,21.4815,21.594,21.7637,21.933, 22.1011,22.2134,22.3822,22.4942,22.607, 22.7751,22.9409,23.1059,23.2144,23.3233 ,23.4313,23.5403,23.6492,23.8112, 23.9195,24.0813,24.1895,24.352,24.4608, 24.5151,24.6045)
FOOTPRINT_POINT_LONGITUDE = (351.235,350.96,350.761,350.563,350.367 ,350.171,349.976,349.964,349.957, 349.957,349.958,349.958,349.959,349.959 ,349.96,349.96,349.96,349.96,349.96, 349.96,349.96,349.96,349.96,349.96, 349.96,349.96,349.959,349.959,349.959, 349.959,349.959,349.958,349.958,349.957 ,349.957,349.956,349.956,349.955, 349.954,349.954,349.953,349.952,349.952 ,349.95,349.949,349.947,349.946,349.946 ,349.946,350.226,350.404,350.582, 350.827,350.956,351.072,351.254,351.267 ,351.272,351.272,351.274,351.275, 351.275,351.274,351.273,351.273,351.272 ,351.27,351.268,351.267,351.267,351.269 ,351.271,351.272,351.272,351.272, 351.271,351.271,351.269,351.268,351.268 ,351.267,351.267,351.266,351.266, 351.264,351.261,351.26,351.259,351.259, 351.259,351.258,351.257,351.257,351.257 ,351.257,351.257,351.257,351.256, 351.256,351.235)
ORBIT_NUMBER = 3253
ORBITAL_ECCENTRICITY = 0.568
ORBITAL_INCLINATION = 86.68
ORBITAL_SEMIMAJOR_AXIS = 8593.35
PERIAPSIS_ALTITUDE = 323.53
PERIAPSIS_ARGUMENT_ANGLE = 146.16
PERIAPSIS_TIME = 2006-07-22T13:03:22.000Z
SPACECRAFT_ORIENTATION = (0.0,-1.0,0.0)
^MEX_ORIENTATION_DESC = "MEX_ORIENTATION_DESC.TXT"
SPACECRAFT_POINTING_MODE = ACROSSTRACK
^MEX_POINTING_DESC = "MEX_POINTING_DESC.TXT"
RIGHT_ASCENSION = -1e+32
DECLINATION = -1e+32
OFFSET_ANGLE = 0.4
SPACECRAFT_SOLAR_DISTANCE = 2.48712e+08
TARGET_NAME = MARS
/* CAMERA DATA ELEMENTS */
DETECTOR_TEMPERATURE = 18.3705
FOCAL_PLANE_TEMPERATURE = 7.9716
INST_CMPRS_NAME = "DISCRETE COSINE TRANSFORMATION (DCT)"
INST_CMPRS_RATIO = 10.4689
INST_CMPRS_QUALITY = 0
INST_CMPRS_QUANTZ_TBL_ID = 0
INSTRUMENT_TEMPERATURE = 12.2535
LENS_TEMPERATURE = 8.5833
MACROPIXEL_SIZE = 2
MISSING_FRAMES = 0
PIXEL_SUBSAMPLING_FLAG = N
SIGNAL_CHAIN_ID = 1
/* RADIOMETRIC DATA ELEMENTS */
BANDWIDTH = 180.0
CENTER_FILTER_WAVELENGTH = 677.0
RADIANCE_OFFSET = 4.06943
RADIANCE_SCALING_FACTOR = 0.0277312
REFLECTANCE_SCALING_FACTOR = 0.000894964
MEX:REFLECTANCE_OFFSET = 0.131332
/* IMAGE OBJECT DEFINITIONS */
OBJECT = IMAGE
  INTERCHANGE_FORMAT = BINARY
  LINES = 13144
  LINE_SAMPLES = 3063
  SAMPLE_TYPE = UNSIGNED_INTEGER
  SAMPLE_BITS = 8
  BANDS = 1
  BAND_STORAGE_TYPE = BAND_SEQUENTIAL
  MAXIMUM = 255
  MEAN = 148.024
  MINIMUM = 1
  STANDARD_DEVIATION = 29.8557
END_OBJECT = IMAGE
/* MAP OBJECT DEFINITIONS */
OBJECT = IMAGE_MAP_PROJECTION
  ^DATA_SET_MAP_PROJECTION_CATALOG= "DSMAP.CAT"
  A_AXIS_RADIUS = 3396.0
  B_AXIS_RADIUS = 3396.0
  C_AXIS_RADIUS = 3396.0
  CENTER_LATITUDE = 0.0
  CENTER_LONGITUDE = 351.0
  COORDINATE_SYSTEM_NAME = PLANETOGRAPHIC
  COORDINATE_SYSTEM_TYPE = "BODY-FIXED ROTATING"
  EASTERNMOST_LONGITUDE = 351.275
  FIRST_STANDARD_PARALLEL = "N/A"
  LINE_FIRST_PIXEL = 1
  LINE_LAST_PIXEL = 13144
  LINE_PROJECTION_OFFSET = 58330.75
  MAP_PROJECTION_ROTATION = 0.0
  MAP_PROJECTION_TYPE = SINUSOIDAL
  MAP_RESOLUTION = 2370.85521546667
  MAP_SCALE = 0.025
  MAXIMUM_LATITUDE = 24.6303
  MINIMUM_LATITUDE = 19.0265
  POSITIVE_LONGITUDE_DIRECTION = EAST
  REFERENCE_LATITUDE = "N/A"
  REFERENCE_LONGITUDE = "N/A"
  SAMPLE_FIRST_PIXEL = 1
  SAMPLE_LAST_PIXEL = 3063
  SAMPLE_PROJECTION_OFFSET = 2417.75
  SECOND_STANDARD_PARALLEL = "N/A"
  WESTERNMOST_LONGITUDE = 349.946
END_OBJECT = IMAGE_MAP_PROJECTION
END
