PDS_VERSION_ID = PDS3
/* FILE DATA ELEMENTS */
RECORD_TYPE = UNDEFINED
/* POINTERS TO DATA OBJECTS */
^IMAGE = ("H3253_0000_S24.TIF")
/* IDENTIFICATION DATA ELEMENTS */
DATA_SET_ID = "MEX-M-HRSC-4-REFDR-MAPPROJECT-EXT1-V4.0"
DATA_SET_NAME = "MARS EXPRESS HRSC MAP PROJECTED REFDR EXTENSION1 V4.0"
DETECTOR_ID = MEX_HRSC_S2
EVENT_TYPE = "MARS-LOCAL-STEREO-Eo-Mw-Ot"
INSTRUMENT_HOST_ID = MEX
INSTRUMENT_HOST_NAME = "MARS EXPRESS"
INSTRUMENT_ID = HRSC
INSTRUMENT_NAME = "HIGH RESOLUTION STEREO CAMERA"
MISSION_NAME = "MARS EXPRESS"
MISSION_PHASE_NAME = ME_Phase_3
PROCESSING_LEVEL_ID = 4
PRODUCT_CREATION_TIME = 2023-02-09T11:24:25.000Z
PRODUCT_ID = "H3253_0000_S24.TIF"
RELEASE_ID = 0003
REVISION_ID = 0000
/* QUALITY DATA ELEMENTS */
DATA_QUALITY_ID = 1
DATA_QUALITY_DESC = "Data calculated based on original SPICE kernels"
/* TIME DATA ELEMENTS */
SPACECRAFT_CLOCK_START_COUNT = "1/0101653215.08405"
SPACECRAFT_CLOCK_STOP_COUNT = "1/0101653371.42354"
START_TIME = 2006-07-22T13:01:23.314Z
STOP_TIME = 2006-07-22T13:02:54.807Z
/* ORBITAL DATA ELEMENTS */
ASCENDING_NODE_LONGITUDE = 159.97
MAXIMUM_RESOLUTION = 0.014
FOOTPRINT_POINT_LATITUDE = (43.5247,43.5134,43.504,43.4943,43.4844 ,43.4743,43.4638,43.4631,43.549,43.3608 ,43.2354,43.1102,42.9853,42.8603, 42.7391,42.6175,42.4961,42.3746,42.2538 ,42.1323,41.9504,41.7688,41.5869, 41.4655,41.2835,41.1622,41.0413,40.9197 ,40.799,40.6778,40.4957,40.3742,40.2538 ,40.1321,40.0077,39.8867,39.5879,39.408 ,39.2266,39.0449,38.9236,38.7425,38.622 ,38.3297,38.0386,37.8636,37.5717, 37.5134,37.4992,37.5081,37.5141,37.5221 ,37.5309,37.5394,37.5495,37.5501, 37.5506,37.7838,38.0177,38.2513,38.4266 ,38.6621,38.7829,38.9641,39.0843,39.205 ,39.3259,39.5077,39.6289,39.7505, 39.8715,40.0529,40.1744,40.3563,40.4774 ,40.5989,40.7812,40.9629,41.0842, 41.2061,41.3277,41.4498,41.5712,41.6927 ,41.8747,41.9962,42.1181,42.2395, 42.4217,42.5432,42.6645,42.7856,42.9064 ,43.0318,43.1585,43.2852,43.4088, 43.5345,43.5976,43.5247)
FOOTPRINT_POINT_LONGITUDE = (351.061,350.739,350.483,350.229, 349.976,349.725,349.474,349.459,349.436 ,349.447,349.455,349.462,349.469, 349.476,349.483,349.49,349.496,349.503, 349.509,349.516,349.526,349.535,349.544 ,349.55,349.559,349.565,349.571,349.577 ,349.583,349.589,349.597,349.603, 349.608,349.614,349.619,349.625,349.637 ,349.645,349.652,349.659,349.664, 349.671,349.676,349.687,349.698,349.704 ,349.715,349.717,349.717,349.946, 350.119,350.35,350.612,350.875,351.17, 351.185,351.193,351.19,351.188,351.186, 351.184,351.182,351.182,351.18,351.178, 351.176,351.175,351.173,351.172,351.171 ,351.169,351.167,351.166,351.163, 351.162,351.161,351.159,351.156,351.155 ,351.153,351.152,351.151,351.149, 351.148,351.145,351.144,351.142,351.141 ,351.138,351.136,351.135,351.133,351.13 ,351.129,351.128,351.127,351.123, 351.121,351.121,351.061)
ORBIT_NUMBER = 3253
ORBITAL_ECCENTRICITY = 0.568
ORBITAL_INCLINATION = 86.68
ORBITAL_SEMIMAJOR_AXIS = 8593.35
PERIAPSIS_ALTITUDE = 323.53
PERIAPSIS_ARGUMENT_ANGLE = 146.16
PERIAPSIS_TIME = 2006-07-22T13:03:22.000Z
SPACECRAFT_ORIENTATION = (0.0,-1.0,0.0)
^MEX_ORIENTATION_DESC = "MEX_ORIENTATION_DESC.TXT"
SPACECRAFT_POINTING_MODE = ACROSSTRACK
^MEX_POINTING_DESC = "MEX_POINTING_DESC.TXT"
RIGHT_ASCENSION = -1e+32
DECLINATION = -1e+32
OFFSET_ANGLE = 0.4
SPACECRAFT_SOLAR_DISTANCE = 2.48712e+08
TARGET_NAME = MARS
/* CAMERA DATA ELEMENTS */
DETECTOR_TEMPERATURE = 18.3705
FOCAL_PLANE_TEMPERATURE = 8.1755
INST_CMPRS_NAME = "DISCRETE COSINE TRANSFORMATION (DCT)"
INST_CMPRS_RATIO = 7.52011
INST_CMPRS_QUALITY = 0
INST_CMPRS_QUANTZ_TBL_ID = 0
INSTRUMENT_TEMPERATURE = 11.0301
LENS_TEMPERATURE = 8.5833
MACROPIXEL_SIZE = 1
MISSING_FRAMES = 0
PIXEL_SUBSAMPLING_FLAG = N
SIGNAL_CHAIN_ID = 1
/* RADIOMETRIC DATA ELEMENTS */
BANDWIDTH = 178.0
CENTER_FILTER_WAVELENGTH = 679.0
RADIANCE_OFFSET = 3.75742
RADIANCE_SCALING_FACTOR = 0.0217006
REFLECTANCE_SCALING_FACTOR = 0.000710881
MEX:REFLECTANCE_OFFSET = 0.123088
/* IMAGE OBJECT DEFINITIONS */
OBJECT = IMAGE
  INTERCHANGE_FORMAT = BINARY
  LINES = 28839
  LINE_SAMPLES = 6459
  SAMPLE_TYPE = UNSIGNED_INTEGER
  SAMPLE_BITS = 8
  BANDS = 1
  BAND_STORAGE_TYPE = BAND_SEQUENTIAL
  MAXIMUM = 255
  MEAN = 105.077
  MINIMUM = 1
  STANDARD_DEVIATION = 40.7234
END_OBJECT = IMAGE
/* MAP OBJECT DEFINITIONS */
OBJECT = IMAGE_MAP_PROJECTION
  ^DATA_SET_MAP_PROJECTION_CATALOG= "DSMAP.CAT"
  A_AXIS_RADIUS = 3396.0
  B_AXIS_RADIUS = 3396.0
  C_AXIS_RADIUS = 3396.0
  CENTER_LATITUDE = 0.0
  CENTER_LONGITUDE = 350.0
  COORDINATE_SYSTEM_NAME = PLANETOGRAPHIC
  COORDINATE_SYSTEM_TYPE = "BODY-FIXED ROTATING"
  EASTERNMOST_LONGITUDE = 351.193
  FIRST_STANDARD_PARALLEL = "N/A"
  LINE_FIRST_PIXEL = 1
  LINE_LAST_PIXEL = 28839
  LINE_PROJECTION_OFFSET = 206634.0
  MAP_PROJECTION_ROTATION = 0.0
  MAP_PROJECTION_TYPE = SINUSOIDAL
  MAP_RESOLUTION = 4741.71043093333
  MAP_SCALE = 0.0125
  MAXIMUM_LATITUDE = 43.5976
  MINIMUM_LATITUDE = 37.4992
  POSITIVE_LONGITUDE_DIRECTION = EAST
  REFERENCE_LATITUDE = "N/A"
  REFERENCE_LONGITUDE = "N/A"
  SAMPLE_FIRST_PIXEL = 1
  SAMPLE_LAST_PIXEL = 6459
  SAMPLE_PROJECTION_OFFSET = 1991.0
  SECOND_STANDARD_PARALLEL = "N/A"
  WESTERNMOST_LONGITUDE = 349.436
END_OBJECT = IMAGE_MAP_PROJECTION
END
