PDS_VERSION_ID = PDS3
/* FILE DATA ELEMENTS */
RECORD_TYPE = UNDEFINED
/* POINTERS TO DATA OBJECTS */
^IMAGE = ("H3246_0000_P24.TIF")
/* IDENTIFICATION DATA ELEMENTS */
DATA_SET_ID = "MEX-M-HRSC-4-REFDR-MAPPROJECT-EXT1-V4.0"
DATA_SET_NAME = "MARS EXPRESS HRSC MAP PROJECTED REFDR EXTENSION1 V4.0"
DETECTOR_ID = MEX_HRSC_P2
EVENT_TYPE = "MARS-REGIONAL-MAPPING-Fl-La"
INSTRUMENT_HOST_ID = MEX
INSTRUMENT_HOST_NAME = "MARS EXPRESS"
INSTRUMENT_ID = HRSC
INSTRUMENT_NAME = "HIGH RESOLUTION STEREO CAMERA"
MISSION_NAME = "MARS EXPRESS"
MISSION_PHASE_NAME = ME_Phase_3
PROCESSING_LEVEL_ID = 4
PRODUCT_CREATION_TIME = 2023-02-09T11:24:25.000Z
PRODUCT_ID = "H3246_0000_P24.TIF"
RELEASE_ID = 0003
REVISION_ID = 0000
/* QUALITY DATA ELEMENTS */
DATA_QUALITY_ID = 1
DATA_QUALITY_DESC = "Data calculated based on original SPICE kernels"
/* TIME DATA ELEMENTS */
SPACECRAFT_CLOCK_START_COUNT = "1/0101484198.09061"
SPACECRAFT_CLOCK_STOP_COUNT = "1/0101484413.57926"
START_TIME = 2006-07-20T14:04:14.780Z
STOP_TIME = 2006-07-20T14:06:42.697Z
/* ORBITAL DATA ELEMENTS */
ASCENDING_NODE_LONGITUDE = 160.11
MAXIMUM_RESOLUTION = 0.0593
FOOTPRINT_POINT_LATITUDE = (20.6445,20.6472,20.649,20.6507,20.6524 ,20.6541,20.6558,20.6559,20.6833, 20.3576,20.0324,19.7887,19.4641,19.0593 ,18.736,18.4135,18.0915,17.8125,17.6208 ,17.4293,17.2381,17.047,16.856,16.6646, 16.3784,16.1881,15.9981,15.8081,15.6187 ,15.4295,15.2404,15.0514,14.8629, 14.6745,14.4862,14.2978,14.1107,13.9233 ,13.7361,13.5491,13.2687,13.0821, 12.8959,12.7097,12.524,12.3383,12.153, 11.9682,11.783,11.6906,11.6096,11.6047, 11.6027,11.6,11.5907,11.5861,11.5859, 11.5868,11.7713,11.9567,12.1417,12.3278 ,12.6072,12.794,13.074,13.3554,13.5428, 13.7294,13.9181,14.2003,14.3883,14.5766 ,14.7647,15.0472,15.2367,15.4248, 15.6153,15.8051,15.9951,16.1852,16.3755 ,16.566,16.7568,16.948,17.1391,17.3305, 17.5221,17.714,17.906,18.0872,18.4097, 18.7329,18.9753,19.2992,19.6243,19.9493 ,20.1935,20.5194,20.601,20.6445)
FOOTPRINT_POINT_LONGITUDE = (318.5,318.207,318.01,317.813,317.616, 317.418,317.193,317.181,317.157,317.157 ,317.156,317.156,317.155,317.154, 317.153,317.151,317.15,317.148,317.147, 317.145,317.144,317.143,317.141,317.14, 317.138,317.137,317.135,317.133,317.131 ,317.129,317.127,317.125,317.123,317.12 ,317.118,317.116,317.113,317.11,317.108 ,317.105,317.101,317.098,317.095, 317.093,317.09,317.087,317.083,317.08, 317.077,317.075,317.074,317.361,317.561 ,317.861,318.274,318.585,318.599, 318.604,318.602,318.6,318.598,318.596, 318.593,318.591,318.588,318.585,318.583 ,318.581,318.58,318.577,318.575,318.573 ,318.57,318.567,318.565,318.563,318.561 ,318.559,318.557,318.555,318.553, 318.551,318.549,318.547,318.545,318.543 ,318.541,318.539,318.537,318.535, 318.531,318.528,318.525,318.522,318.518 ,318.515,318.512,318.508,318.508,318.5)
ORBIT_NUMBER = 3246
ORBITAL_ECCENTRICITY = 0.568
ORBITAL_INCLINATION = 86.69
ORBITAL_SEMIMAJOR_AXIS = 8594.42
PERIAPSIS_ALTITUDE = 322.67
PERIAPSIS_ARGUMENT_ANGLE = 147.43
PERIAPSIS_TIME = 2006-07-20T14:00:52.000Z
SPACECRAFT_ORIENTATION = (0.0,-1.0,0.0)
^MEX_ORIENTATION_DESC = "MEX_ORIENTATION_DESC.TXT"
SPACECRAFT_POINTING_MODE = ACROSSTRACK
^MEX_POINTING_DESC = "MEX_POINTING_DESC.TXT"
RIGHT_ASCENSION = -1e+32
DECLINATION = -1e+32
OFFSET_ANGLE = -0.3
SPACECRAFT_SOLAR_DISTANCE = 2.48787e+08
TARGET_NAME = MARS
/* CAMERA DATA ELEMENTS */
DETECTOR_TEMPERATURE = 18.1666
FOCAL_PLANE_TEMPERATURE = 8.1755
INST_CMPRS_NAME = "DISCRETE COSINE TRANSFORMATION (DCT)"
INST_CMPRS_RATIO = 8.03971
INST_CMPRS_QUALITY = 0
INST_CMPRS_QUANTZ_TBL_ID = 0
INSTRUMENT_TEMPERATURE = 10.8262
LENS_TEMPERATURE = 8.5833
MACROPIXEL_SIZE = 4
MISSING_FRAMES = 0
PIXEL_SUBSAMPLING_FLAG = N
SIGNAL_CHAIN_ID = 3
/* RADIOMETRIC DATA ELEMENTS */
BANDWIDTH = 177.0
CENTER_FILTER_WAVELENGTH = 676.5
RADIANCE_OFFSET = 3.78931
RADIANCE_SCALING_FACTOR = 0.0195626
REFLECTANCE_SCALING_FACTOR = 0.000642002
MEX:REFLECTANCE_OFFSET = 0.124357
/* IMAGE OBJECT DEFINITIONS */
OBJECT = IMAGE
  INTERCHANGE_FORMAT = BINARY
  LINES = 10772
  LINE_SAMPLES = 1715
  SAMPLE_TYPE = UNSIGNED_INTEGER
  SAMPLE_BITS = 8
  BANDS = 1
  BAND_STORAGE_TYPE = BAND_SEQUENTIAL
  MAXIMUM = 255
  MEAN = 138.487
  MINIMUM = 1
  STANDARD_DEVIATION = 29.7553
END_OBJECT = IMAGE
/* MAP OBJECT DEFINITIONS */
OBJECT = IMAGE_MAP_PROJECTION
  ^DATA_SET_MAP_PROJECTION_CATALOG= "DSMAP.CAT"
  A_AXIS_RADIUS = 3396.0
  B_AXIS_RADIUS = 3396.0
  C_AXIS_RADIUS = 3396.0
  CENTER_LATITUDE = 0.0
  CENTER_LONGITUDE = 318.0
  COORDINATE_SYSTEM_NAME = PLANETOGRAPHIC
  COORDINATE_SYSTEM_TYPE = "BODY-FIXED ROTATING"
  EASTERNMOST_LONGITUDE = 318.604
  FIRST_STANDARD_PARALLEL = "N/A"
  LINE_FIRST_PIXEL = 1
  LINE_LAST_PIXEL = 10772
  LINE_PROJECTION_OFFSET = 24484.875
  MAP_PROJECTION_ROTATION = 0.0
  MAP_PROJECTION_TYPE = SINUSOIDAL
  MAP_RESOLUTION = 1185.42760773333
  MAP_SCALE = 0.05
  MAXIMUM_LATITUDE = 20.6833
  MINIMUM_LATITUDE = 11.5859
  POSITIVE_LONGITUDE_DIRECTION = EAST
  REFERENCE_LATITUDE = "N/A"
  REFERENCE_LONGITUDE = "N/A"
  SAMPLE_FIRST_PIXEL = 1
  SAMPLE_LAST_PIXEL = 1715
  SAMPLE_PROJECTION_OFFSET = 1044.375
  SECOND_STANDARD_PARALLEL = "N/A"
  WESTERNMOST_LONGITUDE = 317.074
END_OBJECT = IMAGE_MAP_PROJECTION
END
