PDS_VERSION_ID = PDS3
/* FILE DATA ELEMENTS */
RECORD_TYPE = UNDEFINED
/* POINTERS TO DATA OBJECTS */
^IMAGE = ("H3235_0000_P14.TIF")
/* IDENTIFICATION DATA ELEMENTS */
DATA_SET_ID = "MEX-M-HRSC-4-REFDR-MAPPROJECT-EXT1-V4.0"
DATA_SET_NAME = "MARS EXPRESS HRSC MAP PROJECTED REFDR EXTENSION1 V4.0"
DETECTOR_ID = MEX_HRSC_P1
EVENT_TYPE = "MARS-REGIONAL-MAPPING-Im-Fl"
INSTRUMENT_HOST_ID = MEX
INSTRUMENT_HOST_NAME = "MARS EXPRESS"
INSTRUMENT_ID = HRSC
INSTRUMENT_NAME = "HIGH RESOLUTION STEREO CAMERA"
MISSION_NAME = "MARS EXPRESS"
MISSION_PHASE_NAME = ME_Phase_3
PROCESSING_LEVEL_ID = 4
PRODUCT_CREATION_TIME = 2023-02-09T11:24:25.000Z
PRODUCT_ID = "H3235_0000_P14.TIF"
RELEASE_ID = 0003
REVISION_ID = 0000
/* QUALITY DATA ELEMENTS */
DATA_QUALITY_ID = 1
DATA_QUALITY_DESC = "Data calculated based on original SPICE kernels"
/* TIME DATA ELEMENTS */
SPACECRAFT_CLOCK_START_COUNT = "1/0101217808.08263"
SPACECRAFT_CLOCK_STOP_COUNT = "1/0101218062.31354"
START_TIME = 2006-07-17T12:03:44.597Z
STOP_TIME = 2006-07-17T12:06:54.213Z
/* ORBITAL DATA ELEMENTS */
ASCENDING_NODE_LONGITUDE = 160.34
MAXIMUM_RESOLUTION = 0.0548
FOOTPRINT_POINT_LATITUDE = (36.5948,36.6362,36.6632,36.6869, 36.6875,36.6414,36.032,35.6657,35.4216, 35.1771,34.9325,34.6877,34.4429,34.1978 ,33.9524,33.5835,33.3376,33.0917, 32.8456,32.5995,32.2299,31.9834,31.7368 ,31.3665,31.1197,30.7488,30.5017, 30.2543,29.8833,29.6357,29.2641,29.0163 ,28.7683,28.5201,28.148,27.7757,27.5272 ,27.2787,27.0301,26.6571,26.2844, 26.0355,25.6624,25.4134,25.1645,24.7911 ,24.4177,24.2932,24.2636,24.2359, 24.2043,24.1603,24.1591,24.1596,24.4087 ,24.6577,24.9068,25.1559,25.4049, 25.6539,25.9026,26.1515,26.4006,26.7735 ,27.022,27.2705,27.519,27.7676,28.0162, 28.2644,28.6367,29.0087,29.2566,29.5044 ,29.8761,30.1235,30.3708,30.6181,30.989 ,31.3597,31.607,31.8537,32.1002,32.3474 ,32.5935,32.9628,33.2089,33.5772, 33.8227,34.191,34.4365,34.6824,34.9269, 35.1716,35.5387,35.7832,36.0273,36.3934 ,36.5152,36.5948)
FOOTPRINT_POINT_LONGITUDE = (322.054,321.402,320.931,320.48,320.466 ,320.514,320.523,320.527,320.53,320.533 ,320.535,320.537,320.539,320.542, 320.544,320.547,320.549,320.551,320.552 ,320.554,320.556,320.557,320.558, 320.559,320.56,320.561,320.561,320.562, 320.562,320.562,320.562,320.562,320.562 ,320.562,320.561,320.56,320.559,320.559 ,320.558,320.557,320.555,320.554, 320.552,320.55,320.549,320.547,320.544, 320.543,320.543,320.942,321.373,321.938 ,321.952,321.957,321.96,321.964,321.967 ,321.97,321.973,321.977,321.98,321.983, 321.987,321.992,321.996,322.0,322.003, 322.007,322.01,322.014,322.02,322.026, 322.03,322.034,322.04,322.044,322.049, 322.053,322.059,322.066,322.069,322.074 ,322.078,322.082,322.087,322.094, 322.098,322.106,322.111,322.118,322.122 ,322.125,322.131,322.136,322.143, 322.148,322.153,322.16,322.163,322.054)
ORBIT_NUMBER = 3235
ORBITAL_ECCENTRICITY = 0.568
ORBITAL_INCLINATION = 86.69
ORBITAL_SEMIMAJOR_AXIS = 8596.98
PERIAPSIS_ALTITUDE = 321.39
PERIAPSIS_ARGUMENT_ANGLE = 149.38
PERIAPSIS_TIME = 2006-07-17T12:05:37.000Z
SPACECRAFT_ORIENTATION = (0.0,-1.0,0.0)
^MEX_ORIENTATION_DESC = "MEX_ORIENTATION_DESC.TXT"
SPACECRAFT_POINTING_MODE = ACROSSTRACK
^MEX_POINTING_DESC = "MEX_POINTING_DESC.TXT"
RIGHT_ASCENSION = -1e+32
DECLINATION = -1e+32
OFFSET_ANGLE = 1.73
SPACECRAFT_SOLAR_DISTANCE = 2.48892e+08
TARGET_NAME = MARS
/* CAMERA DATA ELEMENTS */
DETECTOR_TEMPERATURE = 17.7588
FOCAL_PLANE_TEMPERATURE = 7.9716
INST_CMPRS_NAME = "DISCRETE COSINE TRANSFORMATION (DCT)"
INST_CMPRS_RATIO = 9.17322
INST_CMPRS_QUALITY = 0
INST_CMPRS_QUANTZ_TBL_ID = 0
INSTRUMENT_TEMPERATURE = 11.0301
LENS_TEMPERATURE = 8.3794
MACROPIXEL_SIZE = 4
MISSING_FRAMES = 0
PIXEL_SUBSAMPLING_FLAG = N
SIGNAL_CHAIN_ID = 3
/* RADIOMETRIC DATA ELEMENTS */
BANDWIDTH = 174.0
CENTER_FILTER_WAVELENGTH = 675.0
RADIANCE_OFFSET = 3.793
RADIANCE_SCALING_FACTOR = 0.0173918
REFLECTANCE_SCALING_FACTOR = 0.000579496
MEX:REFLECTANCE_OFFSET = 0.126383
/* IMAGE OBJECT DEFINITIONS */
OBJECT = IMAGE
  INTERCHANGE_FORMAT = BINARY
  LINES = 14682
  LINE_SAMPLES = 1603
  SAMPLE_TYPE = UNSIGNED_INTEGER
  SAMPLE_BITS = 8
  BANDS = 1
  BAND_STORAGE_TYPE = BAND_SEQUENTIAL
  MAXIMUM = 255
  MEAN = 94.3666
  MINIMUM = 1
  STANDARD_DEVIATION = 18.6286
END_OBJECT = IMAGE
/* MAP OBJECT DEFINITIONS */
OBJECT = IMAGE_MAP_PROJECTION
  ^DATA_SET_MAP_PROJECTION_CATALOG= "DSMAP.CAT"
  A_AXIS_RADIUS = 3396.0
  B_AXIS_RADIUS = 3396.0
  C_AXIS_RADIUS = 3396.0
  CENTER_LATITUDE = 0.0
  CENTER_LONGITUDE = 321.0
  COORDINATE_SYSTEM_NAME = PLANETOGRAPHIC
  COORDINATE_SYSTEM_TYPE = "BODY-FIXED ROTATING"
  EASTERNMOST_LONGITUDE = 322.163
  FIRST_STANDARD_PARALLEL = "N/A"
  LINE_FIRST_PIXEL = 1
  LINE_LAST_PIXEL = 14682
  LINE_PROJECTION_OFFSET = 43412.125
  MAP_PROJECTION_ROTATION = 0.0
  MAP_PROJECTION_TYPE = SINUSOIDAL
  MAP_RESOLUTION = 1185.42760773333
  MAP_SCALE = 0.05
  MAXIMUM_LATITUDE = 36.6875
  MINIMUM_LATITUDE = 24.1591
  POSITIVE_LONGITUDE_DIRECTION = EAST
  REFERENCE_LATITUDE = "N/A"
  REFERENCE_LONGITUDE = "N/A"
  SAMPLE_FIRST_PIXEL = 1
  SAMPLE_LAST_PIXEL = 1603
  SAMPLE_PROJECTION_OFFSET = 511.375
  SECOND_STANDARD_PARALLEL = "N/A"
  WESTERNMOST_LONGITUDE = 320.466
END_OBJECT = IMAGE_MAP_PROJECTION
END
