PDS_VERSION_ID = PDS3
/* FILE DATA ELEMENTS */
RECORD_TYPE = UNDEFINED
/* POINTERS TO DATA OBJECTS */
^IMAGE = ("H3225_0000_P14.TIF")
/* IDENTIFICATION DATA ELEMENTS */
DATA_SET_ID = "MEX-M-HRSC-4-REFDR-MAPPROJECT-EXT1-V4.0"
DATA_SET_NAME = "MARS EXPRESS HRSC MAP PROJECTED REFDR EXTENSION1 V4.0"
DETECTOR_ID = MEX_HRSC_P1
EVENT_TYPE = "MARS-LOCAL-STEREO-Vo-Gl-Mw"
INSTRUMENT_HOST_ID = MEX
INSTRUMENT_HOST_NAME = "MARS EXPRESS"
INSTRUMENT_ID = HRSC
INSTRUMENT_NAME = "HIGH RESOLUTION STEREO CAMERA"
MISSION_NAME = "MARS EXPRESS"
MISSION_PHASE_NAME = ME_Phase_3
PROCESSING_LEVEL_ID = 4
PRODUCT_CREATION_TIME = 2023-02-09T11:24:25.000Z
PRODUCT_ID = "H3225_0000_P14.TIF"
RELEASE_ID = 0003
REVISION_ID = 0000
/* QUALITY DATA ELEMENTS */
DATA_QUALITY_ID = 1
DATA_QUALITY_DESC = "Data calculated based on original SPICE kernels"
/* TIME DATA ELEMENTS */
SPACECRAFT_CLOCK_START_COUNT = "1/0100976064.08241"
SPACECRAFT_CLOCK_STOP_COUNT = "1/0100976213.24667"
START_TIME = 2006-07-14T16:54:38.964Z
STOP_TIME = 2006-07-14T16:56:05.102Z
/* ORBITAL DATA ELEMENTS */
ASCENDING_NODE_LONGITUDE = 160.55
MAXIMUM_RESOLUTION = 0.0262
FOOTPRINT_POINT_LATITUDE = (23.6229,23.623,23.6225,23.622,23.6214, 23.62,23.6181,23.618,23.5977,23.4864, 23.3195,23.1527,23.0409,22.8737,22.7623 ,22.6514,22.5405,22.4291,22.3173, 22.1498,21.983,21.8158,21.7045,21.5376, 21.3708,21.2041,21.0382,20.8726,20.708, 20.5426,20.3731,20.2016,20.0858,19.9123 ,19.7979,19.6265,19.5114,19.3945, 19.2764,19.1608,19.0453,18.9308,18.8157 ,18.6446,18.4735,18.3024,18.1301, 18.0154,17.9587,17.9545,17.9577,17.9626 ,17.9696,17.9708,17.9724,17.9742, 17.9749,17.9754,17.9758,18.0912,18.2643 ,18.4372,18.5528,18.6676,18.7832, 18.8988,19.072,19.2449,19.3604,19.4757, 19.6482,19.8209,19.9938,20.109,20.2245, 20.3399,20.4551,20.5686,20.7333,20.9006 ,21.0679,21.2351,21.3466,21.514,21.6256 ,21.7923,21.9542,22.0683,22.2249, 22.3852,22.5477,22.7097,22.8764,22.9875 ,23.1536,23.3207,23.4321,23.5436, 23.5994,23.6229)
FOOTPRINT_POINT_LONGITUDE = (222.739,222.491,222.232,222.079, 221.961,221.762,221.538,221.526,221.514 ,221.515,221.516,221.518,221.518,221.52 ,221.52,221.521,221.522,221.523,221.524 ,221.524,221.526,221.526,221.527, 221.528,221.529,221.53,221.531,221.532, 221.534,221.535,221.537,221.538,221.538 ,221.538,221.539,221.54,221.54,221.539, 221.538,221.538,221.538,221.538,221.538 ,221.539,221.539,221.54,221.54,221.54, 221.54,221.54,221.659,221.836,222.059, 222.257,222.396,222.628,222.732,222.743 ,222.748,222.747,222.746,222.746, 222.745,222.745,222.745,222.744,222.744 ,222.743,222.743,222.742,222.742, 222.742,222.741,222.741,222.74,222.74, 222.74,222.74,222.741,222.74,222.74, 222.739,222.739,222.738,222.738,222.738 ,222.74,222.738,222.744,222.747,222.749 ,222.751,222.751,222.751,222.751, 222.751,222.75,222.75,222.75,222.739)
ORBIT_NUMBER = 3225
ORBITAL_ECCENTRICITY = 0.569
ORBITAL_INCLINATION = 86.69
ORBITAL_SEMIMAJOR_AXIS = 8607.37
PERIAPSIS_ALTITUDE = 319.7
PERIAPSIS_ARGUMENT_ANGLE = 151.12
PERIAPSIS_TIME = 2006-07-14T16:53:38.000Z
SPACECRAFT_ORIENTATION = (0.0,-1.0,0.0)
^MEX_ORIENTATION_DESC = "MEX_ORIENTATION_DESC.TXT"
SPACECRAFT_POINTING_MODE = ACROSSTRACK
^MEX_POINTING_DESC = "MEX_POINTING_DESC.TXT"
RIGHT_ASCENSION = -1e+32
DECLINATION = -1e+32
OFFSET_ANGLE = 0.05
SPACECRAFT_SOLAR_DISTANCE = 2.48975e+08
TARGET_NAME = MARS
/* CAMERA DATA ELEMENTS */
DETECTOR_TEMPERATURE = 18.3705
FOCAL_PLANE_TEMPERATURE = 8.3794
INST_CMPRS_NAME = "DISCRETE COSINE TRANSFORMATION (DCT)"
INST_CMPRS_RATIO = 12.4037
INST_CMPRS_QUALITY = 0
INST_CMPRS_QUANTZ_TBL_ID = 0
INSTRUMENT_TEMPERATURE = 11.8457
LENS_TEMPERATURE = 8.7872
MACROPIXEL_SIZE = 2
MISSING_FRAMES = 0
PIXEL_SUBSAMPLING_FLAG = N
SIGNAL_CHAIN_ID = 3
/* RADIOMETRIC DATA ELEMENTS */
BANDWIDTH = 174.0
CENTER_FILTER_WAVELENGTH = 675.0
RADIANCE_OFFSET = 8.85289
RADIANCE_SCALING_FACTOR = 0.0133708
REFLECTANCE_SCALING_FACTOR = 0.000445816
MEX:REFLECTANCE_OFFSET = 0.295177
/* IMAGE OBJECT DEFINITIONS */
OBJECT = IMAGE
  INTERCHANGE_FORMAT = BINARY
  LINES = 13436
  LINE_SAMPLES = 2772
  SAMPLE_TYPE = UNSIGNED_INTEGER
  SAMPLE_BITS = 8
  BANDS = 1
  BAND_STORAGE_TYPE = BAND_SEQUENTIAL
  MAXIMUM = 255
  MEAN = 113.642
  MINIMUM = 1
  STANDARD_DEVIATION = 44.4664
END_OBJECT = IMAGE
/* MAP OBJECT DEFINITIONS */
OBJECT = IMAGE_MAP_PROJECTION
  ^DATA_SET_MAP_PROJECTION_CATALOG= "DSMAP.CAT"
  A_AXIS_RADIUS = 3396.0
  B_AXIS_RADIUS = 3396.0
  C_AXIS_RADIUS = 3396.0
  CENTER_LATITUDE = 0.0
  CENTER_LONGITUDE = 222.0
  COORDINATE_SYSTEM_NAME = PLANETOGRAPHIC
  COORDINATE_SYSTEM_TYPE = "BODY-FIXED ROTATING"
  EASTERNMOST_LONGITUDE = 222.751
  FIRST_STANDARD_PARALLEL = "N/A"
  LINE_FIRST_PIXEL = 1
  LINE_LAST_PIXEL = 13436
  LINE_PROJECTION_OFFSET = 55974.25
  MAP_PROJECTION_ROTATION = 0.0
  MAP_PROJECTION_TYPE = SINUSOIDAL
  MAP_RESOLUTION = 2370.85521546667
  MAP_SCALE = 0.025
  MAXIMUM_LATITUDE = 23.623
  MINIMUM_LATITUDE = 17.9545
  POSITIVE_LONGITUDE_DIRECTION = EAST
  REFERENCE_LATITUDE = "N/A"
  REFERENCE_LONGITUDE = "N/A"
  SAMPLE_FIRST_PIXEL = 1
  SAMPLE_LAST_PIXEL = 2772
  SAMPLE_PROJECTION_OFFSET = 1068.25
  SECOND_STANDARD_PARALLEL = "N/A"
  WESTERNMOST_LONGITUDE = 221.514
END_OBJECT = IMAGE_MAP_PROJECTION
END
