PDS_VERSION_ID = PDS3
/* FILE DATA ELEMENTS */
RECORD_TYPE = UNDEFINED
/* POINTERS TO DATA OBJECTS */
^IMAGE = ("H3217_0001_P14.TIF")
/* IDENTIFICATION DATA ELEMENTS */
DATA_SET_ID = "MEX-M-HRSC-4-REFDR-MAPPROJECT-EXT1-V4.0"
DATA_SET_NAME = "MARS EXPRESS HRSC MAP PROJECTED REFDR EXTENSION1 V4.0"
DETECTOR_ID = MEX_HRSC_P1
EVENT_TYPE = "MARS-REGIONAL-MAPPING-Vo-Te-La"
INSTRUMENT_HOST_ID = MEX
INSTRUMENT_HOST_NAME = "MARS EXPRESS"
INSTRUMENT_ID = HRSC
INSTRUMENT_NAME = "HIGH RESOLUTION STEREO CAMERA"
MISSION_NAME = "MARS EXPRESS"
MISSION_PHASE_NAME = ME_Phase_3
PROCESSING_LEVEL_ID = 4
PRODUCT_CREATION_TIME = 2023-02-09T11:24:25.000Z
PRODUCT_ID = "H3217_0001_P14.TIF"
RELEASE_ID = 0003
REVISION_ID = 0000
/* QUALITY DATA ELEMENTS */
DATA_QUALITY_ID = 1
DATA_QUALITY_DESC = "Data calculated based on original SPICE kernels"
/* TIME DATA ELEMENTS */
SPACECRAFT_CLOCK_START_COUNT = "1/0100782897.07292"
SPACECRAFT_CLOCK_STOP_COUNT = "1/0100783381.36574"
START_TIME = 2006-07-12T11:15:17.077Z
STOP_TIME = 2006-07-12T11:20:19.780Z
/* ORBITAL DATA ELEMENTS */
ASCENDING_NODE_LONGITUDE = 160.71
MAXIMUM_RESOLUTION = 0.0382
FOOTPRINT_POINT_LATITUDE = (-0.931869,-0.957977,-0.986079,-1.02253 ,-1.02353,-1.02644,-1.49664,-2.06731, -2.8411,-3.31312,-3.94855,-4.42813, -4.75292,-5.10141,-5.59994,-5.93112, -6.26639,-6.59178,-6.93704,-7.43281, -7.97179,-8.33329,-8.6834,-9.04173, -9.40009,-9.75577,-10.1238,-10.6684, -11.0405,-11.5963,-12.1541,-12.5385, -12.9278,-13.3197,-13.7146,-14.1147, -14.5175,-14.9232,-15.5461,-15.9612, -16.3802,-16.8045,-17.2324,-17.6647, -18.1007,-18.5409,-18.9856,-19.2092, -19.2216,-19.2122,-19.2049,-19.1937, -19.1858,-19.1733,-19.1728,-19.1716, -18.5021,-18.0605,-17.6232,-17.1898, -16.7606,-16.3356,-15.915,-15.4978, -15.0778,-14.6682,-14.2633,-13.8628, -13.4655,-13.0712,-12.6981,-12.3055, -11.9244,-11.5553,-11.1735,-10.7965, -10.4331,-10.0663,-9.70236,-9.3413, -8.98359,-8.61666,-8.09152,-7.57413, -7.2286,-6.70899,-6.20038,-5.85992, -5.53388,-5.02033,-4.53473,-4.20518, -3.58333,-3.25495,-2.7629,-2.14241, -1.68345,-1.07387,-0.924561,-0.931869)
FOOTPRINT_POINT_LONGITUDE = (287.048,286.53,285.991,285.322,285.304 ,285.295,285.255,285.295,285.271, 285.255,285.232,285.217,285.205,285.159 ,285.133,285.122,285.108,285.112, 285.089,285.094,285.045,285.013,285.002 ,284.981,284.965,284.956,284.932, 284.917,284.898,284.88,284.869,284.848, 284.826,284.803,284.779,284.755,284.731 ,284.707,284.668,284.642,284.616, 284.588,284.559,284.53,284.5,284.469, 284.438,284.422,284.421,285.014,285.458 ,286.112,286.541,287.2,287.226,287.236, 287.226,287.219,287.213,287.208,287.202 ,287.197,287.191,287.187,287.182, 287.177,287.173,287.168,287.163,287.159 ,287.148,287.146,287.141,287.132,287.13 ,287.127,287.121,287.116,287.112, 287.108,287.104,287.106,287.098,287.091 ,287.088,287.086,287.082,287.082, 287.076,287.082,287.075,287.077,287.06, 287.065,287.073,287.068,287.064,287.059 ,287.058,287.048)
ORBIT_NUMBER = 3217
ORBITAL_ECCENTRICITY = 0.569
ORBITAL_INCLINATION = 86.68
ORBITAL_SEMIMAJOR_AXIS = 8608.37
PERIAPSIS_ALTITUDE = 318.88
PERIAPSIS_ARGUMENT_ANGLE = 152.57
PERIAPSIS_TIME = 2006-07-12T11:08:21.000Z
SPACECRAFT_ORIENTATION = (0.0,-1.0,0.0)
^MEX_ORIENTATION_DESC = "MEX_ORIENTATION_DESC.TXT"
SPACECRAFT_POINTING_MODE = ACROSSTRACK
^MEX_POINTING_DESC = "MEX_POINTING_DESC.TXT"
RIGHT_ASCENSION = -1e+32
DECLINATION = -1e+32
OFFSET_ANGLE = -1.95
SPACECRAFT_SOLAR_DISTANCE = 2.49034e+08
TARGET_NAME = MARS
/* CAMERA DATA ELEMENTS */
DETECTOR_TEMPERATURE = 18.7783
FOCAL_PLANE_TEMPERATURE = 7.5638
INST_CMPRS_NAME = "DISCRETE COSINE TRANSFORMATION (DCT)"
INST_CMPRS_RATIO = 8.87208
INST_CMPRS_QUALITY = 0
INST_CMPRS_QUANTZ_TBL_ID = 0
INSTRUMENT_TEMPERATURE = 12.8652
LENS_TEMPERATURE = 8.3794
MACROPIXEL_SIZE = 2
MISSING_FRAMES = 1
PIXEL_SUBSAMPLING_FLAG = N
SIGNAL_CHAIN_ID = 3
/* RADIOMETRIC DATA ELEMENTS */
BANDWIDTH = 174.0
CENTER_FILTER_WAVELENGTH = 675.0
RADIANCE_OFFSET = 1.23911
RADIANCE_SCALING_FACTOR = 0.0355697
REFLECTANCE_SCALING_FACTOR = 0.00118654
MEX:REFLECTANCE_OFFSET = 0.0413342
/* IMAGE OBJECT DEFINITIONS */
OBJECT = IMAGE
  INTERCHANGE_FORMAT = BINARY
  LINES = 21664
  LINE_SAMPLES = 3377
  SAMPLE_TYPE = UNSIGNED_INTEGER
  SAMPLE_BITS = 8
  BANDS = 1
  BAND_STORAGE_TYPE = BAND_SEQUENTIAL
  MAXIMUM = 255
  MEAN = 89.2592
  MINIMUM = 1
  STANDARD_DEVIATION = 37.5489
END_OBJECT = IMAGE
/* MAP OBJECT DEFINITIONS */
OBJECT = IMAGE_MAP_PROJECTION
  ^DATA_SET_MAP_PROJECTION_CATALOG= "DSMAP.CAT"
  A_AXIS_RADIUS = 3396.0
  B_AXIS_RADIUS = 3396.0
  C_AXIS_RADIUS = 3396.0
  CENTER_LATITUDE = 0.0
  CENTER_LONGITUDE = 286.0
  COORDINATE_SYSTEM_NAME = PLANETOGRAPHIC
  COORDINATE_SYSTEM_TYPE = "BODY-FIXED ROTATING"
  EASTERNMOST_LONGITUDE = 287.236
  FIRST_STANDARD_PARALLEL = "N/A"
  LINE_FIRST_PIXEL = 1
  LINE_LAST_PIXEL = 21664
  LINE_PROJECTION_OFFSET = -1133.25
  MAP_PROJECTION_ROTATION = 0.0
  MAP_PROJECTION_TYPE = SINUSOIDAL
  MAP_RESOLUTION = 1185.42760773333
  MAP_SCALE = 0.05
  MAXIMUM_LATITUDE = -0.924561
  MINIMUM_LATITUDE = -19.2216
  POSITIVE_LONGITUDE_DIRECTION = EAST
  REFERENCE_LATITUDE = "N/A"
  REFERENCE_LONGITUDE = "N/A"
  SAMPLE_FIRST_PIXEL = 1
  SAMPLE_LAST_PIXEL = 3377
  SAMPLE_PROJECTION_OFFSET = 1866.25
  SECOND_STANDARD_PARALLEL = "N/A"
  WESTERNMOST_LONGITUDE = 284.421
END_OBJECT = IMAGE_MAP_PROJECTION
END
