PDS_VERSION_ID = PDS3
/* FILE DATA ELEMENTS */
RECORD_TYPE = UNDEFINED
/* POINTERS TO DATA OBJECTS */
^IMAGE = ("H3210_0000_RE4.TIF")
/* IDENTIFICATION DATA ELEMENTS */
DATA_SET_ID = "MEX-M-HRSC-4-REFDR-MAPPROJECT-EXT1-V4.0"
DATA_SET_NAME = "MARS EXPRESS HRSC MAP PROJECTED REFDR EXTENSION1 V4.0"
DETECTOR_ID = MEX_HRSC_RED
EVENT_TYPE = "MARS-REGIONAL-MAPPING-Vo-Te"
INSTRUMENT_HOST_ID = MEX
INSTRUMENT_HOST_NAME = "MARS EXPRESS"
INSTRUMENT_ID = HRSC
INSTRUMENT_NAME = "HIGH RESOLUTION STEREO CAMERA"
MISSION_NAME = "MARS EXPRESS"
MISSION_PHASE_NAME = ME_Phase_3
PROCESSING_LEVEL_ID = 4
PRODUCT_CREATION_TIME = 2023-02-09T11:24:25.000Z
PRODUCT_ID = "H3210_0000_RE4.TIF"
RELEASE_ID = 0003
REVISION_ID = 0000
/* QUALITY DATA ELEMENTS */
DATA_QUALITY_ID = 1
DATA_QUALITY_DESC = "Data calculated based on original SPICE kernels"
/* TIME DATA ELEMENTS */
SPACECRAFT_CLOCK_START_COUNT = "1/0100613545.07309"
SPACECRAFT_CLOCK_STOP_COUNT = "1/0100613915.37459"
START_TIME = 2006-07-10T12:13:52.271Z
STOP_TIME = 2006-07-10T12:18:22.254Z
/* ORBITAL DATA ELEMENTS */
ASCENDING_NODE_LONGITUDE = 160.86
MAXIMUM_RESOLUTION = 0.0821
FOOTPRINT_POINT_LATITUDE = (-0.797579,-0.802284,-0.804541,-0.80635 ,-0.807684,-0.809171,-0.809196, -0.847852,-1.33316,-1.82185,-2.44039, -2.94093,-3.195,-3.44885,-3.70492, -3.9635,-4.2209,-4.61286,-5.00702, -5.26994,-5.53857,-5.93895,-6.21046, -6.61472,-7.02338,-7.29902,-7.71242, -7.9966,-8.2781,-8.70313,-9.13224, -9.4206,-9.71113,-10.15,-10.5933, -11.0406,-11.3404,-11.6433,-11.9483, -12.254,-12.5625,-12.8686,-13.1733, -13.4772,-13.7803,-14.081,-14.5308, -14.68,-14.7705,-14.7753,-14.7801, -14.7815,-14.7808,-14.7779,-14.7726, -14.7722,-14.7707,-14.3222,-14.0213, -13.7187,-13.4153,-13.1112,-12.8055, -12.4982,-12.1898,-11.8852,-11.5808, -11.2784,-10.9777,-10.6789,-10.3816, -10.0867,-9.64753,-9.2127,-8.78246, -8.49696,-8.21507,-7.79466,-7.37903, -6.95477,-6.6786,-6.28651,-6.00626, -5.74512,-5.47649,-5.07754,-4.80088, -4.55025,-4.15513,-3.773,-3.51607, -3.26226,-2.88165,-2.63153,-2.25592, -2.00446,-1.63767,-1.02839,-0.906652, -0.797579)
FOOTPRINT_POINT_LONGITUDE = (257.384,256.941,256.68,256.42,256.161, 255.66,255.644,255.647,255.631,255.614, 255.592,255.575,255.565,255.556,255.547 ,255.537,255.528,255.513,255.498, 255.487,255.477,255.461,255.45,255.432, 255.414,255.402,255.383,255.372,255.359 ,255.339,255.319,255.305,255.291,255.27 ,255.248,255.225,255.21,255.194,255.178 ,255.161,255.145,255.128,255.11,255.093 ,255.076,255.058,255.032,255.023, 255.018,255.341,255.841,256.266,256.743 ,257.196,257.677,257.702,257.711, 257.694,257.683,257.672,257.661,257.65, 257.64,257.629,257.619,257.609,257.599, 257.589,257.58,257.572,257.563,257.555, 257.543,257.531,257.52,257.513,257.505, 257.494,257.483,257.479,257.474,257.457 ,257.456,257.447,257.442,257.435, 257.436,257.426,257.421,257.412,257.407 ,257.403,257.397,257.392,257.386, 257.385,257.377,257.368,257.366, 257.384)
ORBIT_NUMBER = 3210
ORBITAL_ECCENTRICITY = 0.57
ORBITAL_INCLINATION = 86.68
ORBITAL_SEMIMAJOR_AXIS = 8617.25
PERIAPSIS_ALTITUDE = 317.41
PERIAPSIS_ARGUMENT_ANGLE = 153.78
PERIAPSIS_TIME = 2006-07-10T12:06:09.000Z
SPACECRAFT_ORIENTATION = (0.0,-1.0,0.0)
^MEX_ORIENTATION_DESC = "MEX_ORIENTATION_DESC.TXT"
SPACECRAFT_POINTING_MODE = ACROSSTRACK
^MEX_POINTING_DESC = "MEX_POINTING_DESC.TXT"
RIGHT_ASCENSION = -1e+32
DECLINATION = -1e+32
OFFSET_ANGLE = 0.4
SPACECRAFT_SOLAR_DISTANCE = 2.49079e+08
TARGET_NAME = MARS
/* CAMERA DATA ELEMENTS */
DETECTOR_TEMPERATURE = 18.3705
FOCAL_PLANE_TEMPERATURE = 7.3599
INST_CMPRS_NAME = "DISCRETE COSINE TRANSFORMATION (DCT)"
INST_CMPRS_RATIO = 15.4671
INST_CMPRS_QUALITY = 0
INST_CMPRS_QUANTZ_TBL_ID = 0
INSTRUMENT_TEMPERATURE = 11.0301
LENS_TEMPERATURE = 7.9716
MACROPIXEL_SIZE = 4
MISSING_FRAMES = 0
PIXEL_SUBSAMPLING_FLAG = N
SIGNAL_CHAIN_ID = 2
/* RADIOMETRIC DATA ELEMENTS */
BANDWIDTH = 48.0
CENTER_FILTER_WAVELENGTH = 748.0
RADIANCE_OFFSET = 0.496303
RADIANCE_SCALING_FACTOR = 0.00966192
REFLECTANCE_SCALING_FACTOR = 0.00136792
MEX:REFLECTANCE_OFFSET = 0.070266
/* IMAGE OBJECT DEFINITIONS */
OBJECT = IMAGE
  INTERCHANGE_FORMAT = BINARY
  LINES = 16531
  LINE_SAMPLES = 2771
  SAMPLE_TYPE = UNSIGNED_INTEGER
  SAMPLE_BITS = 8
  BANDS = 1
  BAND_STORAGE_TYPE = BAND_SEQUENTIAL
  MAXIMUM = 255
  MEAN = 128.424
  MINIMUM = 1
  STANDARD_DEVIATION = 30.8623
END_OBJECT = IMAGE
/* MAP OBJECT DEFINITIONS */
OBJECT = IMAGE_MAP_PROJECTION
  ^DATA_SET_MAP_PROJECTION_CATALOG= "DSMAP.CAT"
  A_AXIS_RADIUS = 3396.0
  B_AXIS_RADIUS = 3396.0
  C_AXIS_RADIUS = 3396.0
  CENTER_LATITUDE = 0.0
  CENTER_LONGITUDE = 256.0
  COORDINATE_SYSTEM_NAME = PLANETOGRAPHIC
  COORDINATE_SYSTEM_TYPE = "BODY-FIXED ROTATING"
  EASTERNMOST_LONGITUDE = 257.711
  FIRST_STANDARD_PARALLEL = "N/A"
  LINE_FIRST_PIXEL = 1
  LINE_LAST_PIXEL = 16531
  LINE_PROJECTION_OFFSET = -944.625
  MAP_PROJECTION_ROTATION = 0.0
  MAP_PROJECTION_TYPE = SINUSOIDAL
  MAP_RESOLUTION = 1185.42760773333
  MAP_SCALE = 0.05
  MAXIMUM_LATITUDE = -0.797579
  MINIMUM_LATITUDE = -14.7815
  POSITIVE_LONGITUDE_DIRECTION = EAST
  REFERENCE_LATITUDE = "N/A"
  REFERENCE_LONGITUDE = "N/A"
  SAMPLE_FIRST_PIXEL = 1
  SAMPLE_LAST_PIXEL = 2771
  SAMPLE_PROJECTION_OFFSET = 967.625
  SECOND_STANDARD_PARALLEL = "N/A"
  WESTERNMOST_LONGITUDE = 255.018
END_OBJECT = IMAGE_MAP_PROJECTION
END
