PDS_VERSION_ID = PDS3
/* FILE DATA ELEMENTS */
RECORD_TYPE = UNDEFINED
/* POINTERS TO DATA OBJECTS */
^IMAGE = ("H3198_0000_S14.TIF")
/* IDENTIFICATION DATA ELEMENTS */
DATA_SET_ID = "MEX-M-HRSC-4-REFDR-MAPPROJECT-EXT1-V4.0"
DATA_SET_NAME = "MARS EXPRESS HRSC MAP PROJECTED REFDR EXTENSION1 V4.0"
DETECTOR_ID = MEX_HRSC_S1
EVENT_TYPE = "MARS-REGIONAL-MAPPING-Im-Lc-La"
INSTRUMENT_HOST_ID = MEX
INSTRUMENT_HOST_NAME = "MARS EXPRESS"
INSTRUMENT_ID = HRSC
INSTRUMENT_NAME = "HIGH RESOLUTION STEREO CAMERA"
MISSION_NAME = "MARS EXPRESS"
MISSION_PHASE_NAME = ME_Phase_3
PROCESSING_LEVEL_ID = 4
PRODUCT_CREATION_TIME = 2023-02-09T11:24:25.000Z
PRODUCT_ID = "H3198_0000_S14.TIF"
RELEASE_ID = 0003
REVISION_ID = 0000
/* QUALITY DATA ELEMENTS */
DATA_QUALITY_ID = 1
DATA_QUALITY_DESC = "Data calculated based on original SPICE kernels"
/* TIME DATA ELEMENTS */
SPACECRAFT_CLOCK_START_COUNT = "1/0100322886.09076"
SPACECRAFT_CLOCK_STOP_COUNT = "1/0100323077.01910"
START_TIME = 2006-07-07T03:28:11.377Z
STOP_TIME = 2006-07-07T03:30:18.856Z
/* ORBITAL DATA ELEMENTS */
ASCENDING_NODE_LONGITUDE = 161.12
MAXIMUM_RESOLUTION = 0.0271
FOOTPRINT_POINT_LATITUDE = (22.1976,22.1869,22.1759,22.1643, 22.1522,22.1396,22.1213,22.1204,22.0874 ,21.7597,21.429,21.2635,21.0151,20.8491 ,20.6006,20.27,20.1042,19.9364,19.7671, 19.4385,19.1888,18.9363,18.7688,18.4397 ,18.2735,18.0241,17.6927,17.5251, 17.2745,17.025,16.859,16.6921,16.4417, 16.1916,16.0245,15.8581,15.6915,15.5243 ,15.3551,15.181,14.9181,14.7495,14.5764 ,14.4033,14.1442,13.9708,13.7971, 13.7106,13.6843,13.699,13.7114,13.722, 13.7342,13.7436,13.7514,13.7526,13.7532 ,14.0133,14.1859,14.3588,14.5322, 14.7059,14.8792,15.139,15.3127,15.486, 15.7362,16.0635,16.3098,16.4753,16.6429 ,16.9802,17.2259,17.3935,17.5661, 17.7371,18.068,18.3214,18.491,18.6585, 18.8253,19.1564,19.3224,19.489,19.6552, 19.8215,19.9877,20.1537,20.3196,20.4851 ,20.6508,20.9817,21.2302,21.3959, 21.5616,21.7274,21.893,22.0586,22.1413, 22.1976)
FOOTPRINT_POINT_LONGITUDE = (355.178,354.995,354.81,354.623,354.434 ,354.243,353.976,353.964,353.935, 353.942,353.948,353.95,353.954,353.956, 353.96,353.965,353.967,353.968,353.967, 353.974,353.976,353.976,353.977,353.983 ,353.984,353.987,353.991,353.991, 353.992,353.994,353.996,353.997,353.998 ,353.999,354.0,354.001,354.002,354.002, 354.003,354.002,354.0,354.004,354.004, 354.004,354.005,354.004,354.004,354.004 ,354.004,354.248,354.453,354.632, 354.867,355.042,355.215,355.226,355.23, 355.229,355.228,355.227,355.226,355.225 ,355.224,355.222,355.221,355.22,355.218 ,355.215,355.213,355.212,355.211, 355.209,355.207,355.206,355.205,355.205 ,355.202,355.201,355.2,355.199,355.198, 355.196,355.194,355.193,355.192,355.191 ,355.19,355.188,355.187,355.186,355.185 ,355.182,355.18,355.179,355.178,355.176 ,355.175,355.174,355.173,355.178)
ORBIT_NUMBER = 3198
ORBITAL_ECCENTRICITY = 0.569
ORBITAL_INCLINATION = 86.68
ORBITAL_SEMIMAJOR_AXIS = 8607.11
PERIAPSIS_ALTITUDE = 316.75
PERIAPSIS_ARGUMENT_ANGLE = 155.9
PERIAPSIS_TIME = 2006-07-07T03:28:10.000Z
SPACECRAFT_ORIENTATION = (0.0,-1.0,0.0)
^MEX_ORIENTATION_DESC = "MEX_ORIENTATION_DESC.TXT"
SPACECRAFT_POINTING_MODE = ACROSSTRACK
^MEX_POINTING_DESC = "MEX_POINTING_DESC.TXT"
RIGHT_ASCENSION = -1e+32
DECLINATION = -1e+32
OFFSET_ANGLE = -0.8
SPACECRAFT_SOLAR_DISTANCE = 2.49143e+08
TARGET_NAME = MARS
/* CAMERA DATA ELEMENTS */
DETECTOR_TEMPERATURE = 17.351
FOCAL_PLANE_TEMPERATURE = 8.3794
INST_CMPRS_NAME = "DISCRETE COSINE TRANSFORMATION (DCT)"
INST_CMPRS_RATIO = 9.47271
INST_CMPRS_QUALITY = 0
INST_CMPRS_QUANTZ_TBL_ID = 0
INSTRUMENT_TEMPERATURE = 11.4379
LENS_TEMPERATURE = 8.5833
MACROPIXEL_SIZE = 2
MISSING_FRAMES = 0
PIXEL_SUBSAMPLING_FLAG = N
SIGNAL_CHAIN_ID = 1
/* RADIOMETRIC DATA ELEMENTS */
BANDWIDTH = 180.0
CENTER_FILTER_WAVELENGTH = 677.0
RADIANCE_OFFSET = 3.37783
RADIANCE_SCALING_FACTOR = 0.0273038
REFLECTANCE_SCALING_FACTOR = 0.000884222
MEX:REFLECTANCE_OFFSET = 0.10939
/* IMAGE OBJECT DEFINITIONS */
OBJECT = IMAGE
  INTERCHANGE_FORMAT = BINARY
  LINES = 19971
  LINE_SAMPLES = 2899
  SAMPLE_TYPE = UNSIGNED_INTEGER
  SAMPLE_BITS = 8
  BANDS = 1
  BAND_STORAGE_TYPE = BAND_SEQUENTIAL
  MAXIMUM = 255
  MEAN = 145.143
  MINIMUM = 1
  STANDARD_DEVIATION = 33.3278
END_OBJECT = IMAGE
/* MAP OBJECT DEFINITIONS */
OBJECT = IMAGE_MAP_PROJECTION
  ^DATA_SET_MAP_PROJECTION_CATALOG= "DSMAP.CAT"
  A_AXIS_RADIUS = 3396.0
  B_AXIS_RADIUS = 3396.0
  C_AXIS_RADIUS = 3396.0
  CENTER_LATITUDE = 0.0
  CENTER_LONGITUDE = 355.0
  COORDINATE_SYSTEM_NAME = PLANETOGRAPHIC
  COORDINATE_SYSTEM_TYPE = "BODY-FIXED ROTATING"
  EASTERNMOST_LONGITUDE = 355.23
  FIRST_STANDARD_PARALLEL = "N/A"
  LINE_FIRST_PIXEL = 1
  LINE_LAST_PIXEL = 19971
  LINE_PROJECTION_OFFSET = 52541.25
  MAP_PROJECTION_ROTATION = 0.0
  MAP_PROJECTION_TYPE = SINUSOIDAL
  MAP_RESOLUTION = 2370.85521546667
  MAP_SCALE = 0.025
  MAXIMUM_LATITUDE = 22.1976
  MINIMUM_LATITUDE = 13.6843
  POSITIVE_LONGITUDE_DIRECTION = EAST
  REFERENCE_LATITUDE = "N/A"
  REFERENCE_LONGITUDE = "N/A"
  SAMPLE_FIRST_PIXEL = 1
  SAMPLE_LAST_PIXEL = 2899
  SAMPLE_PROJECTION_OFFSET = 2329.25
  SECOND_STANDARD_PARALLEL = "N/A"
  WESTERNMOST_LONGITUDE = 353.935
END_OBJECT = IMAGE_MAP_PROJECTION
END
