PDS_VERSION_ID = PDS3
/* FILE DATA ELEMENTS */
RECORD_TYPE = UNDEFINED
/* POINTERS TO DATA OBJECTS */
^IMAGE = ("H3198_0000_IR4.TIF")
/* IDENTIFICATION DATA ELEMENTS */
DATA_SET_ID = "MEX-M-HRSC-4-REFDR-MAPPROJECT-EXT1-V4.0"
DATA_SET_NAME = "MARS EXPRESS HRSC MAP PROJECTED REFDR EXTENSION1 V4.0"
DETECTOR_ID = MEX_HRSC_IR
EVENT_TYPE = "MARS-REGIONAL-MAPPING-Im-Lc-La"
INSTRUMENT_HOST_ID = MEX
INSTRUMENT_HOST_NAME = "MARS EXPRESS"
INSTRUMENT_ID = HRSC
INSTRUMENT_NAME = "HIGH RESOLUTION STEREO CAMERA"
MISSION_NAME = "MARS EXPRESS"
MISSION_PHASE_NAME = ME_Phase_3
PROCESSING_LEVEL_ID = 4
PRODUCT_CREATION_TIME = 2023-02-09T11:24:25.000Z
PRODUCT_ID = "H3198_0000_IR4.TIF"
RELEASE_ID = 0003
REVISION_ID = 0000
/* QUALITY DATA ELEMENTS */
DATA_QUALITY_ID = 1
DATA_QUALITY_DESC = "Data calculated based on original SPICE kernels"
/* TIME DATA ELEMENTS */
SPACECRAFT_CLOCK_START_COUNT = "1/0100322886.09076"
SPACECRAFT_CLOCK_STOP_COUNT = "1/0100323077.01910"
START_TIME = 2006-07-07T03:28:16.218Z
STOP_TIME = 2006-07-07T03:30:23.948Z
/* ORBITAL DATA ELEMENTS */
ASCENDING_NODE_LONGITUDE = 161.12
MAXIMUM_RESOLUTION = 0.1066
FOOTPRINT_POINT_LATITUDE = (22.1885,22.1709,22.1615,22.1517, 22.1414,22.1244,22.1237,22.095,21.7666, 21.6012,21.4357,21.2701,21.0216,20.8556 ,20.6071,20.3596,20.1935,20.0259, 19.7756,19.4453,19.279,19.0282,18.8597, 18.5308,18.3645,18.1982,18.0321,17.7009 ,17.5337,17.2835,17.1171,16.9516,16.785 ,16.6184,16.4518,16.2015,15.9526, 15.7867,15.6152,15.3563,15.183,14.9214, 14.7525,14.5799,14.4074,14.1487,13.9762 ,13.8031,13.7168,13.6862,13.711,13.7254 ,13.7414,13.7423,13.7444,13.9142,14.09, 14.2621,14.4346,14.6075,14.7805,14.9533 ,15.2124,15.472,15.6437,15.8995,16.2238 ,16.3893,16.5565,16.7283,16.896,17.2222 ,17.3894,17.6441,17.8142,18.145,18.3976 ,18.5665,18.7336,18.9002,19.0659, 19.2314,19.3974,19.5638,19.813,19.9791, 20.1451,20.311,20.4766,20.6424,20.8082, 20.9735,21.2221,21.3878,21.5536,21.7194 ,21.8851,22.0509,22.1336,22.1885)
FOOTPRINT_POINT_LONGITUDE = (355.177,354.825,354.645,354.464, 354.281,353.991,353.979,353.948,353.956 ,353.959,353.961,353.964,353.967, 353.969,353.973,353.977,353.979,353.979 ,353.981,353.986,353.988,353.989, 353.988,353.995,353.996,353.997,353.999 ,354.003,354.003,354.005,354.006, 354.008,354.008,354.009,354.01,354.011, 354.013,354.014,354.014,354.015,354.014 ,354.012,354.016,354.016,354.016, 354.016,354.016,354.015,354.015,354.015 ,354.515,354.823,355.214,355.225, 355.232,355.231,355.23,355.229,355.228, 355.227,355.226,355.225,355.223,355.222 ,355.22,355.219,355.215,355.214,355.213 ,355.212,355.211,355.208,355.207, 355.206,355.205,355.203,355.201,355.201 ,355.2,355.198,355.197,355.196,355.194, 355.193,355.191,355.19,355.189,355.188, 355.186,355.185,355.184,355.182,355.18, 355.179,355.178,355.176,355.175,355.174 ,355.173,355.177)
ORBIT_NUMBER = 3198
ORBITAL_ECCENTRICITY = 0.569
ORBITAL_INCLINATION = 86.68
ORBITAL_SEMIMAJOR_AXIS = 8607.11
PERIAPSIS_ALTITUDE = 316.75
PERIAPSIS_ARGUMENT_ANGLE = 155.9
PERIAPSIS_TIME = 2006-07-07T03:28:10.000Z
SPACECRAFT_ORIENTATION = (0.0,-1.0,0.0)
^MEX_ORIENTATION_DESC = "MEX_ORIENTATION_DESC.TXT"
SPACECRAFT_POINTING_MODE = ACROSSTRACK
^MEX_POINTING_DESC = "MEX_POINTING_DESC.TXT"
RIGHT_ASCENSION = -1e+32
DECLINATION = -1e+32
OFFSET_ANGLE = -0.8
SPACECRAFT_SOLAR_DISTANCE = 2.49143e+08
TARGET_NAME = MARS
/* CAMERA DATA ELEMENTS */
DETECTOR_TEMPERATURE = 17.351
FOCAL_PLANE_TEMPERATURE = 8.3794
INST_CMPRS_NAME = "DISCRETE COSINE TRANSFORMATION (DCT)"
INST_CMPRS_RATIO = 14.2739
INST_CMPRS_QUALITY = 0
INST_CMPRS_QUANTZ_TBL_ID = 0
INSTRUMENT_TEMPERATURE = 11.4379
LENS_TEMPERATURE = 8.5833
MACROPIXEL_SIZE = 8
MISSING_FRAMES = 0
PIXEL_SUBSAMPLING_FLAG = N
SIGNAL_CHAIN_ID = 2
/* RADIOMETRIC DATA ELEMENTS */
BANDWIDTH = 81.0
CENTER_FILTER_WAVELENGTH = 955.5
RADIANCE_OFFSET = 0.650289
RADIANCE_SCALING_FACTOR = 0.00808764
REFLECTANCE_SCALING_FACTOR = 0.00108304
MEX:REFLECTANCE_OFFSET = 0.0870821
/* IMAGE OBJECT DEFINITIONS */
OBJECT = IMAGE
  INTERCHANGE_FORMAT = BINARY
  LINES = 4993
  LINE_SAMPLES = 725
  SAMPLE_TYPE = UNSIGNED_INTEGER
  SAMPLE_BITS = 8
  BANDS = 1
  BAND_STORAGE_TYPE = BAND_SEQUENTIAL
  MAXIMUM = 255
  MEAN = 148.224
  MINIMUM = 1
  STANDARD_DEVIATION = 36.4987
END_OBJECT = IMAGE
/* MAP OBJECT DEFINITIONS */
OBJECT = IMAGE_MAP_PROJECTION
  ^DATA_SET_MAP_PROJECTION_CATALOG= "DSMAP.CAT"
  A_AXIS_RADIUS = 3396.0
  B_AXIS_RADIUS = 3396.0
  C_AXIS_RADIUS = 3396.0
  CENTER_LATITUDE = 0.0
  CENTER_LONGITUDE = 355.0
  COORDINATE_SYSTEM_NAME = PLANETOGRAPHIC
  COORDINATE_SYSTEM_TYPE = "BODY-FIXED ROTATING"
  EASTERNMOST_LONGITUDE = 355.232
  FIRST_STANDARD_PARALLEL = "N/A"
  LINE_FIRST_PIXEL = 1
  LINE_LAST_PIXEL = 4993
  LINE_PROJECTION_OFFSET = 13134.9375
  MAP_PROJECTION_ROTATION = 0.0
  MAP_PROJECTION_TYPE = SINUSOIDAL
  MAP_RESOLUTION = 592.713803866667
  MAP_SCALE = 0.1
  MAXIMUM_LATITUDE = 22.1885
  MINIMUM_LATITUDE = 13.6862
  POSITIVE_LONGITUDE_DIRECTION = EAST
  REFERENCE_LATITUDE = "N/A"
  REFERENCE_LONGITUDE = "N/A"
  SAMPLE_FIRST_PIXEL = 1
  SAMPLE_LAST_PIXEL = 725
  SAMPLE_PROJECTION_OFFSET = 581.9375
  SECOND_STANDARD_PARALLEL = "N/A"
  WESTERNMOST_LONGITUDE = 353.948
END_OBJECT = IMAGE_MAP_PROJECTION
END
