PDS_VERSION_ID = PDS3
/* FILE DATA ELEMENTS */
RECORD_TYPE = UNDEFINED
/* POINTERS TO DATA OBJECTS */
^IMAGE = ("H3185_0000_P14.TIF")
/* IDENTIFICATION DATA ELEMENTS */
DATA_SET_ID = "MEX-M-HRSC-4-REFDR-MAPPROJECT-EXT1-V4.0"
DATA_SET_NAME = "MARS EXPRESS HRSC MAP PROJECTED REFDR EXTENSION1 V4.0"
DETECTOR_ID = MEX_HRSC_P1
EVENT_TYPE = "MARS-REGIONAL-MAPPING-Vo-La"
INSTRUMENT_HOST_ID = MEX
INSTRUMENT_HOST_NAME = "MARS EXPRESS"
INSTRUMENT_ID = HRSC
INSTRUMENT_NAME = "HIGH RESOLUTION STEREO CAMERA"
MISSION_NAME = "MARS EXPRESS"
MISSION_PHASE_NAME = ME_Phase_3
PROCESSING_LEVEL_ID = 4
PRODUCT_CREATION_TIME = 2023-02-09T11:24:25.000Z
PRODUCT_ID = "H3185_0000_P14.TIF"
RELEASE_ID = 0003
REVISION_ID = 0000
/* QUALITY DATA ELEMENTS */
DATA_QUALITY_ID = 1
DATA_QUALITY_DESC = "Data calculated based on original SPICE kernels"
/* TIME DATA ELEMENTS */
SPACECRAFT_CLOCK_START_COUNT = "1/0100008658.09061"
SPACECRAFT_CLOCK_STOP_COUNT = "1/0100009013.21607"
START_TIME = 2006-07-03T12:11:14.498Z
STOP_TIME = 2006-07-03T12:15:20.275Z
/* ORBITAL DATA ELEMENTS */
ASCENDING_NODE_LONGITUDE = 161.38
MAXIMUM_RESOLUTION = 0.0305
FOOTPRINT_POINT_LATITUDE = (4.07124,4.08151,4.08923,4.09605, 4.09625,4.07949,3.53975,3.24613,2.95256 ,2.6593,2.36622,2.07359,1.78112,1.34224 ,1.05059,0.757986,0.174833,-0.262196, -0.989089,-1.57409,-1.87166,-2.16946, -2.46658,-2.7698,-3.07414,-3.37734, -3.83955,-4.15028,-4.46095,-4.7757, -5.09274,-5.40935,-5.73099,-6.0556, -6.37904,-6.70825,-7.03756,-7.53713, -7.87346,-8.21055,-8.55382,-9.07198, -9.42455,-9.76939,-10.1265,-10.6625, -11.3893,-11.5734,-11.6004,-11.6114, -11.6243,-11.6364,-11.6366,-11.6361, -11.0859,-10.7262,-10.1891,-9.83221, -9.47827,-9.12811,-8.78247,-8.43883, -8.09782,-7.76068,-7.42391,-7.09114, -6.76127,-6.43097,-6.10761,-5.78491, -5.46276,-5.14663,-4.82791,-4.51334, -4.20235,-3.73624,-3.42856,-3.12461, -2.82012,-2.51561,-2.2189,-1.9215, -1.62359,-1.32861,-0.747222,-0.455601, 0.126135,0.417773,0.856273,1.14883, 1.44083,1.7334,2.17252,2.46553,2.75891, 3.05239,3.346,3.91326,4.0365,4.07124)
FOOTPRINT_POINT_LONGITUDE = (193.968,193.488,193.088,192.691, 192.679,192.671,192.662,192.656,192.651 ,192.646,192.64,192.635,192.629,192.62, 192.614,192.608,192.596,192.586,192.57, 192.556,192.549,192.542,192.535,192.527 ,192.52,192.512,192.5,192.492,192.484, 192.476,192.467,192.459,192.45,192.44, 192.431,192.422,192.412,192.398,192.388 ,192.378,192.367,192.35,192.338,192.328 ,192.316,192.298,192.273,192.267, 192.266,192.824,193.513,194.117,194.135 ,194.142,194.131,194.127,194.118, 194.112,194.104,194.098,194.093,194.088 ,194.083,194.079,194.074,194.07,194.066 ,194.062,194.058,194.055,194.052, 194.049,194.045,194.042,194.039,194.034 ,194.031,194.028,194.025,194.022,194.02 ,194.017,194.015,194.013,194.008, 194.005,194.002,194.0,193.996,193.994, 193.993,193.991,193.989,193.987,193.986 ,193.984,193.983,193.98,193.979, 193.968)
ORBIT_NUMBER = 3185
ORBITAL_ECCENTRICITY = 0.569
ORBITAL_INCLINATION = 86.68
ORBITAL_SEMIMAJOR_AXIS = 8607.23
PERIAPSIS_ALTITUDE = 315.08
PERIAPSIS_ARGUMENT_ANGLE = 158.21
PERIAPSIS_TIME = 2006-07-03T12:07:04.000Z
SPACECRAFT_ORIENTATION = (0.0,-1.0,0.0)
^MEX_ORIENTATION_DESC = "MEX_ORIENTATION_DESC.TXT"
SPACECRAFT_POINTING_MODE = ACROSSTRACK
^MEX_POINTING_DESC = "MEX_POINTING_DESC.TXT"
RIGHT_ASCENSION = -1e+32
DECLINATION = -1e+32
OFFSET_ANGLE = 0.34
SPACECRAFT_SOLAR_DISTANCE = 2.49193e+08
TARGET_NAME = MARS
/* CAMERA DATA ELEMENTS */
DETECTOR_TEMPERATURE = 17.351
FOCAL_PLANE_TEMPERATURE = 7.9716
INST_CMPRS_NAME = "DISCRETE COSINE TRANSFORMATION (DCT)"
INST_CMPRS_RATIO = 8.53846
INST_CMPRS_QUALITY = 0
INST_CMPRS_QUANTZ_TBL_ID = 0
INSTRUMENT_TEMPERATURE = 11.0301
LENS_TEMPERATURE = 8.3794
MACROPIXEL_SIZE = 2
MISSING_FRAMES = 0
PIXEL_SUBSAMPLING_FLAG = N
SIGNAL_CHAIN_ID = 3
/* RADIOMETRIC DATA ELEMENTS */
BANDWIDTH = 174.0
CENTER_FILTER_WAVELENGTH = 675.0
RADIANCE_OFFSET = 2.95858
RADIANCE_SCALING_FACTOR = 0.0224437
REFLECTANCE_SCALING_FACTOR = 0.000749638
MEX:REFLECTANCE_OFFSET = 0.0988188
/* IMAGE OBJECT DEFINITIONS */
OBJECT = IMAGE
  INTERCHANGE_FORMAT = BINARY
  LINES = 37254
  LINE_SAMPLES = 4581
  SAMPLE_TYPE = UNSIGNED_INTEGER
  SAMPLE_BITS = 8
  BANDS = 1
  BAND_STORAGE_TYPE = BAND_SEQUENTIAL
  MAXIMUM = 255
  MEAN = 158.301
  MINIMUM = 1
  STANDARD_DEVIATION = 24.2491
END_OBJECT = IMAGE
/* MAP OBJECT DEFINITIONS */
OBJECT = IMAGE_MAP_PROJECTION
  ^DATA_SET_MAP_PROJECTION_CATALOG= "DSMAP.CAT"
  A_AXIS_RADIUS = 3396.0
  B_AXIS_RADIUS = 3396.0
  C_AXIS_RADIUS = 3396.0
  CENTER_LATITUDE = 0.0
  CENTER_LONGITUDE = 193.0
  COORDINATE_SYSTEM_NAME = PLANETOGRAPHIC
  COORDINATE_SYSTEM_TYPE = "BODY-FIXED ROTATING"
  EASTERNMOST_LONGITUDE = 194.142
  FIRST_STANDARD_PARALLEL = "N/A"
  LINE_FIRST_PIXEL = 1
  LINE_LAST_PIXEL = 37254
  LINE_PROJECTION_OFFSET = 9717.25
  MAP_PROJECTION_ROTATION = 0.0
  MAP_PROJECTION_TYPE = SINUSOIDAL
  MAP_RESOLUTION = 2370.85521546667
  MAP_SCALE = 0.025
  MAXIMUM_LATITUDE = 4.09625
  MINIMUM_LATITUDE = -11.6366
  POSITIVE_LONGITUDE_DIRECTION = EAST
  REFERENCE_LATITUDE = "N/A"
  REFERENCE_LONGITUDE = "N/A"
  SAMPLE_FIRST_PIXEL = 1
  SAMPLE_LAST_PIXEL = 4581
  SAMPLE_PROJECTION_OFFSET = 1823.25
  SECOND_STANDARD_PARALLEL = "N/A"
  WESTERNMOST_LONGITUDE = 192.266
END_OBJECT = IMAGE_MAP_PROJECTION
END
