PDS_VERSION_ID = PDS3
/* FILE DATA ELEMENTS */
RECORD_TYPE = UNDEFINED
/* POINTERS TO DATA OBJECTS */
^IMAGE = ("H3183_0000_GR4.TIF")
/* IDENTIFICATION DATA ELEMENTS */
DATA_SET_ID = "MEX-M-HRSC-4-REFDR-MAPPROJECT-EXT1-V4.0"
DATA_SET_NAME = "MARS EXPRESS HRSC MAP PROJECTED REFDR EXTENSION1 V4.0"
DETECTOR_ID = MEX_HRSC_GREEN
EVENT_TYPE = "MARS-REGIONAL-MAPPING-Im"
INSTRUMENT_HOST_ID = MEX
INSTRUMENT_HOST_NAME = "MARS EXPRESS"
INSTRUMENT_ID = HRSC
INSTRUMENT_NAME = "HIGH RESOLUTION STEREO CAMERA"
MISSION_NAME = "MARS EXPRESS"
MISSION_PHASE_NAME = ME_Phase_3
PROCESSING_LEVEL_ID = 4
PRODUCT_CREATION_TIME = 2023-02-09T11:24:25.000Z
PRODUCT_ID = "H3183_0000_GR4.TIF"
RELEASE_ID = 0003
REVISION_ID = 0000
/* QUALITY DATA ELEMENTS */
DATA_QUALITY_ID = 1
DATA_QUALITY_DESC = "Data calculated based on original SPICE kernels"
/* TIME DATA ELEMENTS */
SPACECRAFT_CLOCK_START_COUNT = "1/0099959456.08262"
SPACECRAFT_CLOCK_STOP_COUNT = "1/0099959688.65125"
START_TIME = 2006-07-02T22:31:54.146Z
STOP_TIME = 2006-07-02T22:34:04.053Z
/* ORBITAL DATA ELEMENTS */
ASCENDING_NODE_LONGITUDE = 161.43
MAXIMUM_RESOLUTION = 0.148
FOOTPRINT_POINT_LATITUDE = (54.1996,54.1907,54.1816,54.1728, 54.1601,54.1454,54.1208,54.1197,54.0996 ,53.9348,53.7698,53.5227,53.3604, 53.1977,53.0349,52.873,52.713,52.5526, 52.3924,52.2329,52.0752,51.9173,51.7589 ,51.6004,51.4444,51.2881,51.1323, 50.9768,50.8236,50.6711,50.5171,50.3628 ,50.1324,49.9816,49.8306,49.6803, 49.5291,49.3798,49.2315,49.0822,48.9331 ,48.6383,48.2022,47.9107,47.6235, 47.3358,47.1206,46.8389,46.627,46.5563, 46.4903,46.4989,46.5049,46.5125,46.5175 ,46.5213,46.5261,46.5291,46.5292, 46.5315,46.8862,47.1694,47.3857,47.6745 ,47.9632,48.1831,48.4769,48.6967, 48.9927,49.2163,49.3655,49.5146,49.6661 ,49.8184,49.9709,50.1225,50.2742, 50.5056,50.6599,50.8142,50.9681,51.2034 ,51.3602,51.5174,51.674,51.9121,52.071, 52.2298,52.47,52.6316,52.793,52.9542, 53.1173,53.2813,53.4451,53.6087,53.8576 ,54.0237,54.1067,54.1996)
FOOTPRINT_POINT_LONGITUDE = (30.8543,30.2072,29.7171,29.3204, 28.8351,28.3519,27.66,27.63,27.593, 27.6196,27.6459,27.6847,27.71,27.7349, 27.7595,27.7837,27.8074,27.8307,27.8543 ,27.877,27.8994,27.9214,27.943,27.9633, 27.9834,28.0034,28.0238,28.0445,28.0648 ,28.0849,28.1035,28.1216,28.1475, 28.1656,28.1835,28.2021,28.2198,28.2366 ,28.2535,28.2694,28.2856,28.3186, 28.3673,28.3977,28.4265,28.4548,28.4757 ,28.5028,28.5227,28.5292,28.5355, 28.8781,29.1388,29.5096,29.7715,30.0587 ,30.4797,30.8361,30.8585,30.8735, 30.8765,30.8789,30.8804,30.8829,30.8835 ,30.8844,30.8874,30.8902,30.898,30.9027 ,30.9042,30.9058,30.9066,30.9067, 30.9044,30.9066,30.9071,30.9097,30.9113 ,30.9119,30.9134,30.9129,30.9142, 30.9123,30.9126,30.9159,30.9183,30.9203 ,30.9223,30.924,30.9256,30.9273,30.9286 ,30.9299,30.9314,30.9327,30.9349, 30.9369,30.9378,30.8543)
ORBIT_NUMBER = 3183
ORBITAL_ECCENTRICITY = 0.57
ORBITAL_INCLINATION = 86.67
ORBITAL_SEMIMAJOR_AXIS = 8615.61
PERIAPSIS_ALTITUDE = 314.72
PERIAPSIS_ARGUMENT_ANGLE = 158.59
PERIAPSIS_TIME = 2006-07-02T22:40:43.000Z
SPACECRAFT_ORIENTATION = (0.0,-1.0,0.0)
^MEX_ORIENTATION_DESC = "MEX_ORIENTATION_DESC.TXT"
SPACECRAFT_POINTING_MODE = ACROSSTRACK
^MEX_POINTING_DESC = "MEX_POINTING_DESC.TXT"
RIGHT_ASCENSION = -1e+32
DECLINATION = -1e+32
OFFSET_ANGLE = 0.5
SPACECRAFT_SOLAR_DISTANCE = 2.49199e+08
TARGET_NAME = MARS
/* CAMERA DATA ELEMENTS */
DETECTOR_TEMPERATURE = 18.3705
FOCAL_PLANE_TEMPERATURE = 8.3794
INST_CMPRS_NAME = "DISCRETE COSINE TRANSFORMATION (DCT)"
INST_CMPRS_RATIO = 18.053
INST_CMPRS_QUALITY = 0
INST_CMPRS_QUANTZ_TBL_ID = 0
INSTRUMENT_TEMPERATURE = 11.234
LENS_TEMPERATURE = 8.7872
MACROPIXEL_SIZE = 8
MISSING_FRAMES = 0
PIXEL_SUBSAMPLING_FLAG = N
SIGNAL_CHAIN_ID = 2
/* RADIOMETRIC DATA ELEMENTS */
BANDWIDTH = 88.0
CENTER_FILTER_WAVELENGTH = 538.0
RADIANCE_OFFSET = 1.07041
RADIANCE_SCALING_FACTOR = 0.00614659
REFLECTANCE_SCALING_FACTOR = 0.000328637
MEX:REFLECTANCE_OFFSET = 0.0572309
/* IMAGE OBJECT DEFINITIONS */
OBJECT = IMAGE
  INTERCHANGE_FORMAT = BINARY
  LINES = 4573
  LINE_SAMPLES = 1194
  SAMPLE_TYPE = UNSIGNED_INTEGER
  SAMPLE_BITS = 8
  BANDS = 1
  BAND_STORAGE_TYPE = BAND_SEQUENTIAL
  MAXIMUM = 255
  MEAN = 128.546
  MINIMUM = 3
  STANDARD_DEVIATION = 33.0574
END_OBJECT = IMAGE
/* MAP OBJECT DEFINITIONS */
OBJECT = IMAGE_MAP_PROJECTION
  ^DATA_SET_MAP_PROJECTION_CATALOG= "DSMAP.CAT"
  A_AXIS_RADIUS = 3396.0
  B_AXIS_RADIUS = 3396.0
  C_AXIS_RADIUS = 3396.0
  CENTER_LATITUDE = 0.0
  CENTER_LONGITUDE = 30.0
  COORDINATE_SYSTEM_NAME = PLANETOGRAPHIC
  COORDINATE_SYSTEM_TYPE = "BODY-FIXED ROTATING"
  EASTERNMOST_LONGITUDE = 30.9378
  FIRST_STANDARD_PARALLEL = "N/A"
  LINE_FIRST_PIXEL = 1
  LINE_LAST_PIXEL = 4573
  LINE_PROJECTION_OFFSET = 32128.3125
  MAP_PROJECTION_ROTATION = 0.0
  MAP_PROJECTION_TYPE = SINUSOIDAL
  MAP_RESOLUTION = 592.713803866667
  MAP_SCALE = 0.1
  MAXIMUM_LATITUDE = 54.1996
  MINIMUM_LATITUDE = 46.4903
  POSITIVE_LONGITUDE_DIRECTION = EAST
  REFERENCE_LATITUDE = "N/A"
  REFERENCE_LONGITUDE = "N/A"
  SAMPLE_FIRST_PIXEL = 1
  SAMPLE_LAST_PIXEL = 1194
  SAMPLE_PROJECTION_OFFSET = 841.0625
  SECOND_STANDARD_PARALLEL = "N/A"
  WESTERNMOST_LONGITUDE = 27.593
END_OBJECT = IMAGE_MAP_PROJECTION
END
