PDS_VERSION_ID = PDS3
/* FILE DATA ELEMENTS */
RECORD_TYPE = UNDEFINED
/* POINTERS TO DATA OBJECTS */
^IMAGE = ("H3160_0000_S14.TIF")
/* IDENTIFICATION DATA ELEMENTS */
DATA_SET_ID = "MEX-M-HRSC-4-REFDR-MAPPROJECT-EXT1-V4.0"
DATA_SET_NAME = "MARS EXPRESS HRSC MAP PROJECTED REFDR EXTENSION1 V4.0"
DETECTOR_ID = MEX_HRSC_S1
EVENT_TYPE = "MARS-REGIONAL-MAPPING-Vo-Te-Fl"
INSTRUMENT_HOST_ID = MEX
INSTRUMENT_HOST_NAME = "MARS EXPRESS"
INSTRUMENT_ID = HRSC
INSTRUMENT_NAME = "HIGH RESOLUTION STEREO CAMERA"
MISSION_NAME = "MARS EXPRESS"
MISSION_PHASE_NAME = ME_Phase_3
PROCESSING_LEVEL_ID = 4
PRODUCT_CREATION_TIME = 2023-02-09T11:24:25.000Z
PRODUCT_ID = "H3160_0000_S14.TIF"
RELEASE_ID = 0003
REVISION_ID = 0000
/* QUALITY DATA ELEMENTS */
DATA_QUALITY_ID = 1
DATA_QUALITY_DESC = "Data calculated based on original SPICE kernels"
/* TIME DATA ELEMENTS */
SPACECRAFT_CLOCK_START_COUNT = "1/0099403865.07305"
SPACECRAFT_CLOCK_STOP_COUNT = "1/0099404118.38211"
START_TIME = 2006-06-26T12:11:10.393Z
STOP_TIME = 2006-06-26T12:13:44.007Z
/* ORBITAL DATA ELEMENTS */
ASCENDING_NODE_LONGITUDE = 161.91
MAXIMUM_RESOLUTION = 0.0277
FOOTPRINT_POINT_LATITUDE = (7.0412,7.05077,7.0575,7.06305,7.06321, 7.04773,6.85446,6.56998,6.20125,6.0128, 5.82577,5.63054,5.33874,5.14473,4.95076 ,4.75841,4.56335,4.27224,3.98007, 3.78657,3.5921,3.16694,2.96674,2.76801, 2.56546,2.25934,2.06537,1.86675,1.66573 ,1.46328,1.16018,0.962259,0.760377, 0.560981,0.359676,0.161986,-0.14087, -0.440163,-0.64036,-0.939443,-1.13885, -1.3373,-1.63479,-1.93124,-2.23089, -2.43175,-2.72765,-3.02667,-3.12687, -3.14351,-3.15038,-3.16744,-3.17382, -3.17412,-3.17379,-2.87492,-2.67663, -2.47701,-2.17752,-1.97794,-1.77845, -1.5874,-1.39168,-1.19003,-0.888444, -0.689088,-0.487292,-0.185706,0.114072, 0.314244,0.517841,0.819872,1.01912, 1.22033,1.52116,1.72213,2.02244,2.22321 ,2.42638,2.62314,2.82483,3.12373, 3.55561,3.84376,4.038,4.23406,4.42622, 4.62061,4.91222,5.10604,5.30049,5.59183 ,5.88097,6.16241,6.35006,6.53784, 6.72535,6.91285,7.00663,7.0412)
FOOTPRINT_POINT_LONGITUDE = (130.365,129.93,129.576,129.234,129.223 ,129.217,129.214,129.211,129.209, 129.207,129.205,129.203,129.2,129.198, 129.196,129.195,129.192,129.189,129.185 ,129.183,129.181,129.176,129.173, 129.171,129.168,129.163,129.161,129.159 ,129.156,129.153,129.148,129.145, 129.142,129.139,129.136,129.133,129.128 ,129.123,129.12,129.115,129.112,129.109 ,129.104,129.099,129.094,129.09,129.085 ,129.079,129.077,129.077,129.498, 130.038,130.388,130.401,130.405,130.403 ,130.402,130.401,130.399,130.398, 130.397,130.399,130.4,130.398,130.396, 130.395,130.393,130.391,130.392,130.391 ,130.389,130.387,130.386,130.385, 130.384,130.383,130.382,130.382,130.38, 130.381,130.38,130.38,130.376,130.377, 130.377,130.376,130.376,130.376,130.375 ,130.375,130.374,130.374,130.374, 130.373,130.373,130.373,130.373,130.373 ,130.373,130.365)
ORBIT_NUMBER = 3160
ORBITAL_ECCENTRICITY = 0.57
ORBITAL_INCLINATION = 86.66
ORBITAL_SEMIMAJOR_AXIS = 8618.0
PERIAPSIS_ALTITUDE = 310.44
PERIAPSIS_ARGUMENT_ANGLE = 162.67
PERIAPSIS_TIME = 2006-06-26T12:09:03.000Z
SPACECRAFT_ORIENTATION = (0.0,-1.0,0.0)
^MEX_ORIENTATION_DESC = "MEX_ORIENTATION_DESC.TXT"
SPACECRAFT_POINTING_MODE = ACROSSTRACK
^MEX_POINTING_DESC = "MEX_POINTING_DESC.TXT"
RIGHT_ASCENSION = -1e+32
DECLINATION = -1e+32
OFFSET_ANGLE = 0.229
SPACECRAFT_SOLAR_DISTANCE = 2.49234e+08
TARGET_NAME = MARS
/* CAMERA DATA ELEMENTS */
DETECTOR_TEMPERATURE = 17.351
FOCAL_PLANE_TEMPERATURE = 8.3794
INST_CMPRS_NAME = "DISCRETE COSINE TRANSFORMATION (DCT)"
INST_CMPRS_RATIO = 8.0527
INST_CMPRS_QUALITY = 0
INST_CMPRS_QUANTZ_TBL_ID = 0
INSTRUMENT_TEMPERATURE = 11.0301
LENS_TEMPERATURE = 8.5833
MACROPIXEL_SIZE = 2
PIXEL_SUBSAMPLING_FLAG = N
SIGNAL_CHAIN_ID = 1
/* RADIOMETRIC DATA ELEMENTS */
BANDWIDTH = 180.0
CENTER_FILTER_WAVELENGTH = 677.0
RADIANCE_OFFSET = 3.13546
RADIANCE_SCALING_FACTOR = 0.0243302
REFLECTANCE_SCALING_FACTOR = 0.000788505
MEX:REFLECTANCE_OFFSET = 0.101615
/* IMAGE OBJECT DEFINITIONS */
OBJECT = IMAGE
  INTERCHANGE_FORMAT = BINARY
  LINES = 19024
  LINE_SAMPLES = 3148
  SAMPLE_TYPE = UNSIGNED_INTEGER
  SAMPLE_BITS = 8
  BANDS = 1
  BAND_STORAGE_TYPE = BAND_SEQUENTIAL
  MAXIMUM = 255
  MEAN = 137.907
  MINIMUM = 1
  STANDARD_DEVIATION = 17.623
END_OBJECT = IMAGE
/* MAP OBJECT DEFINITIONS */
OBJECT = IMAGE_MAP_PROJECTION
  ^DATA_SET_MAP_PROJECTION_CATALOG= "DSMAP.CAT"
  A_AXIS_RADIUS = 3396.0
  B_AXIS_RADIUS = 3396.0
  C_AXIS_RADIUS = 3396.0
  CENTER_LATITUDE = 0.0
  CENTER_LONGITUDE = 130.0
  COORDINATE_SYSTEM_NAME = PLANETOGRAPHIC
  COORDINATE_SYSTEM_TYPE = "BODY-FIXED ROTATING"
  EASTERNMOST_LONGITUDE = 130.405
  FIRST_STANDARD_PARALLEL = "N/A"
  LINE_FIRST_PIXEL = 1
  LINE_LAST_PIXEL = 19024
  LINE_PROJECTION_OFFSET = 16743.75
  MAP_PROJECTION_ROTATION = 0.0
  MAP_PROJECTION_TYPE = SINUSOIDAL
  MAP_RESOLUTION = 2370.85521546667
  MAP_SCALE = 0.025
  MAXIMUM_LATITUDE = 7.06321
  MINIMUM_LATITUDE = -3.17412
  POSITIVE_LONGITUDE_DIRECTION = EAST
  REFERENCE_LATITUDE = "N/A"
  REFERENCE_LONGITUDE = "N/A"
  SAMPLE_FIRST_PIXEL = 1
  SAMPLE_LAST_PIXEL = 3148
  SAMPLE_PROJECTION_OFFSET = 2155.25
  SECOND_STANDARD_PARALLEL = "N/A"
  WESTERNMOST_LONGITUDE = 129.077
END_OBJECT = IMAGE_MAP_PROJECTION
END
