PDS_VERSION_ID = PDS3
/* FILE DATA ELEMENTS */
RECORD_TYPE = UNDEFINED
/* POINTERS TO DATA OBJECTS */
^IMAGE = ("H3153_0000_S14.TIF")
/* IDENTIFICATION DATA ELEMENTS */
DATA_SET_ID = "MEX-M-HRSC-4-REFDR-MAPPROJECT-EXT1-V4.0"
DATA_SET_NAME = "MARS EXPRESS HRSC MAP PROJECTED REFDR EXTENSION1 V4.0"
DETECTOR_ID = MEX_HRSC_S1
EVENT_TYPE = "MARS-REGIONAL-MAPPING-Te-Fl-Mw"
INSTRUMENT_HOST_ID = MEX
INSTRUMENT_HOST_NAME = "MARS EXPRESS"
INSTRUMENT_ID = HRSC
INSTRUMENT_NAME = "HIGH RESOLUTION STEREO CAMERA"
MISSION_NAME = "MARS EXPRESS"
MISSION_PHASE_NAME = ME_Phase_3
PROCESSING_LEVEL_ID = 4
PRODUCT_CREATION_TIME = 2023-02-09T11:24:25.000Z
PRODUCT_ID = "H3153_0000_S14.TIF"
RELEASE_ID = 0003
REVISION_ID = 0000
/* QUALITY DATA ELEMENTS */
DATA_QUALITY_ID = 1
DATA_QUALITY_DESC = "Data calculated based on original SPICE kernels"
/* TIME DATA ELEMENTS */
SPACECRAFT_CLOCK_START_COUNT = "1/0099234427.08420"
SPACECRAFT_CLOCK_STOP_COUNT = "1/0099234683.40015"
START_TIME = 2006-06-24T13:07:12.434Z
STOP_TIME = 2006-06-24T13:10:22.903Z
/* ORBITAL DATA ELEMENTS */
ASCENDING_NODE_LONGITUDE = 162.06
MAXIMUM_RESOLUTION = 0.0265
FOOTPRINT_POINT_LATITUDE = (14.0417,14.046,14.0482,14.0492,14.0492 ,14.0216,13.7785,13.5342,13.2903, 13.0461,12.6802,12.4356,12.1914,11.8244 ,11.5796,11.3344,11.0897,10.7227, 10.4777,10.232,9.98696,9.74151,9.37366, 9.12772,8.7591,8.3903,8.14415,7.89856, 7.6549,7.40347,7.15228,6.8997,6.64746, 6.2619,5.88011,5.62491,5.2427,4.85791, 4.60303,4.3473,4.08658,3.69506,3.43249, 3.0377,2.77352,2.37642,2.11328,1.84413, 1.57145,1.43528,1.40092,1.39644,1.38927 ,1.3891,1.38948,1.66143,1.93111,2.19722 ,2.59212,2.98731,3.25143,3.51595, 3.77996,4.05429,4.31914,4.56595,4.81924 ,5.07104,5.32646,5.5822,5.835,6.09033, 6.34698,6.73143,7.10825,7.36193,7.61673 ,7.86169,8.22912,8.47442,8.72086, 9.08952,9.33479,9.70297,9.94853,10.1934 ,10.4392,10.8073,11.0519,11.4193, 11.6639,12.0313,12.2763,12.5206,12.8872 ,13.1316,13.4977,13.8633,13.985, 14.0417)
FOOTPRINT_POINT_LONGITUDE = (98.0852,97.6531,97.3086,96.9863, 96.9756,96.9653,96.9659,96.9662,96.9665 ,96.9666,96.9669,96.9668,96.9668, 96.9665,96.9662,96.9658,96.9654,96.9647 ,96.9641,96.9633,96.9626,96.9617, 96.9604,96.9592,96.9575,96.9555,96.9541 ,96.9528,96.9518,96.9502,96.9494, 96.9482,96.947,96.9433,96.9404,96.9382, 96.9349,96.9308,96.9284,96.9258,96.9233 ,96.9202,96.9177,96.9135,96.9103, 96.9053,96.9022,96.8978,96.8942,96.8925 ,96.892,97.5276,98.073,98.0847,98.0889, 98.0883,98.0879,98.0864,98.0858,98.0853 ,98.0847,98.084,98.0836,98.0795,98.0784 ,98.081,98.0814,98.0823,98.082,98.0816, 98.0823,98.0821,98.0814,98.0807,98.0827 ,98.0832,98.0825,98.083,98.0837,98.0841 ,98.0841,98.0844,98.0848,98.0853, 98.0856,98.0862,98.0864,98.0869,98.0875 ,98.0883,98.0889,98.0896,98.09,98.0907, 98.0916,98.0922,98.0931,98.0943,98.0947 ,98.0852)
ORBIT_NUMBER = 3153
ORBITAL_ECCENTRICITY = 0.57
ORBITAL_INCLINATION = 86.66
ORBITAL_SEMIMAJOR_AXIS = 8622.17
PERIAPSIS_ALTITUDE = 309.15
PERIAPSIS_ARGUMENT_ANGLE = 163.88
PERIAPSIS_TIME = 2006-06-24T13:07:08.000Z
SPACECRAFT_ORIENTATION = (0.0,-1.0,0.0)
^MEX_ORIENTATION_DESC = "MEX_ORIENTATION_DESC.TXT"
SPACECRAFT_POINTING_MODE = ACROSSTRACK
^MEX_POINTING_DESC = "MEX_POINTING_DESC.TXT"
RIGHT_ASCENSION = -1e+32
DECLINATION = -1e+32
OFFSET_ANGLE = 0.1
SPACECRAFT_SOLAR_DISTANCE = 2.49233e+08
TARGET_NAME = MARS
/* CAMERA DATA ELEMENTS */
DETECTOR_TEMPERATURE = 17.351
FOCAL_PLANE_TEMPERATURE = 7.9716
INST_CMPRS_NAME = "DISCRETE COSINE TRANSFORMATION (DCT)"
INST_CMPRS_RATIO = 8.6253
INST_CMPRS_QUALITY = 0
INST_CMPRS_QUANTZ_TBL_ID = 0
INSTRUMENT_TEMPERATURE = 11.234
LENS_TEMPERATURE = 8.5833
MACROPIXEL_SIZE = 2
MISSING_FRAMES = 0
PIXEL_SUBSAMPLING_FLAG = N
SIGNAL_CHAIN_ID = 1
/* RADIOMETRIC DATA ELEMENTS */
BANDWIDTH = 180.0
CENTER_FILTER_WAVELENGTH = 677.0
RADIANCE_OFFSET = 3.53573
RADIANCE_SCALING_FACTOR = 0.0196211
REFLECTANCE_SCALING_FACTOR = 0.000635882
MEX:REFLECTANCE_OFFSET = 0.114586
/* IMAGE OBJECT DEFINITIONS */
OBJECT = IMAGE
  INTERCHANGE_FORMAT = BINARY
  LINES = 29993
  LINE_SAMPLES = 2920
  SAMPLE_TYPE = UNSIGNED_INTEGER
  SAMPLE_BITS = 8
  BANDS = 1
  BAND_STORAGE_TYPE = BAND_SEQUENTIAL
  MAXIMUM = 255
  MEAN = 157.843
  MINIMUM = 1
  STANDARD_DEVIATION = 19.8798
END_OBJECT = IMAGE
/* MAP OBJECT DEFINITIONS */
OBJECT = IMAGE_MAP_PROJECTION
  ^DATA_SET_MAP_PROJECTION_CATALOG= "DSMAP.CAT"
  A_AXIS_RADIUS = 3396.0
  B_AXIS_RADIUS = 3396.0
  C_AXIS_RADIUS = 3396.0
  CENTER_LATITUDE = 0.0
  CENTER_LONGITUDE = 98.0
  COORDINATE_SYSTEM_NAME = PLANETOGRAPHIC
  COORDINATE_SYSTEM_TYPE = "BODY-FIXED ROTATING"
  EASTERNMOST_LONGITUDE = 98.0947
  FIRST_STANDARD_PARALLEL = "N/A"
  LINE_FIRST_PIXEL = 1
  LINE_LAST_PIXEL = 29993
  LINE_PROJECTION_OFFSET = 33307.75
  MAP_PROJECTION_ROTATION = 0.0
  MAP_PROJECTION_TYPE = SINUSOIDAL
  MAP_RESOLUTION = 2370.85521546667
  MAP_SCALE = 0.025
  MAXIMUM_LATITUDE = 14.0492
  MINIMUM_LATITUDE = 1.3891
  POSITIVE_LONGITUDE_DIRECTION = EAST
  REFERENCE_LATITUDE = "N/A"
  REFERENCE_LONGITUDE = "N/A"
  SAMPLE_FIRST_PIXEL = 1
  SAMPLE_LAST_PIXEL = 2920
  SAMPLE_PROJECTION_OFFSET = 2669.25
  SECOND_STANDARD_PARALLEL = "N/A"
  WESTERNMOST_LONGITUDE = 96.892
END_OBJECT = IMAGE_MAP_PROJECTION
END
