PDS_VERSION_ID = PDS3
/* FILE DATA ELEMENTS */
RECORD_TYPE = UNDEFINED
/* POINTERS TO DATA OBJECTS */
^IMAGE = ("H3147_0001_ND4.TIF")
/* IDENTIFICATION DATA ELEMENTS */
DATA_SET_ID = "MEX-M-HRSC-4-REFDR-MAPPROJECT-EXT1-V4.0"
DATA_SET_NAME = "MARS EXPRESS HRSC MAP PROJECTED REFDR EXTENSION1 V4.0"
DETECTOR_ID = MEX_HRSC_NADIR
EVENT_TYPE = "MARS-REGIONAL-MAPPING-Fl-Mw-La"
INSTRUMENT_HOST_ID = MEX
INSTRUMENT_HOST_NAME = "MARS EXPRESS"
INSTRUMENT_ID = HRSC
INSTRUMENT_NAME = "HIGH RESOLUTION STEREO CAMERA"
MISSION_NAME = "MARS EXPRESS"
MISSION_PHASE_NAME = ME_Phase_3
PROCESSING_LEVEL_ID = 4
PRODUCT_CREATION_TIME = 2023-02-09T11:24:25.000Z
PRODUCT_ID = "H3147_0001_ND4.TIF"
RELEASE_ID = 0003
REVISION_ID = 0000
/* QUALITY DATA ELEMENTS */
DATA_QUALITY_ID = 1
DATA_QUALITY_DESC = "Data calculated based on original SPICE kernels"
/* TIME DATA ELEMENTS */
SPACECRAFT_CLOCK_START_COUNT = "1/0099089568.08259"
SPACECRAFT_CLOCK_STOP_COUNT = "1/0099089774.63876"
START_TIME = 2006-06-22T20:53:27.933Z
STOP_TIME = 2006-06-22T20:55:28.913Z
/* ORBITAL DATA ELEMENTS */
ASCENDING_NODE_LONGITUDE = 162.19
MAXIMUM_RESOLUTION = 0.0158
FOOTPRINT_POINT_LATITUDE = (-5.31005,-5.30776,-5.30663,-5.30575, -5.30433,-5.30217,-5.30208,-5.30227, -5.58777,-5.8729,-6.15765,-6.44199, -6.72596,-7.00955,-7.29275,-7.5825, -7.72756,-7.87251,-8.01735,-8.16209, -8.30671,-8.52763,-8.67577,-8.8238, -8.97172,-9.11952,-9.2672,-9.49245, -9.64361,-9.79464,-9.94555,-10.0963, -10.247,-10.4006,-10.5547,-10.7088, -10.8626,-11.0164,-11.17,-11.4055, -11.5625,-11.7194,-11.8761,-12.0326, -12.1927,-12.3527,-12.5125,-12.6721, -12.7519,-12.7602,-12.7626,-12.7647, -12.7664,-12.7677,-12.7691,-12.7698, -12.7698,-12.7696,-12.61,-12.4503, -12.2904,-12.1303,-11.9718,-11.8152, -11.6584,-11.5015,-11.3444,-11.1872, -11.0336,-10.8798,-10.7259,-10.5719, -10.4177,-10.2639,-10.1132,-9.96245, -9.81152,-9.66047,-9.50928,-9.28379, -9.13608,-8.98827,-8.84033,-8.69227, -8.54409,-8.32294,-8.03352,-7.88864, -7.74366,-7.59857,-7.45337,-7.30856, -7.0253,-6.74164,-6.31538,-6.03075, -5.74574,-5.38894,-5.31751,-5.31005)
FOOTPRINT_POINT_LONGITUDE = (327.665,327.215,327.011,326.862,326.63 ,326.303,326.29,326.28,326.274,326.268, 326.261,326.25,326.241,326.235,326.229, 326.221,326.217,326.213,326.21,326.206, 326.202,326.196,326.192,326.188,326.185 ,326.181,326.177,326.171,326.166, 326.162,326.158,326.154,326.15,326.146, 326.141,326.137,326.133,326.131,326.125 ,326.118,326.114,326.111,326.108, 326.104,326.099,326.095,326.09,326.085, 326.083,326.082,326.366,326.666,326.933 ,327.183,327.517,327.75,327.767,327.775 ,327.772,327.769,327.766,327.763,327.76 ,327.758,327.756,327.753,327.751, 327.749,327.746,327.743,327.74,327.738, 327.736,327.733,327.732,327.733,327.73, 327.728,327.725,327.719,327.718,327.717 ,327.716,327.714,327.712,327.709, 327.706,327.703,327.702,327.7,327.698, 327.696,327.693,327.69,327.678,327.675, 327.672,327.669,327.668,327.665)
ORBIT_NUMBER = 3147
ORBITAL_ECCENTRICITY = 0.57
ORBITAL_INCLINATION = 86.67
ORBITAL_SEMIMAJOR_AXIS = 8613.88
PERIAPSIS_ALTITUDE = 309.31
PERIAPSIS_ARGUMENT_ANGLE = 164.96
PERIAPSIS_TIME = 2006-06-22T20:48:14.000Z
SPACECRAFT_ORIENTATION = (0.0,-1.0,0.0)
^MEX_ORIENTATION_DESC = "MEX_ORIENTATION_DESC.TXT"
SPACECRAFT_POINTING_MODE = NADIR
^MEX_POINTING_DESC = "MEX_POINTING_DESC.TXT"
RIGHT_ASCENSION = -1e+32
DECLINATION = -1e+32
OFFSET_ANGLE = -1e+32
SPACECRAFT_SOLAR_DISTANCE = 2.49227e+08
TARGET_NAME = MARS
/* CAMERA DATA ELEMENTS */
DETECTOR_TEMPERATURE = 18.9822
FOCAL_PLANE_TEMPERATURE = 8.5833
INST_CMPRS_NAME = "DISCRETE COSINE TRANSFORMATION (DCT)"
INST_CMPRS_RATIO = 6.93624
INST_CMPRS_QUALITY = 0
INST_CMPRS_QUANTZ_TBL_ID = 0
INSTRUMENT_TEMPERATURE = 12.6613
LENS_TEMPERATURE = 8.7872
MACROPIXEL_SIZE = 1
MISSING_FRAMES = 0
PIXEL_SUBSAMPLING_FLAG = N
SIGNAL_CHAIN_ID = 0
/* RADIOMETRIC DATA ELEMENTS */
BANDWIDTH = 177.0
CENTER_FILTER_WAVELENGTH = 677.5
RADIANCE_OFFSET = 0.906337
RADIANCE_SCALING_FACTOR = 0.0184548
REFLECTANCE_SCALING_FACTOR = 0.000608951
MEX:REFLECTANCE_OFFSET = 0.0299062
/* IMAGE OBJECT DEFINITIONS */
OBJECT = IMAGE
  INTERCHANGE_FORMAT = BINARY
  LINES = 35412
  LINE_SAMPLES = 7828
  SAMPLE_TYPE = UNSIGNED_INTEGER
  SAMPLE_BITS = 8
  BANDS = 1
  BAND_STORAGE_TYPE = BAND_SEQUENTIAL
  MAXIMUM = 255
  MEAN = 76.9161
  MINIMUM = 1
  STANDARD_DEVIATION = 24.4552
END_OBJECT = IMAGE
/* MAP OBJECT DEFINITIONS */
OBJECT = IMAGE_MAP_PROJECTION
  ^DATA_SET_MAP_PROJECTION_CATALOG= "DSMAP.CAT"
  A_AXIS_RADIUS = 3396.0
  B_AXIS_RADIUS = 3396.0
  C_AXIS_RADIUS = 3396.0
  CENTER_LATITUDE = 0.0
  CENTER_LONGITUDE = 327.0
  COORDINATE_SYSTEM_NAME = PLANETOGRAPHIC
  COORDINATE_SYSTEM_TYPE = "BODY-FIXED ROTATING"
  EASTERNMOST_LONGITUDE = 327.775
  FIRST_STANDARD_PARALLEL = "N/A"
  LINE_FIRST_PIXEL = 1
  LINE_LAST_PIXEL = 35412
  LINE_PROJECTION_OFFSET = -25127.0
  MAP_PROJECTION_ROTATION = 0.0
  MAP_PROJECTION_TYPE = SINUSOIDAL
  MAP_RESOLUTION = 4741.71043093333
  MAP_SCALE = 0.0125
  MAXIMUM_LATITUDE = -5.30208
  MINIMUM_LATITUDE = -12.7698
  POSITIVE_LONGITUDE_DIRECTION = EAST
  REFERENCE_LATITUDE = "N/A"
  REFERENCE_LONGITUDE = "N/A"
  SAMPLE_FIRST_PIXEL = 1
  SAMPLE_LAST_PIXEL = 7828
  SAMPLE_PROJECTION_OFFSET = 4237.0
  SECOND_STANDARD_PARALLEL = "N/A"
  WESTERNMOST_LONGITUDE = 326.082
END_OBJECT = IMAGE_MAP_PROJECTION
END
