PDS_VERSION_ID = PDS3
/* FILE DATA ELEMENTS */
RECORD_TYPE = UNDEFINED
/* POINTERS TO DATA OBJECTS */
^IMAGE = ("H3147_0000_IR4.TIF")
/* IDENTIFICATION DATA ELEMENTS */
DATA_SET_ID = "MEX-M-HRSC-4-REFDR-MAPPROJECT-EXT1-V4.0"
DATA_SET_NAME = "MARS EXPRESS HRSC MAP PROJECTED REFDR EXTENSION1 V4.0"
DETECTOR_ID = MEX_HRSC_IR
EVENT_TYPE = "MARS-LOCAL-CARTOGRAPHY-Fl-Ot"
INSTRUMENT_HOST_ID = MEX
INSTRUMENT_HOST_NAME = "MARS EXPRESS"
INSTRUMENT_ID = HRSC
INSTRUMENT_NAME = "HIGH RESOLUTION STEREO CAMERA"
MISSION_NAME = "MARS EXPRESS"
MISSION_PHASE_NAME = ME_Phase_3
PROCESSING_LEVEL_ID = 4
PRODUCT_CREATION_TIME = 2023-02-09T11:24:25.000Z
PRODUCT_ID = "H3147_0000_IR4.TIF"
RELEASE_ID = 0003
REVISION_ID = 0000
/* QUALITY DATA ELEMENTS */
DATA_QUALITY_ID = 1
DATA_QUALITY_DESC = "Data calculated based on original SPICE kernels"
/* TIME DATA ELEMENTS */
SPACECRAFT_CLOCK_START_COUNT = "1/0099089162.09069"
SPACECRAFT_CLOCK_STOP_COUNT = "1/0099089279.32549"
START_TIME = 2006-06-22T20:46:12.481Z
STOP_TIME = 2006-06-22T20:47:12.222Z
/* ORBITAL DATA ELEMENTS */
ASCENDING_NODE_LONGITUDE = 162.19
MAXIMUM_RESOLUTION = 0.1063
FOOTPRINT_POINT_LATITUDE = (21.4566,21.4567,21.4565,21.4563,21.456 ,21.4554,21.4549,21.4542,21.4535, 21.4528,21.4519,21.4507,21.4506,21.4131 ,21.2227,21.1464,20.9952,20.9188, 20.8411,20.7259,20.6495,20.5732,20.4587 ,20.306,20.2295,20.1525,20.0758,19.9991 ,19.884,19.8074,19.7307,19.6157,19.539, 19.4622,19.3854,19.3087,19.1935,19.1166 ,19.0398,18.963,18.8862,18.8094,18.6565 ,18.508,18.3593,18.2106,18.099,17.9501, 17.8008,17.6143,17.577,17.5552,17.5564, 17.5573,17.5582,17.5593,17.5602,17.5608 ,17.5615,17.5614,17.5613,17.5629,17.86, 18.0458,18.1947,18.306,18.4546,18.6033, 18.793,18.8699,18.9469,19.0238,19.1392, 19.2161,19.293,19.3699,19.4852,19.5621, 19.6389,19.7156,19.7923,19.8691,19.9841 ,20.0606,20.1371,20.2136,20.29,20.3666, 20.4814,20.5578,20.6343,20.7489,20.8253 ,20.9018,20.9783,21.0546,21.1692, 21.3598,21.398,21.4566)
FOOTPRINT_POINT_LONGITUDE = (327.634,327.521,327.352,327.262, 327.161,327.026,326.936,326.834,326.744 ,326.654,326.564,326.452,326.44,326.422 ,326.425,326.426,326.429,326.43,326.43, 326.432,326.433,326.434,326.436,326.438 ,326.439,326.44,326.441,326.442,326.443 ,326.444,326.445,326.447,326.448, 326.448,326.449,326.45,326.452,326.453, 326.453,326.454,326.455,326.456,326.458 ,326.459,326.461,326.463,326.464, 326.465,326.466,326.468,326.468,326.469 ,326.619,326.728,326.891,326.978,327.13 ,327.293,327.445,327.608,327.619, 327.626,327.628,327.629,327.63,327.63, 327.631,327.632,327.633,327.633,327.634 ,327.634,327.635,327.635,327.635, 327.636,327.636,327.637,327.637,327.638 ,327.638,327.639,327.639,327.64,327.64, 327.641,327.641,327.642,327.642,327.643 ,327.643,327.644,327.644,327.645, 327.645,327.646,327.646,327.648,327.648 ,327.634)
ORBIT_NUMBER = 3147
ORBITAL_ECCENTRICITY = 0.57
ORBITAL_INCLINATION = 86.67
ORBITAL_SEMIMAJOR_AXIS = 8613.88
PERIAPSIS_ALTITUDE = 309.31
PERIAPSIS_ARGUMENT_ANGLE = 164.96
PERIAPSIS_TIME = 2006-06-22T20:48:14.000Z
SPACECRAFT_ORIENTATION = (0.0,-1.0,0.0)
^MEX_ORIENTATION_DESC = "MEX_ORIENTATION_DESC.TXT"
SPACECRAFT_POINTING_MODE = NADIR
^MEX_POINTING_DESC = "MEX_POINTING_DESC.TXT"
RIGHT_ASCENSION = -1e+32
DECLINATION = -1e+32
OFFSET_ANGLE = -1e+32
SPACECRAFT_SOLAR_DISTANCE = 2.49227e+08
TARGET_NAME = MARS
/* CAMERA DATA ELEMENTS */
DETECTOR_TEMPERATURE = 17.1471
FOCAL_PLANE_TEMPERATURE = 8.3794
INST_CMPRS_NAME = "DISCRETE COSINE TRANSFORMATION (DCT)"
INST_CMPRS_RATIO = 17.3669
INST_CMPRS_QUALITY = 0
INST_CMPRS_QUANTZ_TBL_ID = 0
INSTRUMENT_TEMPERATURE = 11.4379
LENS_TEMPERATURE = 8.7872
MACROPIXEL_SIZE = 8
MISSING_FRAMES = 0
PIXEL_SUBSAMPLING_FLAG = N
SIGNAL_CHAIN_ID = 2
/* RADIOMETRIC DATA ELEMENTS */
BANDWIDTH = 81.0
CENTER_FILTER_WAVELENGTH = 955.5
RADIANCE_OFFSET = 0.788028
RADIANCE_SCALING_FACTOR = 0.00391941
REFLECTANCE_SCALING_FACTOR = 0.000525218
MEX:REFLECTANCE_OFFSET = 0.105599
/* IMAGE OBJECT DEFINITIONS */
OBJECT = IMAGE
  INTERCHANGE_FORMAT = BINARY
  LINES = 2298
  LINE_SAMPLES = 672
  SAMPLE_TYPE = UNSIGNED_INTEGER
  SAMPLE_BITS = 8
  BANDS = 1
  BAND_STORAGE_TYPE = BAND_SEQUENTIAL
  MAXIMUM = 255
  MEAN = 123.985
  MINIMUM = 2
  STANDARD_DEVIATION = 24.8226
END_OBJECT = IMAGE
/* MAP OBJECT DEFINITIONS */
OBJECT = IMAGE_MAP_PROJECTION
  ^DATA_SET_MAP_PROJECTION_CATALOG= "DSMAP.CAT"
  A_AXIS_RADIUS = 3396.0
  B_AXIS_RADIUS = 3396.0
  C_AXIS_RADIUS = 3396.0
  CENTER_LATITUDE = 0.0
  CENTER_LONGITUDE = 327.0
  COORDINATE_SYSTEM_NAME = PLANETOGRAPHIC
  COORDINATE_SYSTEM_TYPE = "BODY-FIXED ROTATING"
  EASTERNMOST_LONGITUDE = 327.648
  FIRST_STANDARD_PARALLEL = "N/A"
  LINE_FIRST_PIXEL = 1
  LINE_LAST_PIXEL = 2298
  LINE_PROJECTION_OFFSET = 12715.6875
  MAP_PROJECTION_ROTATION = 0.0
  MAP_PROJECTION_TYPE = SINUSOIDAL
  MAP_RESOLUTION = 592.713803866667
  MAP_SCALE = 0.1
  MAXIMUM_LATITUDE = 21.4567
  MINIMUM_LATITUDE = 17.5552
  POSITIVE_LONGITUDE_DIRECTION = EAST
  REFERENCE_LATITUDE = "N/A"
  REFERENCE_LONGITUDE = "N/A"
  SAMPLE_FIRST_PIXEL = 1
  SAMPLE_LAST_PIXEL = 672
  SAMPLE_PROJECTION_OFFSET = 319.4375
  SECOND_STANDARD_PARALLEL = "N/A"
  WESTERNMOST_LONGITUDE = 326.422
END_OBJECT = IMAGE_MAP_PROJECTION
END
