PDS_VERSION_ID = PDS3
/* FILE DATA ELEMENTS */
RECORD_TYPE = UNDEFINED
/* POINTERS TO DATA OBJECTS */
^IMAGE = ("H3140_0000_S14.TIF")
/* IDENTIFICATION DATA ELEMENTS */
DATA_SET_ID = "MEX-M-HRSC-4-REFDR-MAPPROJECT-EXT1-V4.0"
DATA_SET_NAME = "MARS EXPRESS HRSC MAP PROJECTED REFDR EXTENSION1 V4.0"
DETECTOR_ID = MEX_HRSC_S1
EVENT_TYPE = "MARS-REGIONAL-MAPPING-Te-Fl-Gl"
INSTRUMENT_HOST_ID = MEX
INSTRUMENT_HOST_NAME = "MARS EXPRESS"
INSTRUMENT_ID = HRSC
INSTRUMENT_NAME = "HIGH RESOLUTION STEREO CAMERA"
MISSION_NAME = "MARS EXPRESS"
MISSION_PHASE_NAME = ME_Phase_3
PROCESSING_LEVEL_ID = 4
PRODUCT_CREATION_TIME = 2023-02-09T11:24:25.000Z
PRODUCT_ID = "H3140_0000_S14.TIF"
RELEASE_ID = 0003
REVISION_ID = 0000
/* QUALITY DATA ELEMENTS */
DATA_QUALITY_ID = 1
DATA_QUALITY_DESC = "Data calculated based on original SPICE kernels"
/* TIME DATA ELEMENTS */
SPACECRAFT_CLOCK_START_COUNT = "1/0098919647.08394"
SPACECRAFT_CLOCK_STOP_COUNT = "1/0098919898.57660"
START_TIME = 2006-06-20T21:40:52.426Z
STOP_TIME = 2006-06-20T21:44:05.060Z
/* ORBITAL DATA ELEMENTS */
ASCENDING_NODE_LONGITUDE = 162.33
MAXIMUM_RESOLUTION = 0.0277
FOOTPRINT_POINT_LATITUDE = (32.5277,32.5231,32.5142,32.5041, 32.5037,32.4633,32.1213,31.7776,31.3207 ,31.0905,30.8609,30.6301,30.3986, 30.1658,29.8176,29.4688,29.234,28.9999, 28.7647,28.5305,28.2905,28.0606,27.825, 27.5885,27.3523,27.1143,26.873,26.6347, 26.1752,25.934,25.6959,25.4567,25.2164, 24.9771,24.7376,24.4974,24.2569,24.0161 ,23.7746,23.5328,23.2905,23.0384,22.67, 22.424,22.1906,21.8315,21.5877,21.2206, 20.9759,20.7306,20.6078,20.5975,20.6002 ,20.6023,20.6031,20.6033,20.6033, 20.6037,20.9724,21.2175,21.5842,21.9476 ,22.1869,22.5475,22.788,23.0331,23.2715 ,23.5145,23.764,24.136,24.4974,24.7382, 24.9767,25.3287,25.5705,25.9344,26.2816 ,26.5215,26.7622,27.0007,27.2369,27.475 ,27.7115,28.065,28.3005,28.5346,28.7693 ,29.0037,29.2376,29.4713,29.7044, 30.0534,30.4052,30.8616,31.0974,31.4492 ,31.9068,32.3629,32.4771,32.5277)
FOOTPRINT_POINT_LONGITUDE = (295.592,295.013,294.418,293.951, 293.935,293.917,293.933,293.948,293.969 ,293.979,293.989,293.998,294.008, 294.017,294.03,294.044,294.052,294.06, 294.068,294.076,294.083,294.092,294.1, 294.107,294.115,294.122,294.128,294.134 ,294.153,294.16,294.167,294.173,294.179 ,294.186,294.192,294.198,294.204, 294.209,294.215,294.22,294.225,294.227, 294.234,294.237,294.245,294.254,294.259 ,294.265,294.269,294.273,294.275, 294.275,294.605,294.971,295.218,295.478 ,295.49,295.494,295.496,295.498,295.501 ,295.504,295.508,295.512,295.515, 295.516,295.519,295.521,295.521,295.52, 295.523,295.525,295.528,295.534,295.535 ,295.537,295.545,295.546,295.548, 295.549,295.552,295.554,295.556,295.56, 295.562,295.565,295.567,295.57,295.572, 295.575,295.577,295.581,295.584,295.591 ,295.592,295.594,295.6,295.606,295.607, 295.592)
ORBIT_NUMBER = 3140
ORBITAL_ECCENTRICITY = 0.571
ORBITAL_INCLINATION = 86.65
ORBITAL_SEMIMAJOR_AXIS = 8621.1
PERIAPSIS_ALTITUDE = 307.39
PERIAPSIS_ARGUMENT_ANGLE = 166.23
PERIAPSIS_TIME = 2006-06-20T21:46:18.000Z
SPACECRAFT_ORIENTATION = (0.0,-1.0,0.0)
^MEX_ORIENTATION_DESC = "MEX_ORIENTATION_DESC.TXT"
SPACECRAFT_POINTING_MODE = NADIR
^MEX_POINTING_DESC = "MEX_POINTING_DESC.TXT"
RIGHT_ASCENSION = -1e+32
DECLINATION = -1e+32
OFFSET_ANGLE = -1e+32
SPACECRAFT_SOLAR_DISTANCE = 2.49215e+08
TARGET_NAME = MARS
/* CAMERA DATA ELEMENTS */
DETECTOR_TEMPERATURE = 17.1471
FOCAL_PLANE_TEMPERATURE = 8.1755
INST_CMPRS_NAME = "DISCRETE COSINE TRANSFORMATION (DCT)"
INST_CMPRS_RATIO = 8.69871
INST_CMPRS_QUALITY = 0
INST_CMPRS_QUANTZ_TBL_ID = 0
INSTRUMENT_TEMPERATURE = 11.0301
LENS_TEMPERATURE = 8.5833
MACROPIXEL_SIZE = 2
MISSING_FRAMES = 1
PIXEL_SUBSAMPLING_FLAG = N
SIGNAL_CHAIN_ID = 1
/* RADIOMETRIC DATA ELEMENTS */
BANDWIDTH = 180.0
CENTER_FILTER_WAVELENGTH = 677.0
RADIANCE_OFFSET = 2.63855
RADIANCE_SCALING_FACTOR = 0.0271266
REFLECTANCE_SCALING_FACTOR = 0.000878991
MEX:REFLECTANCE_OFFSET = 0.0854978
/* IMAGE OBJECT DEFINITIONS */
OBJECT = IMAGE
  INTERCHANGE_FORMAT = BINARY
  LINES = 28188
  LINE_SAMPLES = 3198
  SAMPLE_TYPE = UNSIGNED_INTEGER
  SAMPLE_BITS = 8
  BANDS = 1
  BAND_STORAGE_TYPE = BAND_SEQUENTIAL
  MAXIMUM = 255
  MEAN = 126.725
  MINIMUM = 1
  STANDARD_DEVIATION = 40.8853
END_OBJECT = IMAGE
/* MAP OBJECT DEFINITIONS */
OBJECT = IMAGE_MAP_PROJECTION
  ^DATA_SET_MAP_PROJECTION_CATALOG= "DSMAP.CAT"
  A_AXIS_RADIUS = 3396.0
  B_AXIS_RADIUS = 3396.0
  C_AXIS_RADIUS = 3396.0
  CENTER_LATITUDE = 0.0
  CENTER_LONGITUDE = 295.0
  COORDINATE_SYSTEM_NAME = PLANETOGRAPHIC
  COORDINATE_SYSTEM_TYPE = "BODY-FIXED ROTATING"
  EASTERNMOST_LONGITUDE = 295.607
  FIRST_STANDARD_PARALLEL = "N/A"
  LINE_FIRST_PIXEL = 1
  LINE_LAST_PIXEL = 28188
  LINE_PROJECTION_OFFSET = 77000.25
  MAP_PROJECTION_ROTATION = 0.0
  MAP_PROJECTION_TYPE = SINUSOIDAL
  MAP_RESOLUTION = 2370.85521546667
  MAP_SCALE = 0.025
  MAXIMUM_LATITUDE = 32.5277
  MINIMUM_LATITUDE = 20.5975
  POSITIVE_LONGITUDE_DIRECTION = EAST
  REFERENCE_LATITUDE = "N/A"
  REFERENCE_LONGITUDE = "N/A"
  SAMPLE_FIRST_PIXEL = 1
  SAMPLE_LAST_PIXEL = 3198
  SAMPLE_PROJECTION_OFFSET = 2077.75
  SECOND_STANDARD_PARALLEL = "N/A"
  WESTERNMOST_LONGITUDE = 293.917
END_OBJECT = IMAGE_MAP_PROJECTION
END
