PDS_VERSION_ID = PDS3
/* FILE DATA ELEMENTS */
RECORD_TYPE = UNDEFINED
/* POINTERS TO DATA OBJECTS */
^IMAGE = ("H3132_0000_ND4.TIF")
/* IDENTIFICATION DATA ELEMENTS */
DATA_SET_ID = "MEX-M-HRSC-4-REFDR-MAPPROJECT-EXT1-V4.0"
DATA_SET_NAME = "MARS EXPRESS HRSC MAP PROJECTED REFDR EXTENSION1 V4.0"
DETECTOR_ID = MEX_HRSC_NADIR
EVENT_TYPE = "MARS-REGIONAL-MAPPING-Im-La"
INSTRUMENT_HOST_ID = MEX
INSTRUMENT_HOST_NAME = "MARS EXPRESS"
INSTRUMENT_ID = HRSC
INSTRUMENT_NAME = "HIGH RESOLUTION STEREO CAMERA"
MISSION_NAME = "MARS EXPRESS"
MISSION_PHASE_NAME = ME_Phase_3
PROCESSING_LEVEL_ID = 4
PRODUCT_CREATION_TIME = 2023-02-09T11:24:25.000Z
PRODUCT_ID = "H3132_0000_ND4.TIF"
RELEASE_ID = 0003
REVISION_ID = 0000
/* QUALITY DATA ELEMENTS */
DATA_QUALITY_ID = 1
DATA_QUALITY_DESC = "Data calculated based on original SPICE kernels"
/* TIME DATA ELEMENTS */
SPACECRAFT_CLOCK_START_COUNT = "1/0098726461.07295"
SPACECRAFT_CLOCK_STOP_COUNT = "1/0098726638.55248"
START_TIME = 2006-06-18T16:01:34.064Z
STOP_TIME = 2006-06-18T16:03:32.029Z
/* ORBITAL DATA ELEMENTS */
ASCENDING_NODE_LONGITUDE = 162.51
MAXIMUM_RESOLUTION = 0.0124
FOOTPRINT_POINT_LATITUDE = (10.8357,10.8358,10.8359,10.8358, 10.8356,10.8353,10.8348,10.8348,10.8347 ,10.606,10.4505,10.298,10.1456,9.99323, 9.84085,9.68848,9.38378,9.07914,8.77455 ,8.47005,8.16561,7.86128,7.48097, 7.17685,6.87283,6.56892,6.33549,6.1782, 6.02095,5.86373,5.70654,5.54939,5.39227 ,5.23521,5.07818,4.92119,4.76424, 4.60733,4.45046,4.29363,4.13685,3.98011 ,3.82344,3.66678,3.51018,3.35364, 3.19714,3.1189,3.10317,3.10236,3.10188, 3.101,3.10032,3.09908,3.09903,3.09921, 3.25578,3.4124,3.56906,3.72577,3.88253, 4.03934,4.19619,4.35308,4.51005,4.66703 ,4.82403,4.9811,5.13821,5.29536,5.45254 ,5.60977,5.76704,5.92435,6.08168, 6.23905,6.39645,6.55186,6.85596,7.16019 ,7.46451,7.76893,8.07346,8.37808, 8.68277,8.83515,8.98755,9.13996,9.29238 ,9.44482,9.59728,9.74975,9.90228, 10.0548,10.2073,10.3598,10.5917,10.7443 ,10.8206,10.8357)
FOOTPRINT_POINT_LONGITUDE = (360.772,360.601,360.428,360.252, 360.075,359.895,359.668,359.656,359.638 ,359.64,359.641,359.641,359.642,359.642 ,359.642,359.642,359.642,359.642, 359.642,359.642,359.643,359.641,359.641 ,359.64,359.639,359.638,359.637,359.636 ,359.636,359.635,359.634,359.634, 359.633,359.632,359.631,359.63,359.629, 359.628,359.627,359.625,359.625,359.624 ,359.621,359.621,359.62,359.618,359.617 ,359.616,359.616,359.877,360.058, 360.272,360.455,360.769,360.781,360.786 ,360.786,360.785,360.785,360.784, 360.784,360.783,360.783,360.782,360.782 ,360.781,360.781,360.781,360.78,360.78, 360.779,360.779,360.779,360.778,360.778 ,360.777,360.777,360.777,360.776, 360.776,360.775,360.775,360.774,360.773 ,360.773,360.773,360.772,360.772, 360.772,360.772,360.772,360.772,360.771 ,360.77,360.77,360.77,360.771,360.77, 360.77,360.772)
ORBIT_NUMBER = 3132
ORBITAL_ECCENTRICITY = 0.57
ORBITAL_INCLINATION = 86.64
ORBITAL_SEMIMAJOR_AXIS = 8619.73
PERIAPSIS_ALTITUDE = 307.03
PERIAPSIS_ARGUMENT_ANGLE = 167.62
PERIAPSIS_TIME = 2006-06-18T16:01:11.000Z
SPACECRAFT_ORIENTATION = (0.0,-1.0,0.0)
^MEX_ORIENTATION_DESC = "MEX_ORIENTATION_DESC.TXT"
SPACECRAFT_POINTING_MODE = ACROSSTRACK
^MEX_POINTING_DESC = "MEX_POINTING_DESC.TXT"
RIGHT_ASCENSION = -1e+32
DECLINATION = -1e+32
OFFSET_ANGLE = -0.8
SPACECRAFT_SOLAR_DISTANCE = 2.49194e+08
TARGET_NAME = MARS
/* CAMERA DATA ELEMENTS */
DETECTOR_TEMPERATURE = 17.9627
FOCAL_PLANE_TEMPERATURE = 8.3794
INST_CMPRS_NAME = "DISCRETE COSINE TRANSFORMATION (DCT)"
INST_CMPRS_RATIO = 7.91771
INST_CMPRS_QUALITY = 0
INST_CMPRS_QUANTZ_TBL_ID = 0
INSTRUMENT_TEMPERATURE = 11.0301
LENS_TEMPERATURE = 8.5833
MACROPIXEL_SIZE = 1
MISSING_FRAMES = 2
PIXEL_SUBSAMPLING_FLAG = N
SIGNAL_CHAIN_ID = 0
/* RADIOMETRIC DATA ELEMENTS */
BANDWIDTH = 177.0
CENTER_FILTER_WAVELENGTH = 677.5
RADIANCE_OFFSET = 2.17063
RADIANCE_SCALING_FACTOR = 0.0202533
REFLECTANCE_SCALING_FACTOR = 0.00066812
MEX:REFLECTANCE_OFFSET = 0.0716051
/* IMAGE OBJECT DEFINITIONS */
OBJECT = IMAGE
  INTERCHANGE_FORMAT = BINARY
  LINES = 36686
  LINE_SAMPLES = 5540
  SAMPLE_TYPE = UNSIGNED_INTEGER
  SAMPLE_BITS = 8
  BANDS = 1
  BAND_STORAGE_TYPE = BAND_SEQUENTIAL
  MAXIMUM = 255
  MEAN = 118.175
  MINIMUM = 1
  STANDARD_DEVIATION = 27.08
END_OBJECT = IMAGE
/* MAP OBJECT DEFINITIONS */
OBJECT = IMAGE_MAP_PROJECTION
  ^DATA_SET_MAP_PROJECTION_CATALOG= "DSMAP.CAT"
  A_AXIS_RADIUS = 3396.0
  B_AXIS_RADIUS = 3396.0
  C_AXIS_RADIUS = 3396.0
  CENTER_LATITUDE = 0.0
  CENTER_LONGITUDE = 0.0
  COORDINATE_SYSTEM_NAME = PLANETOGRAPHIC
  COORDINATE_SYSTEM_TYPE = "BODY-FIXED ROTATING"
  EASTERNMOST_LONGITUDE = 0.786
  FIRST_STANDARD_PARALLEL = "N/A"
  LINE_FIRST_PIXEL = 1
  LINE_LAST_PIXEL = 36686
  LINE_PROJECTION_OFFSET = 51393.0
  MAP_PROJECTION_ROTATION = 0.0
  MAP_PROJECTION_TYPE = SINUSOIDAL
  MAP_RESOLUTION = 4741.71043093333
  MAP_SCALE = 0.0125
  MAXIMUM_LATITUDE = 10.8359
  MINIMUM_LATITUDE = 3.09903
  POSITIVE_LONGITUDE_DIRECTION = EAST
  REFERENCE_LATITUDE = "N/A"
  REFERENCE_LONGITUDE = "N/A"
  SAMPLE_FIRST_PIXEL = 1
  SAMPLE_LAST_PIXEL = 5540
  SAMPLE_PROJECTION_OFFSET = 1806.0
  SECOND_STANDARD_PARALLEL = "N/A"
  WESTERNMOST_LONGITUDE = -0.384
END_OBJECT = IMAGE_MAP_PROJECTION
END
