PDS_VERSION_ID = PDS3
/* FILE DATA ELEMENTS */
RECORD_TYPE = UNDEFINED
/* POINTERS TO DATA OBJECTS */
^IMAGE = ("H3128_0000_BL4.TIF")
/* IDENTIFICATION DATA ELEMENTS */
DATA_SET_ID = "MEX-M-HRSC-4-REFDR-MAPPROJECT-EXT1-V4.0"
DATA_SET_NAME = "MARS EXPRESS HRSC MAP PROJECTED REFDR EXTENSION1 V4.0"
DETECTOR_ID = MEX_HRSC_BLUE
EVENT_TYPE = "MARS-REGIONAL-MAPPING-Im-Fl-La"
INSTRUMENT_HOST_ID = MEX
INSTRUMENT_HOST_NAME = "MARS EXPRESS"
INSTRUMENT_ID = HRSC
INSTRUMENT_NAME = "HIGH RESOLUTION STEREO CAMERA"
MISSION_NAME = "MARS EXPRESS"
MISSION_PHASE_NAME = ME_Phase_3
PROCESSING_LEVEL_ID = 4
PRODUCT_CREATION_TIME = 2023-02-09T11:24:25.000Z
PRODUCT_ID = "H3128_0000_BL4.TIF"
RELEASE_ID = 0003
REVISION_ID = 0000
/* QUALITY DATA ELEMENTS */
DATA_QUALITY_ID = 1
DATA_QUALITY_DESC = "Data calculated based on original SPICE kernels"
/* TIME DATA ELEMENTS */
SPACECRAFT_CLOCK_START_COUNT = "1/0098629427.08421"
SPACECRAFT_CLOCK_STOP_COUNT = "1/0098629657.24915"
START_TIME = 2006-06-17T13:04:33.502Z
STOP_TIME = 2006-06-17T13:07:17.554Z
/* ORBITAL DATA ELEMENTS */
ASCENDING_NODE_LONGITUDE = 162.59
MAXIMUM_RESOLUTION = 0.1005
FOOTPRINT_POINT_LATITUDE = (27.7334,27.7294,27.725,27.7195,27.7193 ,27.7219,27.3993,27.1834,26.9684,26.645 ,26.4293,26.2151,25.999,25.782,25.5659, 25.3494,25.0249,24.8084,24.5916,24.3746 ,24.1575,23.9403,23.723,23.5056,23.288, 23.0705,22.8545,22.6438,22.3271,22.116, 21.905,21.6939,21.4826,21.2712,21.0599, 20.8483,20.6361,20.4273,20.0182,19.5072 ,19.0981,18.586,18.381,18.176,17.9708, 17.7656,17.5604,17.1519,17.0529,17.0104 ,17.0136,17.0151,17.0173,17.0187, 17.0188,17.0204,17.4241,17.6293,17.8346 ,18.0398,18.2447,18.4497,18.7574, 18.9628,19.1678,19.5774,19.9863,20.4977 ,20.8139,21.0252,21.2366,21.4477, 21.6593,21.8706,22.0819,22.2934,22.5048 ,22.7159,22.9267,23.1444,23.4706, 23.6881,23.9054,24.1224,24.3399,24.557, 24.774,24.9908,25.3159,25.5327,25.8577, 26.0741,26.2903,26.5073,26.7234,26.9392 ,27.2627,27.5857,27.6932,27.7334)
FOOTPRINT_POINT_LONGITUDE = (35.6254,35.0703,34.6461,34.229,34.2161 ,34.2116,34.2186,34.223,34.2277,34.2343 ,34.2386,34.2436,34.2477,34.2513, 34.2553,34.2591,34.2649,34.2687,34.2722 ,34.2756,34.279,34.2823,34.2855,34.2886 ,34.2916,34.2946,34.2973,34.3001, 34.3038,34.3062,34.3087,34.3111,34.3134 ,34.3156,34.3178,34.3199,34.3215,34.323 ,34.3268,34.3316,34.3351,34.3389, 34.3403,34.3416,34.3428,34.344,34.3451, 34.347,34.3476,34.3478,34.6863,34.9124, 35.1981,35.4872,35.4985,35.506,35.5103, 35.512,35.5141,35.516,35.5169,35.5185, 35.5222,35.5258,35.5281,35.532,35.5335, 35.5382,35.5422,35.5441,35.5464,35.5478 ,35.5519,35.5544,35.5579,35.5625, 35.5666,35.5703,35.5728,35.5756,35.5788 ,35.5817,35.5843,35.5861,35.5905, 35.5935,35.5968,35.5996,35.6044,35.6084 ,35.6151,35.6186,35.622,35.6296,35.6336 ,35.6374,35.6428,35.6479,35.6489, 35.6254)
ORBIT_NUMBER = 3128
ORBITAL_ECCENTRICITY = 0.571
ORBITAL_INCLINATION = 86.64
ORBITAL_SEMIMAJOR_AXIS = 8625.03
PERIAPSIS_ALTITUDE = 306.2
PERIAPSIS_ARGUMENT_ANGLE = 168.37
PERIAPSIS_TIME = 2006-06-17T13:08:35.000Z
SPACECRAFT_ORIENTATION = (0.0,-1.0,0.0)
^MEX_ORIENTATION_DESC = "MEX_ORIENTATION_DESC.TXT"
SPACECRAFT_POINTING_MODE = ACROSSTRACK
^MEX_POINTING_DESC = "MEX_POINTING_DESC.TXT"
RIGHT_ASCENSION = -1e+32
DECLINATION = -1e+32
OFFSET_ANGLE = 0.75
SPACECRAFT_SOLAR_DISTANCE = 2.49181e+08
TARGET_NAME = MARS
/* CAMERA DATA ELEMENTS */
DETECTOR_TEMPERATURE = 17.9627
FOCAL_PLANE_TEMPERATURE = 8.3794
INST_CMPRS_NAME = "DISCRETE COSINE TRANSFORMATION (DCT)"
INST_CMPRS_RATIO = 26.1699
INST_CMPRS_QUALITY = 0
INST_CMPRS_QUANTZ_TBL_ID = 0
INSTRUMENT_TEMPERATURE = 11.4379
LENS_TEMPERATURE = 8.7872
MACROPIXEL_SIZE = 8
MISSING_FRAMES = 0
PIXEL_SUBSAMPLING_FLAG = N
SIGNAL_CHAIN_ID = 2
/* RADIOMETRIC DATA ELEMENTS */
BANDWIDTH = 76.0
CENTER_FILTER_WAVELENGTH = 444.0
RADIANCE_OFFSET = 0.600554
RADIANCE_SCALING_FACTOR = 0.00164484
REFLECTANCE_SCALING_FACTOR = 0.000104932
MEX:REFLECTANCE_OFFSET = 0.0383121
/* IMAGE OBJECT DEFINITIONS */
OBJECT = IMAGE
  INTERCHANGE_FORMAT = BINARY
  LINES = 6359
  LINE_SAMPLES = 770
  SAMPLE_TYPE = UNSIGNED_INTEGER
  SAMPLE_BITS = 8
  BANDS = 1
  BAND_STORAGE_TYPE = BAND_SEQUENTIAL
  MAXIMUM = 255
  MEAN = 120.533
  MINIMUM = 1
  STANDARD_DEVIATION = 22.7011
END_OBJECT = IMAGE
/* MAP OBJECT DEFINITIONS */
OBJECT = IMAGE_MAP_PROJECTION
  ^DATA_SET_MAP_PROJECTION_CATALOG= "DSMAP.CAT"
  A_AXIS_RADIUS = 3396.0
  B_AXIS_RADIUS = 3396.0
  C_AXIS_RADIUS = 3396.0
  CENTER_LATITUDE = 0.0
  CENTER_LONGITUDE = 35.0
  COORDINATE_SYSTEM_NAME = PLANETOGRAPHIC
  COORDINATE_SYSTEM_TYPE = "BODY-FIXED ROTATING"
  EASTERNMOST_LONGITUDE = 35.6489
  FIRST_STANDARD_PARALLEL = "N/A"
  LINE_FIRST_PIXEL = 1
  LINE_LAST_PIXEL = 6359
  LINE_PROJECTION_OFFSET = 16446.8125
  MAP_PROJECTION_ROTATION = 0.0
  MAP_PROJECTION_TYPE = SINUSOIDAL
  MAP_RESOLUTION = 592.713803866667
  MAP_SCALE = 0.1
  MAXIMUM_LATITUDE = 27.7334
  MINIMUM_LATITUDE = 17.0104
  POSITIVE_LONGITUDE_DIRECTION = EAST
  REFERENCE_LATITUDE = "N/A"
  REFERENCE_LONGITUDE = "N/A"
  SAMPLE_FIRST_PIXEL = 1
  SAMPLE_LAST_PIXEL = 770
  SAMPLE_PROJECTION_OFFSET = 424.4375
  SECOND_STANDARD_PARALLEL = "N/A"
  WESTERNMOST_LONGITUDE = 34.2116
END_OBJECT = IMAGE_MAP_PROJECTION
END
