PDS_VERSION_ID = PDS3
/* FILE DATA ELEMENTS */
RECORD_TYPE = UNDEFINED
/* POINTERS TO DATA OBJECTS */
^IMAGE = ("H3122_0000_RE4.TIF")
/* IDENTIFICATION DATA ELEMENTS */
DATA_SET_ID = "MEX-M-HRSC-4-REFDR-MAPPROJECT-EXT1-V4.0"
DATA_SET_NAME = "MARS EXPRESS HRSC MAP PROJECTED REFDR EXTENSION1 V4.0"
DETECTOR_ID = MEX_HRSC_RED
EVENT_TYPE = "MARS-REGIONAL-MAPPING-Vo-Te"
INSTRUMENT_HOST_ID = MEX
INSTRUMENT_HOST_NAME = "MARS EXPRESS"
INSTRUMENT_ID = HRSC
INSTRUMENT_NAME = "HIGH RESOLUTION STEREO CAMERA"
MISSION_NAME = "MARS EXPRESS"
MISSION_PHASE_NAME = ME_Phase_3
PROCESSING_LEVEL_ID = 4
PRODUCT_CREATION_TIME = 2023-02-09T11:24:25.000Z
PRODUCT_ID = "H3122_0000_RE4.TIF"
RELEASE_ID = 0003
REVISION_ID = 0000
/* QUALITY DATA ELEMENTS */
DATA_QUALITY_ID = 1
DATA_QUALITY_DESC = "Data calculated based on original SPICE kernels"
/* TIME DATA ELEMENTS */
SPACECRAFT_CLOCK_START_COUNT = "1/0098484918.09069"
SPACECRAFT_CLOCK_STOP_COUNT = "1/0098485119.04624"
START_TIME = 2006-06-15T20:56:37.152Z
STOP_TIME = 2006-06-15T20:58:32.164Z
/* ORBITAL DATA ELEMENTS */
ASCENDING_NODE_LONGITUDE = 162.72
MAXIMUM_RESOLUTION = 0.1489
FOOTPRINT_POINT_LATITUDE = (-13.6077,-13.6134,-13.6231,-13.6321, -13.6406,-13.6483,-13.6554,-13.662, -13.6624,-13.6992,-13.9965,-14.2992, -14.5427,-14.7852,-15.0902,-15.3988, -15.5839,-15.8318,-15.957,-16.0824, -16.2074,-16.3949,-16.5216,-16.6492, -16.7764,-16.9665,-17.0934,-17.2221, -17.3518,-17.4807,-17.6735,-17.8019, -17.933,-18.0639,-18.26,-18.3902, -18.5218,-18.721,-18.92,-19.0527, -19.1869,-19.3214,-19.5233,-19.6573, -19.8615,-19.9978,-20.0661,-20.1083, -20.1047,-20.101,-20.0971,-20.0904, -20.086,-20.0813,-20.0763,-20.0713, -20.0636,-20.0575,-20.0515,-20.0444, -20.0435,-20.0406,-19.9045,-19.7684, -19.632,-19.4983,-19.297,-19.1629, -18.9621,-18.8299,-18.6312,-18.4986, -18.3012,-18.171,-18.0403,-17.9098, -17.7142,-17.5858,-17.457,-17.3284, -17.1993,-17.0705,-16.9438,-16.817, -16.69,-16.4994,-16.372,-16.1848, -15.9347,-15.8097,-15.6228,-15.3772, -15.0688,-14.8843,-14.5818,-14.3394, -14.097,-13.7397,-13.6801,-13.6077)
FOOTPRINT_POINT_LONGITUDE = (265.262,265.12,264.871,264.623,264.377 ,264.133,263.891,263.65,263.635,263.627 ,263.62,263.612,263.606,263.6,263.592, 263.584,263.579,263.572,263.569,263.566 ,263.562,263.557,263.554,263.55,263.546 ,263.541,263.538,263.534,263.53,263.526 ,263.521,263.517,263.513,263.509, 263.504,263.5,263.496,263.49,263.484, 263.48,263.475,263.471,263.465,263.461, 263.454,263.45,263.448,263.446,263.591, 263.739,263.888,264.13,264.279,264.429, 264.58,264.731,264.94,265.092,265.245, 265.418,265.438,265.45,265.445,265.439, 265.434,265.428,265.42,265.415,265.407, 265.402,265.395,265.39,265.383,265.378, 265.373,265.368,265.361,265.357,265.352 ,265.348,265.343,265.339,265.335, 265.331,265.326,265.32,265.316,265.31, 265.302,265.298,265.293,265.285,265.276 ,265.271,265.262,265.255,265.249, 265.239,265.237,265.262)
ORBIT_NUMBER = 3122
ORBITAL_ECCENTRICITY = 0.571
ORBITAL_INCLINATION = 86.64
ORBITAL_SEMIMAJOR_AXIS = 8634.16
PERIAPSIS_ALTITUDE = 305.32
PERIAPSIS_ARGUMENT_ANGLE = 169.42
PERIAPSIS_TIME = 2006-06-15T20:49:46.000Z
SPACECRAFT_ORIENTATION = (0.0,-1.0,0.0)
^MEX_ORIENTATION_DESC = "MEX_ORIENTATION_DESC.TXT"
SPACECRAFT_POINTING_MODE = ACROSSTRACK
^MEX_POINTING_DESC = "MEX_POINTING_DESC.TXT"
RIGHT_ASCENSION = -1e+32
DECLINATION = -1e+32
OFFSET_ANGLE = 0.77
SPACECRAFT_SOLAR_DISTANCE = 2.49157e+08
TARGET_NAME = MARS
/* CAMERA DATA ELEMENTS */
DETECTOR_TEMPERATURE = 18.3705
FOCAL_PLANE_TEMPERATURE = 8.1755
INST_CMPRS_NAME = "DISCRETE COSINE TRANSFORMATION (DCT)"
INST_CMPRS_RATIO = 10.917
INST_CMPRS_QUALITY = 0
INST_CMPRS_QUANTZ_TBL_ID = 0
INSTRUMENT_TEMPERATURE = 11.234
LENS_TEMPERATURE = 8.5833
MACROPIXEL_SIZE = 8
MISSING_FRAMES = 0
PIXEL_SUBSAMPLING_FLAG = N
SIGNAL_CHAIN_ID = 2
/* RADIOMETRIC DATA ELEMENTS */
BANDWIDTH = 48.0
CENTER_FILTER_WAVELENGTH = 748.0
RADIANCE_OFFSET = 0.213241
RADIANCE_SCALING_FACTOR = 0.00718406
REFLECTANCE_SCALING_FACTOR = 0.00101775
MEX:REFLECTANCE_OFFSET = 0.0302095
/* IMAGE OBJECT DEFINITIONS */
OBJECT = IMAGE
  INTERCHANGE_FORMAT = BINARY
  LINES = 3803
  LINE_SAMPLES = 1045
  SAMPLE_TYPE = UNSIGNED_INTEGER
  SAMPLE_BITS = 8
  BANDS = 1
  BAND_STORAGE_TYPE = BAND_SEQUENTIAL
  MAXIMUM = 255
  MEAN = 79.6944
  MINIMUM = 1
  STANDARD_DEVIATION = 17.1228
END_OBJECT = IMAGE
/* MAP OBJECT DEFINITIONS */
OBJECT = IMAGE_MAP_PROJECTION
  ^DATA_SET_MAP_PROJECTION_CATALOG= "DSMAP.CAT"
  A_AXIS_RADIUS = 3396.0
  B_AXIS_RADIUS = 3396.0
  C_AXIS_RADIUS = 3396.0
  CENTER_LATITUDE = 0.0
  CENTER_LONGITUDE = 264.0
  COORDINATE_SYSTEM_NAME = PLANETOGRAPHIC
  COORDINATE_SYSTEM_TYPE = "BODY-FIXED ROTATING"
  EASTERNMOST_LONGITUDE = 265.45
  FIRST_STANDARD_PARALLEL = "N/A"
  LINE_FIRST_PIXEL = 1
  LINE_LAST_PIXEL = 3803
  LINE_PROJECTION_OFFSET = -8089.4375
  MAP_PROJECTION_ROTATION = 0.0
  MAP_PROJECTION_TYPE = SINUSOIDAL
  MAP_RESOLUTION = 592.713803866667
  MAP_SCALE = 0.1
  MAXIMUM_LATITUDE = -13.6077
  MINIMUM_LATITUDE = -20.1083
  POSITIVE_LONGITUDE_DIRECTION = EAST
  REFERENCE_LATITUDE = "N/A"
  REFERENCE_LONGITUDE = "N/A"
  SAMPLE_FIRST_PIXEL = 1
  SAMPLE_LAST_PIXEL = 1045
  SAMPLE_PROJECTION_OFFSET = 278.1875
  SECOND_STANDARD_PARALLEL = "N/A"
  WESTERNMOST_LONGITUDE = 263.446
END_OBJECT = IMAGE_MAP_PROJECTION
END
