PDS_VERSION_ID = PDS3
/* FILE DATA ELEMENTS */
RECORD_TYPE = UNDEFINED
/* POINTERS TO DATA OBJECTS */
^IMAGE = ("H3115_0000_S14.TIF")
/* IDENTIFICATION DATA ELEMENTS */
DATA_SET_ID = "MEX-M-HRSC-4-REFDR-MAPPROJECT-EXT1-V4.0"
DATA_SET_NAME = "MARS EXPRESS HRSC MAP PROJECTED REFDR EXTENSION1 V4.0"
DETECTOR_ID = MEX_HRSC_S1
EVENT_TYPE = "MARS-REGIONAL-MAPPING-Vo-Fl-Mw"
INSTRUMENT_HOST_ID = MEX
INSTRUMENT_HOST_NAME = "MARS EXPRESS"
INSTRUMENT_ID = HRSC
INSTRUMENT_NAME = "HIGH RESOLUTION STEREO CAMERA"
MISSION_NAME = "MARS EXPRESS"
MISSION_PHASE_NAME = ME_Phase_3
PROCESSING_LEVEL_ID = 4
PRODUCT_CREATION_TIME = 2023-02-09T11:24:25.000Z
PRODUCT_ID = "H3115_0000_S14.TIF"
RELEASE_ID = 0003
REVISION_ID = 0000
/* QUALITY DATA ELEMENTS */
DATA_QUALITY_ID = 1
DATA_QUALITY_DESC = "Data calculated based on original SPICE kernels"
/* TIME DATA ELEMENTS */
SPACECRAFT_CLOCK_START_COUNT = "1/0098314942.09083"
SPACECRAFT_CLOCK_STOP_COUNT = "1/0098315222.57930"
START_TIME = 2006-06-13T21:42:27.486Z
STOP_TIME = 2006-06-13T21:46:11.589Z
/* ORBITAL DATA ELEMENTS */
ASCENDING_NODE_LONGITUDE = 162.88
MAXIMUM_RESOLUTION = 0.0263
FOOTPRINT_POINT_LATITUDE = (26.8585,26.8654,26.8681,26.8681, 26.8681,26.8419,26.5646,26.2858,26.0118 ,25.7321,25.4489,25.1681,24.8853, 24.6034,24.3217,24.0391,23.756,23.4724, 23.0459,22.6185,22.3339,22.0483,21.7633 ,21.3351,20.906,20.6196,20.332,20.0432, 19.6111,19.1884,18.9065,18.6218,18.3364 ,18.0484,17.7624,17.4798,17.0668,16.791 ,16.5149,16.0992,15.6828,15.4047, 15.1265,14.713,14.1737,13.6331,13.3625, 13.0914,12.9559,12.8211,12.8166,12.8111 ,12.8027,12.8025,12.8028,13.074,13.3449 ,13.6159,13.8863,14.1565,14.696,15.1101 ,15.3883,15.6664,15.9439,16.2212, 16.4983,16.7748,17.0506,17.3261,17.6042 ,17.8885,18.1722,18.4556,18.7387, 19.0213,19.3034,19.5849,20.0189,20.3086 ,20.5974,20.8861,21.174,21.4618,21.7492 ,22.1788,22.6075,22.8933,23.3217, 23.7469,24.1757,24.4597,24.742,25.1643, 25.4448,25.8602,26.139,26.5567,26.6959, 26.8585)
FOOTPRINT_POINT_LONGITUDE = (232.645,232.055,231.586,231.149, 231.135,231.125,231.134,231.142,231.151 ,231.159,231.167,231.174,231.181, 231.189,231.196,231.203,231.21,231.217, 231.227,231.236,231.243,231.249,231.255 ,231.264,231.273,231.278,231.284, 231.289,231.296,231.302,231.307,231.31, 231.314,231.317,231.32,231.324,231.328, 231.332,231.335,231.339,231.342,231.345 ,231.347,231.351,231.354,231.358, 231.359,231.361,231.362,231.362,231.693 ,232.037,232.459,232.47,232.474,232.476 ,232.478,232.48,232.482,232.484,232.489 ,232.492,232.495,232.498,232.5,232.503, 232.506,232.509,232.512,232.515,232.518 ,232.521,232.525,232.528,232.531, 232.535,232.539,232.542,232.548,232.552 ,232.556,232.56,232.565,232.569,232.573 ,232.58,232.586,232.591,232.597,232.604 ,232.609,232.613,232.617,232.624, 232.629,232.639,232.644,232.652,232.654 ,232.645)
ORBIT_NUMBER = 3115
ORBITAL_ECCENTRICITY = 0.571
ORBITAL_INCLINATION = 86.65
ORBITAL_SEMIMAJOR_AXIS = 8632.48
PERIAPSIS_ALTITUDE = 303.87
PERIAPSIS_ARGUMENT_ANGLE = 170.67
PERIAPSIS_TIME = 2006-06-13T21:47:32.000Z
SPACECRAFT_ORIENTATION = (0.0,-1.0,0.0)
^MEX_ORIENTATION_DESC = "MEX_ORIENTATION_DESC.TXT"
SPACECRAFT_POINTING_MODE = ACROSSTRACK
^MEX_POINTING_DESC = "MEX_POINTING_DESC.TXT"
RIGHT_ASCENSION = -1e+32
DECLINATION = -1e+32
OFFSET_ANGLE = 0.25
SPACECRAFT_SOLAR_DISTANCE = 2.49125e+08
TARGET_NAME = MARS
/* CAMERA DATA ELEMENTS */
DETECTOR_TEMPERATURE = 17.5549
FOCAL_PLANE_TEMPERATURE = 7.9716
INST_CMPRS_NAME = "DISCRETE COSINE TRANSFORMATION (DCT)"
INST_CMPRS_RATIO = 10.3296
INST_CMPRS_QUALITY = 0
INST_CMPRS_QUANTZ_TBL_ID = 0
INSTRUMENT_TEMPERATURE = 11.234
LENS_TEMPERATURE = 8.3794
MACROPIXEL_SIZE = 2
MISSING_FRAMES = 0
PIXEL_SUBSAMPLING_FLAG = N
SIGNAL_CHAIN_ID = 1
/* RADIOMETRIC DATA ELEMENTS */
BANDWIDTH = 180.0
CENTER_FILTER_WAVELENGTH = 677.0
RADIANCE_OFFSET = 3.87602
RADIANCE_SCALING_FACTOR = 0.0270636
REFLECTANCE_SCALING_FACTOR = 0.000876315
MEX:REFLECTANCE_OFFSET = 0.125505
/* IMAGE OBJECT DEFINITIONS */
OBJECT = IMAGE
  INTERCHANGE_FORMAT = BINARY
  LINES = 33320
  LINE_SAMPLES = 3081
  SAMPLE_TYPE = UNSIGNED_INTEGER
  SAMPLE_BITS = 8
  BANDS = 1
  BAND_STORAGE_TYPE = BAND_SEQUENTIAL
  MAXIMUM = 255
  MEAN = 129.047
  MINIMUM = 1
  STANDARD_DEVIATION = 22.6449
END_OBJECT = IMAGE
/* MAP OBJECT DEFINITIONS */
OBJECT = IMAGE_MAP_PROJECTION
  ^DATA_SET_MAP_PROJECTION_CATALOG= "DSMAP.CAT"
  A_AXIS_RADIUS = 3396.0
  B_AXIS_RADIUS = 3396.0
  C_AXIS_RADIUS = 3396.0
  CENTER_LATITUDE = 0.0
  CENTER_LONGITUDE = 232.0
  COORDINATE_SYSTEM_NAME = PLANETOGRAPHIC
  COORDINATE_SYSTEM_TYPE = "BODY-FIXED ROTATING"
  EASTERNMOST_LONGITUDE = 232.654
  FIRST_STANDARD_PARALLEL = "N/A"
  LINE_FIRST_PIXEL = 1
  LINE_LAST_PIXEL = 33320
  LINE_PROJECTION_OFFSET = 63638.25
  MAP_PROJECTION_ROTATION = 0.0
  MAP_PROJECTION_TYPE = SINUSOIDAL
  MAP_RESOLUTION = 2370.85521546667
  MAP_SCALE = 0.025
  MAXIMUM_LATITUDE = 26.8681
  MINIMUM_LATITUDE = 12.8025
  POSITIVE_LONGITUDE_DIRECTION = EAST
  REFERENCE_LATITUDE = "N/A"
  REFERENCE_LONGITUDE = "N/A"
  SAMPLE_FIRST_PIXEL = 1
  SAMPLE_LAST_PIXEL = 3081
  SAMPLE_PROJECTION_OFFSET = 1777.75
  SECOND_STANDARD_PARALLEL = "N/A"
  WESTERNMOST_LONGITUDE = 231.125
END_OBJECT = IMAGE_MAP_PROJECTION
END
