PDS_VERSION_ID = PDS3
/* FILE DATA ELEMENTS */
RECORD_TYPE = UNDEFINED
/* POINTERS TO DATA OBJECTS */
^IMAGE = ("H3103_0000_P24.TIF")
/* IDENTIFICATION DATA ELEMENTS */
DATA_SET_ID = "MEX-M-HRSC-4-REFDR-MAPPROJECT-EXT1-V4.0"
DATA_SET_NAME = "MARS EXPRESS HRSC MAP PROJECTED REFDR EXTENSION1 V4.0"
DETECTOR_ID = MEX_HRSC_P2
EVENT_TYPE = "MARS-REGIONAL-MAPPING-Fl-Gl-Pf"
INSTRUMENT_HOST_ID = MEX
INSTRUMENT_HOST_NAME = "MARS EXPRESS"
INSTRUMENT_ID = HRSC
INSTRUMENT_NAME = "HIGH RESOLUTION STEREO CAMERA"
MISSION_NAME = "MARS EXPRESS"
MISSION_PHASE_NAME = ME_Phase_3
PROCESSING_LEVEL_ID = 4
PRODUCT_CREATION_TIME = 2023-02-09T11:24:25.000Z
PRODUCT_ID = "H3103_0000_P24.TIF"
RELEASE_ID = 0003
REVISION_ID = 0000
/* QUALITY DATA ELEMENTS */
DATA_QUALITY_ID = 1
DATA_QUALITY_DESC = "Data calculated based on original SPICE kernels"
/* TIME DATA ELEMENTS */
SPACECRAFT_CLOCK_START_COUNT = "1/0098024585.07283"
SPACECRAFT_CLOCK_STOP_COUNT = "1/0098024787.47447"
START_TIME = 2006-06-10T13:04:17.945Z
STOP_TIME = 2006-06-10T13:06:20.535Z
/* ORBITAL DATA ELEMENTS */
ASCENDING_NODE_LONGITUDE = 163.13
MAXIMUM_RESOLUTION = 0.0577
FOOTPRINT_POINT_LATITUDE = (30.4891,30.488,30.4861,30.484,30.4808, 30.4782,30.4747,30.4745,30.5143,30.2563 ,29.998,29.8256,29.6532,29.4806,29.3081 ,29.1356,28.9629,28.7899,28.5303, 28.3573,28.1842,28.011,27.8378,27.6646, 27.4913,27.3178,27.1443,26.9707,26.797, 26.6233,26.4496,26.1892,25.9293,25.5647 ,25.1998,24.9805,24.6881,24.5415, 24.3219,24.1024,23.8102,23.6637,23.5169 ,23.3699,23.2232,23.0031,22.7831, 22.5631,22.4897,22.4845,22.4854,22.4859 ,22.4869,22.4882,22.4893,22.4902, 22.4902,22.4911,22.7113,22.8581,23.0049 ,23.1513,23.3716,23.5183,23.665,23.8116 ,23.9582,24.1781,24.3978,24.5442, 24.6906,24.9831,25.4217,25.6408,25.9328 ,26.1926,26.3666,26.5408,26.7149, 26.9756,27.1495,27.3233,27.4969,27.6705 ,27.9309,28.1044,28.2778,28.4512, 28.6244,28.7976,28.9707,29.2298,29.4026 ,29.6617,29.9205,30.0931,30.2655, 30.4377,30.5238,30.4891)
FOOTPRINT_POINT_LONGITUDE = (331.575,331.392,331.119,330.861, 330.512,330.269,329.965,329.95,329.924, 329.935,329.945,329.952,329.958,329.965 ,329.971,329.978,329.984,329.99,330.0, 330.006,330.012,330.018,330.023,330.029 ,330.035,330.04,330.046,330.051,330.057 ,330.062,330.067,330.075,330.082, 330.092,330.102,330.108,330.116,330.12, 330.126,330.131,330.138,330.141,330.145 ,330.149,330.152,330.157,330.162, 330.167,330.168,330.168,330.328,330.502 ,330.724,330.946,331.231,331.478, 331.491,331.495,331.497,331.499,331.5, 331.502,331.505,331.506,331.508,331.51, 331.511,331.514,331.516,331.518,331.52, 331.523,331.529,331.531,331.535,331.538 ,331.54,331.542,331.545,331.548,331.55, 331.552,331.554,331.557,331.56,331.563, 331.565,331.567,331.57,331.572,331.574, 331.578,331.58,331.584,331.587,331.59, 331.592,331.594,331.595,331.575)
ORBIT_NUMBER = 3103
ORBITAL_ECCENTRICITY = 0.571
ORBITAL_INCLINATION = 86.65
ORBITAL_SEMIMAJOR_AXIS = 8618.73
PERIAPSIS_ALTITUDE = 303.26
PERIAPSIS_ARGUMENT_ANGLE = 172.81
PERIAPSIS_TIME = 2006-06-10T13:09:53.000Z
SPACECRAFT_ORIENTATION = (0.0,-1.0,0.0)
^MEX_ORIENTATION_DESC = "MEX_ORIENTATION_DESC.TXT"
SPACECRAFT_POINTING_MODE = NADIR
^MEX_POINTING_DESC = "MEX_POINTING_DESC.TXT"
RIGHT_ASCENSION = -1e+32
DECLINATION = -1e+32
OFFSET_ANGLE = -1e+32
SPACECRAFT_SOLAR_DISTANCE = 2.49055e+08
TARGET_NAME = MARS
/* CAMERA DATA ELEMENTS */
DETECTOR_TEMPERATURE = 18.5744
FOCAL_PLANE_TEMPERATURE = 8.3794
INST_CMPRS_NAME = "DISCRETE COSINE TRANSFORMATION (DCT)"
INST_CMPRS_RATIO = 8.35779
INST_CMPRS_QUALITY = 0
INST_CMPRS_QUANTZ_TBL_ID = 0
INSTRUMENT_TEMPERATURE = 11.0301
LENS_TEMPERATURE = 8.7872
MACROPIXEL_SIZE = 4
MISSING_FRAMES = 0
PIXEL_SUBSAMPLING_FLAG = N
SIGNAL_CHAIN_ID = 3
/* RADIOMETRIC DATA ELEMENTS */
BANDWIDTH = 177.0
CENTER_FILTER_WAVELENGTH = 676.5
RADIANCE_OFFSET = 2.5723
RADIANCE_SCALING_FACTOR = 0.0120784
REFLECTANCE_SCALING_FACTOR = 0.000397245
MEX:REFLECTANCE_OFFSET = 0.0846002
/* IMAGE OBJECT DEFINITIONS */
OBJECT = IMAGE
  INTERCHANGE_FORMAT = BINARY
  LINES = 9536
  LINE_SAMPLES = 1767
  SAMPLE_TYPE = UNSIGNED_INTEGER
  SAMPLE_BITS = 8
  BANDS = 1
  BAND_STORAGE_TYPE = BAND_SEQUENTIAL
  MAXIMUM = 255
  MEAN = 103.678
  MINIMUM = 1
  STANDARD_DEVIATION = 16.2122
END_OBJECT = IMAGE
/* MAP OBJECT DEFINITIONS */
OBJECT = IMAGE_MAP_PROJECTION
  ^DATA_SET_MAP_PROJECTION_CATALOG= "DSMAP.CAT"
  A_AXIS_RADIUS = 3396.0
  B_AXIS_RADIUS = 3396.0
  C_AXIS_RADIUS = 3396.0
  CENTER_LATITUDE = 0.0
  CENTER_LONGITUDE = 331.0
  COORDINATE_SYSTEM_NAME = PLANETOGRAPHIC
  COORDINATE_SYSTEM_TYPE = "BODY-FIXED ROTATING"
  EASTERNMOST_LONGITUDE = 331.595
  FIRST_STANDARD_PARALLEL = "N/A"
  LINE_FIRST_PIXEL = 1
  LINE_LAST_PIXEL = 9536
  LINE_PROJECTION_OFFSET = 36166.875
  MAP_PROJECTION_ROTATION = 0.0
  MAP_PROJECTION_TYPE = SINUSOIDAL
  MAP_RESOLUTION = 1185.42760773333
  MAP_SCALE = 0.05
  MAXIMUM_LATITUDE = 30.5238
  MINIMUM_LATITUDE = 22.4845
  POSITIVE_LONGITUDE_DIRECTION = EAST
  REFERENCE_LATITUDE = "N/A"
  REFERENCE_LONGITUDE = "N/A"
  SAMPLE_FIRST_PIXEL = 1
  SAMPLE_LAST_PIXEL = 1767
  SAMPLE_PROJECTION_OFFSET = 1129.875
  SECOND_STANDARD_PARALLEL = "N/A"
  WESTERNMOST_LONGITUDE = 329.924
END_OBJECT = IMAGE_MAP_PROJECTION
END
