PDS_VERSION_ID = PDS3
/* FILE DATA ELEMENTS */
RECORD_TYPE = UNDEFINED
/* POINTERS TO DATA OBJECTS */
^IMAGE = ("H3103_0000_IR4.TIF")
/* IDENTIFICATION DATA ELEMENTS */
DATA_SET_ID = "MEX-M-HRSC-4-REFDR-MAPPROJECT-EXT1-V4.0"
DATA_SET_NAME = "MARS EXPRESS HRSC MAP PROJECTED REFDR EXTENSION1 V4.0"
DETECTOR_ID = MEX_HRSC_IR
EVENT_TYPE = "MARS-REGIONAL-MAPPING-Fl-Gl-Pf"
INSTRUMENT_HOST_ID = MEX
INSTRUMENT_HOST_NAME = "MARS EXPRESS"
INSTRUMENT_ID = HRSC
INSTRUMENT_NAME = "HIGH RESOLUTION STEREO CAMERA"
MISSION_NAME = "MARS EXPRESS"
MISSION_PHASE_NAME = ME_Phase_3
PROCESSING_LEVEL_ID = 4
PRODUCT_CREATION_TIME = 2023-02-09T11:24:25.000Z
PRODUCT_ID = "H3103_0000_IR4.TIF"
RELEASE_ID = 0003
REVISION_ID = 0000
/* QUALITY DATA ELEMENTS */
DATA_QUALITY_ID = 1
DATA_QUALITY_DESC = "Data calculated based on original SPICE kernels"
/* TIME DATA ELEMENTS */
SPACECRAFT_CLOCK_START_COUNT = "1/0098024585.07283"
SPACECRAFT_CLOCK_STOP_COUNT = "1/0098024787.47447"
START_TIME = 2006-06-10T13:03:18.501Z
STOP_TIME = 2006-06-10T13:05:32.367Z
/* ORBITAL DATA ELEMENTS */
ASCENDING_NODE_LONGITUDE = 163.13
MAXIMUM_RESOLUTION = 0.1237
FOOTPRINT_POINT_LATITUDE = (30.521,30.5196,30.5173,30.5144,30.5107 ,30.5059,30.502,30.5016,30.4496,30.2832 ,30.1165,29.8691,29.706,29.4609,29.2974 ,29.1335,28.9734,28.8132,28.6529, 28.4923,28.3313,28.1711,28.014,27.8566, 27.699,27.5411,27.3831,27.2252,26.9166, 26.6072,26.297,25.9075,25.5958,25.2834, 24.9704,24.8137,24.6568,24.4218,24.2644 ,24.1069,23.8698,23.7115,23.5535,23.396 ,23.1586,23.0004,22.8413,22.5522, 22.4856,22.4451,22.4472,22.45,22.451, 22.4516,22.4519,22.4515,22.4515,22.4531 ,22.6535,22.961,23.1202,23.2791,23.4374 ,23.5957,23.7539,23.9119,24.0698, 24.2276,24.3851,24.5427,24.7,24.8571, 25.0141,25.1709,25.484,25.7966,26.1081, 26.4191,26.8068,27.1938,27.4298,27.5881 ,27.7462,27.9041,28.0614,28.2187, 28.3797,28.6213,28.7821,28.9427,29.1034 ,29.2667,29.4309,29.5948,29.8405, 30.0039,30.1709,30.338,30.4215,30.521)
FOOTPRINT_POINT_LONGITUDE = (331.651,331.236,330.922,330.657, 330.392,330.11,329.911,329.895,329.867, 329.874,329.882,329.893,329.9,329.911, 329.918,329.925,329.931,329.938,329.945 ,329.951,329.957,329.964,329.97,329.976 ,329.982,329.988,329.994,329.999,330.01 ,330.021,330.032,330.044,330.054, 330.064,330.074,330.078,330.083,330.09, 330.095,330.099,330.106,330.11,330.114, 330.119,330.125,330.129,330.133,330.141 ,330.142,330.143,330.337,330.65,330.885 ,331.094,331.315,331.511,331.524, 331.533,331.536,331.54,331.543,331.545, 331.547,331.55,331.552,331.555,331.557, 331.56,331.562,331.565,331.567,331.57, 331.572,331.575,331.58,331.585,331.59, 331.596,331.603,331.609,331.613,331.616 ,331.619,331.622,331.625,331.628, 331.631,331.636,331.639,331.642,331.645 ,331.648,331.651,331.654,331.659, 331.662,331.666,331.669,331.671, 331.651)
ORBIT_NUMBER = 3103
ORBITAL_ECCENTRICITY = 0.571
ORBITAL_INCLINATION = 86.65
ORBITAL_SEMIMAJOR_AXIS = 8618.73
PERIAPSIS_ALTITUDE = 303.26
PERIAPSIS_ARGUMENT_ANGLE = 172.81
PERIAPSIS_TIME = 2006-06-10T13:09:53.000Z
SPACECRAFT_ORIENTATION = (0.0,-1.0,0.0)
^MEX_ORIENTATION_DESC = "MEX_ORIENTATION_DESC.TXT"
SPACECRAFT_POINTING_MODE = NADIR
^MEX_POINTING_DESC = "MEX_POINTING_DESC.TXT"
RIGHT_ASCENSION = -1e+32
DECLINATION = -1e+32
OFFSET_ANGLE = -1e+32
SPACECRAFT_SOLAR_DISTANCE = 2.49055e+08
TARGET_NAME = MARS
/* CAMERA DATA ELEMENTS */
DETECTOR_TEMPERATURE = 17.351
FOCAL_PLANE_TEMPERATURE = 8.3794
INST_CMPRS_NAME = "DISCRETE COSINE TRANSFORMATION (DCT)"
INST_CMPRS_RATIO = 17.5478
INST_CMPRS_QUALITY = 0
INST_CMPRS_QUANTZ_TBL_ID = 0
INSTRUMENT_TEMPERATURE = 11.0301
LENS_TEMPERATURE = 8.7872
MACROPIXEL_SIZE = 8
MISSING_FRAMES = 0
PIXEL_SUBSAMPLING_FLAG = N
SIGNAL_CHAIN_ID = 2
/* RADIOMETRIC DATA ELEMENTS */
BANDWIDTH = 81.0
CENTER_FILTER_WAVELENGTH = 955.5
RADIANCE_OFFSET = 0.602963
RADIANCE_SCALING_FACTOR = 0.00315275
REFLECTANCE_SCALING_FACTOR = 0.000421898
MEX:REFLECTANCE_OFFSET = 0.0806881
/* IMAGE OBJECT DEFINITIONS */
OBJECT = IMAGE
  INTERCHANGE_FORMAT = BINARY
  LINES = 4768
  LINE_SAMPLES = 884
  SAMPLE_TYPE = UNSIGNED_INTEGER
  SAMPLE_BITS = 8
  BANDS = 1
  BAND_STORAGE_TYPE = BAND_SEQUENTIAL
  MAXIMUM = 255
  MEAN = 99.2711
  MINIMUM = 1
  STANDARD_DEVIATION = 18.3107
END_OBJECT = IMAGE
/* MAP OBJECT DEFINITIONS */
OBJECT = IMAGE_MAP_PROJECTION
  ^DATA_SET_MAP_PROJECTION_CATALOG= "DSMAP.CAT"
  A_AXIS_RADIUS = 3396.0
  B_AXIS_RADIUS = 3396.0
  C_AXIS_RADIUS = 3396.0
  CENTER_LATITUDE = 0.0
  CENTER_LONGITUDE = 331.0
  COORDINATE_SYSTEM_NAME = PLANETOGRAPHIC
  COORDINATE_SYSTEM_TYPE = "BODY-FIXED ROTATING"
  EASTERNMOST_LONGITUDE = 331.671
  FIRST_STANDARD_PARALLEL = "N/A"
  LINE_FIRST_PIXEL = 1
  LINE_LAST_PIXEL = 4768
  LINE_PROJECTION_OFFSET = 18083.1875
  MAP_PROJECTION_ROTATION = 0.0
  MAP_PROJECTION_TYPE = SINUSOIDAL
  MAP_RESOLUTION = 592.713803866667
  MAP_SCALE = 0.1
  MAXIMUM_LATITUDE = 30.521
  MINIMUM_LATITUDE = 22.4451
  POSITIVE_LONGITUDE_DIRECTION = EAST
  REFERENCE_LATITUDE = "N/A"
  REFERENCE_LONGITUDE = "N/A"
  SAMPLE_FIRST_PIXEL = 1
  SAMPLE_LAST_PIXEL = 884
  SAMPLE_PROJECTION_OFFSET = 564.6875
  SECOND_STANDARD_PARALLEL = "N/A"
  WESTERNMOST_LONGITUDE = 329.867
END_OBJECT = IMAGE_MAP_PROJECTION
END
