PDS_VERSION_ID = PDS3
/* FILE DATA ELEMENTS */
RECORD_TYPE = UNDEFINED
/* POINTERS TO DATA OBJECTS */
^IMAGE = ("H3096_0000_GR4.TIF")
/* IDENTIFICATION DATA ELEMENTS */
DATA_SET_ID = "MEX-M-HRSC-4-REFDR-MAPPROJECT-EXT1-V4.0"
DATA_SET_NAME = "MARS EXPRESS HRSC MAP PROJECTED REFDR EXTENSION1 V4.0"
DETECTOR_ID = MEX_HRSC_GREEN
EVENT_TYPE = "MARS-REGIONAL-MAPPING-Fl-Gl-Eo"
INSTRUMENT_HOST_ID = MEX
INSTRUMENT_HOST_NAME = "MARS EXPRESS"
INSTRUMENT_ID = HRSC
INSTRUMENT_NAME = "HIGH RESOLUTION STEREO CAMERA"
MISSION_NAME = "MARS EXPRESS"
MISSION_PHASE_NAME = ME_Phase_3
PROCESSING_LEVEL_ID = 4
PRODUCT_CREATION_TIME = 2023-02-09T11:24:25.000Z
PRODUCT_ID = "H3096_0000_GR4.TIF"
RELEASE_ID = 0003
REVISION_ID = 0000
/* QUALITY DATA ELEMENTS */
DATA_QUALITY_ID = 1
DATA_QUALITY_DESC = "Data calculated based on original SPICE kernels"
/* TIME DATA ELEMENTS */
SPACECRAFT_CLOCK_START_COUNT = "1/0097855608.08254"
SPACECRAFT_CLOCK_STOP_COUNT = "1/0097855822.00407"
START_TIME = 2006-06-08T14:07:16.010Z
STOP_TIME = 2006-06-08T14:09:51.803Z
/* ORBITAL DATA ELEMENTS */
ASCENDING_NODE_LONGITUDE = 163.27
MAXIMUM_RESOLUTION = 0.0967
FOOTPRINT_POINT_LATITUDE = (8.25452,8.25373,8.25263,8.25069, 8.25064,8.24844,7.74781,7.34714,7.14676 ,6.94634,6.7459,6.54549,6.345,6.14451, 5.94402,5.64332,5.44283,5.14198,4.94139 ,4.74077,4.54016,4.33958,4.13899, 3.93836,3.73774,3.53717,3.33663,3.03539 ,2.73477,2.53413,2.33352,2.13296, 1.83213,1.6246,1.41674,1.20883,0.897089 ,0.585234,0.377495,0.169768,-0.0379003, -0.349398,-0.557011,-0.764581,-0.972114 ,-1.17962,-1.38706,-1.59444,-1.90557, -2.00955,-2.01583,-2.01692,-2.01784, -2.01746,-2.01746,-2.01589,-1.8079, -1.49705,-1.29009,-1.08222,-0.770213, -0.56193,-0.353626,-0.041879,0.166222, 0.374523,0.685913,0.893501,1.10127, 1.41301,1.62108,1.92926,2.12985,2.43067 ,2.63132,2.83212,3.03279,3.23348, 3.43418,3.63479,3.83549,4.13658,4.33721 ,4.53787,4.73857,4.93925,5.24023, 5.44088,5.64147,5.842,6.14304,6.44405, 6.7446,6.94496,7.14552,7.346,7.54648, 8.1475,8.24765,8.25452)
FOOTPRINT_POINT_LONGITUDE = (298.784,298.468,298.148,297.732, 297.722,297.715,297.716,297.717,297.717 ,297.718,297.718,297.718,297.719, 297.719,297.719,297.72,297.72,297.72, 297.72,297.719,297.719,297.719,297.719, 297.719,297.718,297.718,297.718,297.716 ,297.716,297.715,297.714,297.713, 297.712,297.711,297.71,297.709,297.708, 297.706,297.705,297.703,297.702,297.7, 297.699,297.697,297.696,297.694,297.692 ,297.691,297.688,297.685,297.685, 298.023,298.433,298.758,298.769,298.775 ,298.775,298.774,298.774,298.773, 298.773,298.772,298.772,298.771,298.771 ,298.771,298.771,298.771,298.771, 298.771,298.771,298.771,298.771,298.771 ,298.771,298.772,298.772,298.772, 298.772,298.773,298.773,298.773,298.774 ,298.774,298.774,298.775,298.775, 298.776,298.776,298.777,298.778,298.779 ,298.779,298.78,298.781,298.781,298.782 ,298.784,298.785,298.784)
ORBIT_NUMBER = 3096
ORBITAL_ECCENTRICITY = 0.571
ORBITAL_INCLINATION = 86.64
ORBITAL_SEMIMAJOR_AXIS = 8624.81
PERIAPSIS_ALTITUDE = 302.11
PERIAPSIS_ARGUMENT_ANGLE = 174.09
PERIAPSIS_TIME = 2006-06-08T14:07:56.000Z
SPACECRAFT_ORIENTATION = (0.0,-1.0,0.0)
^MEX_ORIENTATION_DESC = "MEX_ORIENTATION_DESC.TXT"
SPACECRAFT_POINTING_MODE = ACROSSTRACK
^MEX_POINTING_DESC = "MEX_POINTING_DESC.TXT"
RIGHT_ASCENSION = -1e+32
DECLINATION = -1e+32
OFFSET_ANGLE = -0.45
SPACECRAFT_SOLAR_DISTANCE = 2.49007e+08
TARGET_NAME = MARS
/* CAMERA DATA ELEMENTS */
DETECTOR_TEMPERATURE = 18.1666
FOCAL_PLANE_TEMPERATURE = 8.5833
INST_CMPRS_NAME = "DISCRETE COSINE TRANSFORMATION (DCT)"
INST_CMPRS_RATIO = 16.3658
INST_CMPRS_QUALITY = 0
INST_CMPRS_QUANTZ_TBL_ID = 0
INSTRUMENT_TEMPERATURE = 11.4379
LENS_TEMPERATURE = 8.7872
MACROPIXEL_SIZE = 8
MISSING_FRAMES = 0
PIXEL_SUBSAMPLING_FLAG = N
SIGNAL_CHAIN_ID = 2
/* RADIOMETRIC DATA ELEMENTS */
BANDWIDTH = 88.0
CENTER_FILTER_WAVELENGTH = 538.0
RADIANCE_OFFSET = 0.884547
RADIANCE_SCALING_FACTOR = 0.00494627
REFLECTANCE_SCALING_FACTOR = 0.000264053
MEX:REFLECTANCE_OFFSET = 0.0472209
/* IMAGE OBJECT DEFINITIONS */
OBJECT = IMAGE
  INTERCHANGE_FORMAT = BINARY
  LINES = 6090
  LINE_SAMPLES = 656
  SAMPLE_TYPE = UNSIGNED_INTEGER
  SAMPLE_BITS = 8
  BANDS = 1
  BAND_STORAGE_TYPE = BAND_SEQUENTIAL
  MAXIMUM = 255
  MEAN = 132.032
  MINIMUM = 1
  STANDARD_DEVIATION = 18.2799
END_OBJECT = IMAGE
/* MAP OBJECT DEFINITIONS */
OBJECT = IMAGE_MAP_PROJECTION
  ^DATA_SET_MAP_PROJECTION_CATALOG= "DSMAP.CAT"
  A_AXIS_RADIUS = 3396.0
  B_AXIS_RADIUS = 3396.0
  C_AXIS_RADIUS = 3396.0
  CENTER_LATITUDE = 0.0
  CENTER_LONGITUDE = 298.0
  COORDINATE_SYSTEM_NAME = PLANETOGRAPHIC
  COORDINATE_SYSTEM_TYPE = "BODY-FIXED ROTATING"
  EASTERNMOST_LONGITUDE = 298.785
  FIRST_STANDARD_PARALLEL = "N/A"
  LINE_FIRST_PIXEL = 1
  LINE_LAST_PIXEL = 6090
  LINE_PROJECTION_OFFSET = 4895.9375
  MAP_PROJECTION_ROTATION = 0.0
  MAP_PROJECTION_TYPE = SINUSOIDAL
  MAP_RESOLUTION = 592.713803866667
  MAP_SCALE = 0.1
  MAXIMUM_LATITUDE = 8.254519999999999
  MINIMUM_LATITUDE = -2.01784
  POSITIVE_LONGITUDE_DIRECTION = EAST
  REFERENCE_LATITUDE = "N/A"
  REFERENCE_LONGITUDE = "N/A"
  SAMPLE_FIRST_PIXEL = 1
  SAMPLE_LAST_PIXEL = 656
  SAMPLE_PROJECTION_OFFSET = 194.4375
  SECOND_STANDARD_PARALLEL = "N/A"
  WESTERNMOST_LONGITUDE = 297.685
END_OBJECT = IMAGE_MAP_PROJECTION
END
