PDS_VERSION_ID = PDS3
/* FILE DATA ELEMENTS */
RECORD_TYPE = UNDEFINED
/* POINTERS TO DATA OBJECTS */
^IMAGE = ("H3076_0000_ND4.TIF")
/* IDENTIFICATION DATA ELEMENTS */
DATA_SET_ID = "MEX-M-HRSC-4-REFDR-MAPPROJECT-EXT1-V4.0"
DATA_SET_NAME = "MARS EXPRESS HRSC MAP PROJECTED REFDR EXTENSION1 V4.0"
DETECTOR_ID = MEX_HRSC_NADIR
EVENT_TYPE = "MARS-REGIONAL-STEREO-Te-Pf"
INSTRUMENT_HOST_ID = MEX
INSTRUMENT_HOST_NAME = "MARS EXPRESS"
INSTRUMENT_ID = HRSC
INSTRUMENT_NAME = "HIGH RESOLUTION STEREO CAMERA"
MISSION_NAME = "MARS EXPRESS"
MISSION_PHASE_NAME = ME_Phase_3
PROCESSING_LEVEL_ID = 4
PRODUCT_CREATION_TIME = 2023-02-09T11:24:25.000Z
PRODUCT_ID = "H3076_0000_ND4.TIF"
RELEASE_ID = 0003
REVISION_ID = 0000
/* QUALITY DATA ELEMENTS */
DATA_QUALITY_ID = 1
DATA_QUALITY_DESC = "Data calculated based on original SPICE kernels"
/* TIME DATA ELEMENTS */
SPACECRAFT_CLOCK_START_COUNT = "1/0097371600.08265"
SPACECRAFT_CLOCK_STOP_COUNT = "1/0097371875.16362"
START_TIME = 2006-06-02T23:40:39.971Z
STOP_TIME = 2006-06-02T23:44:11.989Z
/* ORBITAL DATA ELEMENTS */
ASCENDING_NODE_LONGITUDE = 163.7
MAXIMUM_RESOLUTION = 0.0122
FOOTPRINT_POINT_LATITUDE = (19.7433,19.7445,19.7433,19.7432, 19.7436,19.4557,19.1674,18.8788,18.5899 ,18.3007,18.0112,17.7215,17.4314,17.141 ,16.8504,16.5595,16.2683,15.9769, 15.6893,15.4068,15.1241,14.8412,14.5579 ,14.2745,13.9909,13.7099,13.4353, 13.1606,12.8857,12.6106,12.3354,12.0599 ,11.7844,11.5086,11.1011,10.4344, 10.1675,9.76687,9.49978,9.23253,8.9651, 8.69757,8.42998,8.02832,7.49552,6.97865 ,6.46149,6.07343,5.94406,5.93,5.92936, 5.92855,5.92752,5.92748,5.92766,6.44507 ,6.96225,7.4792,8.01147,8.27924,8.54691 ,8.81448,9.08197,9.34937,9.61664, 9.88383,10.1508,10.4178,10.6846,11.2179 ,11.6295,11.9053,12.1809,12.4561, 12.8689,13.1438,13.4187,13.6933,13.9739 ,14.2576,14.541,14.8243,15.1073,15.3902 ,15.6727,16.1057,16.3971,16.6882, 16.9791,17.2697,17.56,17.8501,18.1398, 18.4293,18.7185,19.0074,19.2959,19.5842 ,19.7282,19.7433)
FOOTPRINT_POINT_LONGITUDE = (105.281,104.607,103.946,103.933, 103.925,103.93,103.934,103.939,103.944, 103.948,103.952,103.956,103.96,103.964, 103.968,103.972,103.976,103.979,103.982 ,103.986,103.989,103.991,103.994, 103.997,104.0,104.002,104.004,104.007, 104.009,104.011,104.013,104.015,104.017 ,104.018,104.021,104.024,104.026, 104.028,104.028,104.029,104.03,104.031, 104.032,104.033,104.034,104.035,104.036 ,104.036,104.036,104.036,104.403, 104.754,105.099,105.11,105.116,105.119, 105.122,105.127,105.131,105.133,105.135 ,105.138,105.14,105.143,105.146,105.15, 105.152,105.155,105.158,105.165,105.17, 105.178,105.182,105.181,105.186,105.189 ,105.195,105.199,105.203,105.207, 105.211,105.215,105.22,105.224,105.228, 105.236,105.241,105.246,105.251,105.256 ,105.261,105.266,105.272,105.277, 105.282,105.288,105.293,105.299,105.301 ,105.281)
ORBIT_NUMBER = 3076
ORBITAL_ECCENTRICITY = 0.572
ORBITAL_INCLINATION = 86.63
ORBITAL_SEMIMAJOR_AXIS = 8629.29
PERIAPSIS_ALTITUDE = 299.73
PERIAPSIS_ARGUMENT_ANGLE = 177.63
PERIAPSIS_TIME = 2006-06-02T23:45:06.000Z
SPACECRAFT_ORIENTATION = (0.0,-1.0,0.0)
^MEX_ORIENTATION_DESC = "MEX_ORIENTATION_DESC.TXT"
SPACECRAFT_POINTING_MODE = ACROSSTRACK
^MEX_POINTING_DESC = "MEX_POINTING_DESC.TXT"
RIGHT_ASCENSION = -1e+32
DECLINATION = -1e+32
OFFSET_ANGLE = 0.5
SPACECRAFT_SOLAR_DISTANCE = 2.48839e+08
TARGET_NAME = MARS
/* CAMERA DATA ELEMENTS */
DETECTOR_TEMPERATURE = 18.1666
FOCAL_PLANE_TEMPERATURE = 7.9716
INST_CMPRS_NAME = "DISCRETE COSINE TRANSFORMATION (DCT)"
INST_CMPRS_RATIO = 6.06497
INST_CMPRS_QUALITY = 0
INST_CMPRS_QUANTZ_TBL_ID = 0
INSTRUMENT_TEMPERATURE = 11.234
LENS_TEMPERATURE = 8.3794
MACROPIXEL_SIZE = 1
MISSING_FRAMES = 0
PIXEL_SUBSAMPLING_FLAG = N
SIGNAL_CHAIN_ID = 0
/* RADIOMETRIC DATA ELEMENTS */
BANDWIDTH = 177.0
CENTER_FILTER_WAVELENGTH = 677.5
RADIANCE_OFFSET = 2.07911
RADIANCE_SCALING_FACTOR = 0.0172548
REFLECTANCE_SCALING_FACTOR = 0.000567583
MEX:REFLECTANCE_OFFSET = 0.0683906
/* IMAGE OBJECT DEFINITIONS */
OBJECT = IMAGE
  INTERCHANGE_FORMAT = BINARY
  LINES = 65517
  LINE_SAMPLES = 6147
  SAMPLE_TYPE = UNSIGNED_INTEGER
  SAMPLE_BITS = 8
  BANDS = 1
  BAND_STORAGE_TYPE = BAND_SEQUENTIAL
  MAXIMUM = 255
  MEAN = 140.438
  MINIMUM = 1
  STANDARD_DEVIATION = 19.6038
END_OBJECT = IMAGE
/* MAP OBJECT DEFINITIONS */
OBJECT = IMAGE_MAP_PROJECTION
  ^DATA_SET_MAP_PROJECTION_CATALOG= "DSMAP.CAT"
  A_AXIS_RADIUS = 3396.0
  B_AXIS_RADIUS = 3396.0
  C_AXIS_RADIUS = 3396.0
  CENTER_LATITUDE = 0.0
  CENTER_LONGITUDE = 105.0
  COORDINATE_SYSTEM_NAME = PLANETOGRAPHIC
  COORDINATE_SYSTEM_TYPE = "BODY-FIXED ROTATING"
  EASTERNMOST_LONGITUDE = 105.301
  FIRST_STANDARD_PARALLEL = "N/A"
  LINE_FIRST_PIXEL = 1
  LINE_LAST_PIXEL = 65517
  LINE_PROJECTION_OFFSET = 93625.0
  MAP_PROJECTION_ROTATION = 0.0
  MAP_PROJECTION_TYPE = SINUSOIDAL
  MAP_RESOLUTION = 4741.71043093333
  MAP_SCALE = 0.0125
  MAXIMUM_LATITUDE = 19.7445
  MINIMUM_LATITUDE = 5.92748
  POSITIVE_LONGITUDE_DIRECTION = EAST
  REFERENCE_LATITUDE = "N/A"
  REFERENCE_LONGITUDE = "N/A"
  SAMPLE_FIRST_PIXEL = 1
  SAMPLE_LAST_PIXEL = 6147
  SAMPLE_PROJECTION_OFFSET = 4792.0
  SECOND_STANDARD_PARALLEL = "N/A"
  WESTERNMOST_LONGITUDE = 103.925
END_OBJECT = IMAGE_MAP_PROJECTION
END
