PDS_VERSION_ID = PDS3
/* FILE DATA ELEMENTS */
RECORD_TYPE = UNDEFINED
/* POINTERS TO DATA OBJECTS */
^IMAGE = ("H3059_0000_S24.TIF")
/* IDENTIFICATION DATA ELEMENTS */
DATA_SET_ID = "MEX-M-HRSC-4-REFDR-MAPPROJECT-EXT1-V4.0"
DATA_SET_NAME = "MARS EXPRESS HRSC MAP PROJECTED REFDR EXTENSION1 V4.0"
DETECTOR_ID = MEX_HRSC_S2
EVENT_TYPE = "MARS-REGIONAL-MAPPING-Fl-Mw-La"
INSTRUMENT_HOST_ID = MEX
INSTRUMENT_HOST_NAME = "MARS EXPRESS"
INSTRUMENT_ID = HRSC
INSTRUMENT_NAME = "HIGH RESOLUTION STEREO CAMERA"
MISSION_NAME = "MARS EXPRESS"
MISSION_PHASE_NAME = ME_Phase_3
PROCESSING_LEVEL_ID = 4
PRODUCT_CREATION_TIME = 2023-02-09T11:24:25.000Z
PRODUCT_ID = "H3059_0000_S24.TIF"
RELEASE_ID = 0003
REVISION_ID = 0000
/* QUALITY DATA ELEMENTS */
DATA_QUALITY_ID = 1
DATA_QUALITY_DESC = "Data calculated based on original SPICE kernels"
/* TIME DATA ELEMENTS */
SPACECRAFT_CLOCK_START_COUNT = "1/0096960359.08410"
SPACECRAFT_CLOCK_STOP_COUNT = "1/0096960565.23053"
START_TIME = 2006-05-29T05:27:13.761Z
STOP_TIME = 2006-05-29T05:29:28.736Z
/* ORBITAL DATA ELEMENTS */
ASCENDING_NODE_LONGITUDE = 164.07
MAXIMUM_RESOLUTION = 0.027
FOOTPRINT_POINT_LATITUDE = (18.2349,18.2347,18.2347,18.2348, 18.2349,18.2351,18.2351,18.2703,18.0831 ,17.8954,17.6143,17.4267,17.1456, 16.8638,16.6759,16.4885,16.3009,16.1126 ,15.9242,15.7363,15.5479,15.3597, 15.0791,14.8887,14.703,14.5221,14.341, 14.0684,13.8872,13.7056,13.5236,13.3419 ,13.1603,12.9784,12.7962,12.6185, 12.2729,12.0973,11.9216,11.7458,11.57, 11.3936,11.2146,10.8643,10.6887,10.3448 ,10.0895,9.74888,9.32203,9.23741, 9.23501,9.23261,9.23203,9.23165,9.2296, 9.2296,9.23,9.56959,10.0007,10.3326, 10.7669,10.9437,11.1193,11.2951,11.4703 ,11.6463,11.8226,12.0868,12.4384, 12.7032,12.8832,13.0646,13.2458,13.4285 ,13.6104,13.7915,13.9741,14.1564, 14.3384,14.5206,14.7023,14.8877,15.0748 ,15.357,15.5453,15.7329,15.9211,16.1092 ,16.2972,16.5787,16.7664,16.9537, 17.1423,17.3293,17.5172,17.7052,17.894, 18.1751,18.2688,18.2349)
FOOTPRINT_POINT_LONGITUDE = (335.336,335.041,334.836,334.477, 334.272,334.028,334.015,333.999,334.003 ,334.006,334.011,334.014,334.019, 334.023,334.026,334.029,334.032,334.035 ,334.038,334.04,334.043,334.046,334.049 ,334.052,334.055,334.057,334.059, 334.062,334.064,334.066,334.068,334.07, 334.071,334.073,334.075,334.077,334.079 ,334.08,334.082,334.083,334.085,334.087 ,334.089,334.091,334.093,334.093, 334.095,334.098,334.101,334.102,334.102 ,334.539,334.823,335.009,335.216, 335.227,335.231,335.235,335.241,335.242 ,335.246,335.248,335.25,335.252,335.254 ,335.256,335.258,335.261,335.265, 335.269,335.271,335.273,335.275,335.278 ,335.28,335.282,335.285,335.287,335.29, 335.292,335.294,335.297,335.299,335.303 ,335.306,335.308,335.311,335.314, 335.317,335.321,335.324,335.326,335.33, 335.332,335.335,335.338,335.342,335.346 ,335.347,335.336)
ORBIT_NUMBER = 3059
ORBITAL_ECCENTRICITY = 0.571
ORBITAL_INCLINATION = 86.64
ORBITAL_SEMIMAJOR_AXIS = 8620.42
PERIAPSIS_ALTITUDE = 298.98
PERIAPSIS_ARGUMENT_ANGLE = 180.67
PERIAPSIS_TIME = 2006-05-29T05:31:30.000Z
SPACECRAFT_ORIENTATION = (0.0,-1.0,0.0)
^MEX_ORIENTATION_DESC = "MEX_ORIENTATION_DESC.TXT"
SPACECRAFT_POINTING_MODE = NADIR
^MEX_POINTING_DESC = "MEX_POINTING_DESC.TXT"
RIGHT_ASCENSION = -1e+32
DECLINATION = -1e+32
OFFSET_ANGLE = -1e+32
SPACECRAFT_SOLAR_DISTANCE = 2.48659e+08
TARGET_NAME = MARS
/* CAMERA DATA ELEMENTS */
DETECTOR_TEMPERATURE = 18.5744
FOCAL_PLANE_TEMPERATURE = 7.9716
INST_CMPRS_NAME = "DISCRETE COSINE TRANSFORMATION (DCT)"
INST_CMPRS_RATIO = 10.4187
INST_CMPRS_QUALITY = 0
INST_CMPRS_QUANTZ_TBL_ID = 0
INSTRUMENT_TEMPERATURE = 11.0301
LENS_TEMPERATURE = 8.3794
MACROPIXEL_SIZE = 2
MISSING_FRAMES = 0
PIXEL_SUBSAMPLING_FLAG = N
SIGNAL_CHAIN_ID = 1
/* RADIOMETRIC DATA ELEMENTS */
BANDWIDTH = 178.0
CENTER_FILTER_WAVELENGTH = 679.0
RADIANCE_OFFSET = 3.05971
RADIANCE_SCALING_FACTOR = 0.0162565
REFLECTANCE_SCALING_FACTOR = 0.000532313
MEX:REFLECTANCE_OFFSET = 0.100189
/* IMAGE OBJECT DEFINITIONS */
OBJECT = IMAGE
  INTERCHANGE_FORMAT = BINARY
  LINES = 21434
  LINE_SAMPLES = 3139
  SAMPLE_TYPE = UNSIGNED_INTEGER
  SAMPLE_BITS = 8
  BANDS = 1
  BAND_STORAGE_TYPE = BAND_SEQUENTIAL
  MAXIMUM = 255
  MEAN = 114.249
  MINIMUM = 1
  STANDARD_DEVIATION = 19.1129
END_OBJECT = IMAGE
/* MAP OBJECT DEFINITIONS */
OBJECT = IMAGE_MAP_PROJECTION
  ^DATA_SET_MAP_PROJECTION_CATALOG= "DSMAP.CAT"
  A_AXIS_RADIUS = 3396.0
  B_AXIS_RADIUS = 3396.0
  C_AXIS_RADIUS = 3396.0
  CENTER_LATITUDE = 0.0
  CENTER_LONGITUDE = 335.0
  COORDINATE_SYSTEM_NAME = PLANETOGRAPHIC
  COORDINATE_SYSTEM_TYPE = "BODY-FIXED ROTATING"
  EASTERNMOST_LONGITUDE = 335.347
  FIRST_STANDARD_PARALLEL = "N/A"
  LINE_FIRST_PIXEL = 1
  LINE_LAST_PIXEL = 21434
  LINE_PROJECTION_OFFSET = 43261.75
  MAP_PROJECTION_ROTATION = 0.0
  MAP_PROJECTION_TYPE = SINUSOIDAL
  MAP_RESOLUTION = 2370.85521546667
  MAP_SCALE = 0.025
  MAXIMUM_LATITUDE = 18.2703
  MINIMUM_LATITUDE = 9.2296
  POSITIVE_LONGITUDE_DIRECTION = EAST
  REFERENCE_LATITUDE = "N/A"
  REFERENCE_LONGITUDE = "N/A"
  SAMPLE_FIRST_PIXEL = 1
  SAMPLE_LAST_PIXEL = 3139
  SAMPLE_PROJECTION_OFFSET = 2305.25
  SECOND_STANDARD_PARALLEL = "N/A"
  WESTERNMOST_LONGITUDE = 333.999
END_OBJECT = IMAGE_MAP_PROJECTION
END
