PDS_VERSION_ID = PDS3
/* FILE DATA ELEMENTS */
RECORD_TYPE = UNDEFINED
/* POINTERS TO DATA OBJECTS */
^IMAGE = ("H3059_0000_ND4.TIF")
/* IDENTIFICATION DATA ELEMENTS */
DATA_SET_ID = "MEX-M-HRSC-4-REFDR-MAPPROJECT-EXT1-V4.0"
DATA_SET_NAME = "MARS EXPRESS HRSC MAP PROJECTED REFDR EXTENSION1 V4.0"
DETECTOR_ID = MEX_HRSC_NADIR
EVENT_TYPE = "MARS-REGIONAL-MAPPING-Fl-Mw-La"
INSTRUMENT_HOST_ID = MEX
INSTRUMENT_HOST_NAME = "MARS EXPRESS"
INSTRUMENT_ID = HRSC
INSTRUMENT_NAME = "HIGH RESOLUTION STEREO CAMERA"
MISSION_NAME = "MARS EXPRESS"
MISSION_PHASE_NAME = ME_Phase_3
PROCESSING_LEVEL_ID = 4
PRODUCT_CREATION_TIME = 2023-02-09T11:24:25.000Z
PRODUCT_ID = "H3059_0000_ND4.TIF"
RELEASE_ID = 0003
REVISION_ID = 0000
/* QUALITY DATA ELEMENTS */
DATA_QUALITY_ID = 1
DATA_QUALITY_DESC = "Data calculated based on original SPICE kernels"
/* TIME DATA ELEMENTS */
SPACECRAFT_CLOCK_START_COUNT = "1/0096960359.08410"
SPACECRAFT_CLOCK_STOP_COUNT = "1/0096960565.23053"
START_TIME = 2006-05-29T05:26:40.872Z
STOP_TIME = 2006-05-29T05:29:00.872Z
/* ORBITAL DATA ELEMENTS */
ASCENDING_NODE_LONGITUDE = 164.07
MAXIMUM_RESOLUTION = 0.0129
FOOTPRINT_POINT_LATITUDE = (18.245,18.2456,18.2456,18.2452,18.2438 ,18.2437,18.2443,18.032,17.8196,17.6071 ,17.3943,17.1967,17.0181,16.8395, 16.6607,16.4817,16.3027,16.1235,15.9442 ,15.6717,15.4921,15.3124,15.1326, 14.9526,14.7726,14.5925,14.4123,14.1417 ,13.9612,13.7806,13.5998,13.419,13.2381 ,13.057,12.8759,12.6089,12.2579,11.9065 ,11.7306,11.5546,11.2905,11.1143,10.764 ,10.423,10.0816,9.73991,9.31238,9.22685 ,9.20864,9.20852,9.20824,9.2075,9.20649 ,9.20645,9.20664,9.6343,9.97628,10.3177 ,10.6588,10.9177,11.094,11.2702,11.4463 ,11.6224,11.7984,11.9743,12.1501, 12.3258,12.677,12.9463,13.1274,13.3084, 13.4894,13.6703,13.8511,14.0317,14.2123 ,14.3927,14.573,14.7533,14.9334,15.1134 ,15.2933,15.4731,15.6527,15.8357, 16.0151,16.1945,16.3737,16.5528,16.7317 ,16.9106,17.0893,17.2679,17.4792,17.692 ,17.9047,18.1171,18.2233,18.245)
FOOTPRINT_POINT_LONGITUDE = (335.359,334.913,334.71,334.454,334.008 ,333.994,333.977,333.981,333.985, 333.989,333.993,333.997,334.0,334.004, 334.007,334.01,334.013,334.016,334.019, 334.024,334.027,334.029,334.032,334.035 ,334.038,334.04,334.042,334.046,334.048 ,334.051,334.053,334.055,334.057,334.06 ,334.062,334.065,334.067,334.071, 334.073,334.075,334.078,334.08,334.083, 334.084,334.087,334.09,334.094,334.095, 334.095,334.276,334.524,334.896,335.222 ,335.234,335.239,335.244,335.25,335.253 ,335.255,335.258,335.261,335.263, 335.265,335.267,335.27,335.272,335.274, 335.276,335.282,335.285,335.288,335.29, 335.293,335.295,335.298,335.301,335.304 ,335.306,335.309,335.312,335.314, 335.317,335.319,335.323,335.326,335.328 ,335.331,335.335,335.337,335.34,335.343 ,335.346,335.35,335.353,335.356,335.36, 335.364,335.368,335.37,335.359)
ORBIT_NUMBER = 3059
ORBITAL_ECCENTRICITY = 0.571
ORBITAL_INCLINATION = 86.64
ORBITAL_SEMIMAJOR_AXIS = 8620.42
PERIAPSIS_ALTITUDE = 298.98
PERIAPSIS_ARGUMENT_ANGLE = 180.67
PERIAPSIS_TIME = 2006-05-29T05:31:30.000Z
SPACECRAFT_ORIENTATION = (0.0,-1.0,0.0)
^MEX_ORIENTATION_DESC = "MEX_ORIENTATION_DESC.TXT"
SPACECRAFT_POINTING_MODE = NADIR
^MEX_POINTING_DESC = "MEX_POINTING_DESC.TXT"
RIGHT_ASCENSION = -1e+32
DECLINATION = -1e+32
OFFSET_ANGLE = -1e+32
SPACECRAFT_SOLAR_DISTANCE = 2.48659e+08
TARGET_NAME = MARS
/* CAMERA DATA ELEMENTS */
DETECTOR_TEMPERATURE = 18.1666
FOCAL_PLANE_TEMPERATURE = 7.9716
INST_CMPRS_NAME = "DISCRETE COSINE TRANSFORMATION (DCT)"
INST_CMPRS_RATIO = 7.53635
INST_CMPRS_QUALITY = 0
INST_CMPRS_QUANTZ_TBL_ID = 0
INSTRUMENT_TEMPERATURE = 11.0301
LENS_TEMPERATURE = 8.3794
MACROPIXEL_SIZE = 1
PIXEL_SUBSAMPLING_FLAG = N
SIGNAL_CHAIN_ID = 0
/* RADIOMETRIC DATA ELEMENTS */
BANDWIDTH = 177.0
CENTER_FILTER_WAVELENGTH = 677.5
RADIANCE_OFFSET = 2.5481
RADIANCE_SCALING_FACTOR = 0.0152827
REFLECTANCE_SCALING_FACTOR = 0.00050199
MEX:REFLECTANCE_OFFSET = 0.0836971
/* IMAGE OBJECT DEFINITIONS */
OBJECT = IMAGE
  INTERCHANGE_FORMAT = BINARY
  LINES = 42867
  LINE_SAMPLES = 6277
  SAMPLE_TYPE = UNSIGNED_INTEGER
  SAMPLE_BITS = 8
  BANDS = 1
  BAND_STORAGE_TYPE = BAND_SEQUENTIAL
  MAXIMUM = 255
  MEAN = 116.312
  MINIMUM = 1
  STANDARD_DEVIATION = 18.1667
END_OBJECT = IMAGE
/* MAP OBJECT DEFINITIONS */
OBJECT = IMAGE_MAP_PROJECTION
  ^DATA_SET_MAP_PROJECTION_CATALOG= "DSMAP.CAT"
  A_AXIS_RADIUS = 3396.0
  B_AXIS_RADIUS = 3396.0
  C_AXIS_RADIUS = 3396.0
  CENTER_LATITUDE = 0.0
  CENTER_LONGITUDE = 335.0
  COORDINATE_SYSTEM_NAME = PLANETOGRAPHIC
  COORDINATE_SYSTEM_TYPE = "BODY-FIXED ROTATING"
  EASTERNMOST_LONGITUDE = 335.37
  FIRST_STANDARD_PARALLEL = "N/A"
  LINE_FIRST_PIXEL = 1
  LINE_LAST_PIXEL = 42867
  LINE_PROJECTION_OFFSET = 86524.0
  MAP_PROJECTION_ROTATION = 0.0
  MAP_PROJECTION_TYPE = SINUSOIDAL
  MAP_RESOLUTION = 4741.71043093333
  MAP_SCALE = 0.0125
  MAXIMUM_LATITUDE = 18.2456
  MINIMUM_LATITUDE = 9.20645
  POSITIVE_LONGITUDE_DIRECTION = EAST
  REFERENCE_LATITUDE = "N/A"
  REFERENCE_LONGITUDE = "N/A"
  SAMPLE_FIRST_PIXEL = 1
  SAMPLE_LAST_PIXEL = 6277
  SAMPLE_PROJECTION_OFFSET = 4611.0
  SECOND_STANDARD_PARALLEL = "N/A"
  WESTERNMOST_LONGITUDE = 333.977
END_OBJECT = IMAGE_MAP_PROJECTION
END
