PDS_VERSION_ID = PDS3
/* FILE DATA ELEMENTS */
RECORD_TYPE = UNDEFINED
/* POINTERS TO DATA OBJECTS */
^IMAGE = ("H3058_0000_P14.TIF")
/* IDENTIFICATION DATA ELEMENTS */
DATA_SET_ID = "MEX-M-HRSC-4-REFDR-MAPPROJECT-EXT1-V4.0"
DATA_SET_NAME = "MARS EXPRESS HRSC MAP PROJECTED REFDR EXTENSION1 V4.0"
DETECTOR_ID = MEX_HRSC_P1
EVENT_TYPE = "MARS-REGIONAL-MAPPING-Vo"
INSTRUMENT_HOST_ID = MEX
INSTRUMENT_HOST_NAME = "MARS EXPRESS"
INSTRUMENT_ID = HRSC
INSTRUMENT_NAME = "HIGH RESOLUTION STEREO CAMERA"
MISSION_NAME = "MARS EXPRESS"
MISSION_PHASE_NAME = ME_Phase_3
PROCESSING_LEVEL_ID = 4
PRODUCT_CREATION_TIME = 2023-02-09T11:24:25.000Z
PRODUCT_ID = "H3058_0000_P14.TIF"
RELEASE_ID = 0003
REVISION_ID = 0000
/* QUALITY DATA ELEMENTS */
DATA_QUALITY_ID = 1
DATA_QUALITY_DESC = "Data calculated based on original SPICE kernels"
/* TIME DATA ELEMENTS */
SPACECRAFT_CLOCK_START_COUNT = "1/0096936362.09077"
SPACECRAFT_CLOCK_STOP_COUNT = "1/0096936563.42234"
START_TIME = 2006-05-28T22:46:17.422Z
STOP_TIME = 2006-05-28T22:48:43.287Z
/* ORBITAL DATA ELEMENTS */
ASCENDING_NODE_LONGITUDE = 164.08
MAXIMUM_RESOLUTION = 0.0486
FOOTPRINT_POINT_LATITUDE = (6.35759,6.35994,6.36318,6.36624, 6.36813,6.3682,6.3739,6.08342,5.88992, 5.69623,5.50215,5.21121,5.01688,4.82257 ,4.62859,4.4341,4.23945,3.86342,3.4874, 3.11078,2.73412,2.54543,2.2625,2.07344, 1.79035,1.60131,1.41245,1.12898, 0.939676,0.750239,0.56049,0.370979, 0.181311,-0.103148,-0.292748,-0.482531, -0.672388,-0.862457,-1.14718,-1.43303, -1.62328,-1.81273,-2.09775,-2.28792, -2.47869,-2.66947,-2.86007,-3.04997, -3.14495,-3.18919,-3.19175,-3.19371, -3.19942,-3.19953,-3.1988,-3.0077, -2.81806,-2.62776,-2.43743,-2.24717, -2.05659,-1.86636,-1.67665,-1.48678, -1.2019,-1.01181,-0.821898,-0.631891, -0.442133,-0.25208,-0.062291,0.127441, 0.317116,0.601332,0.885385,1.0746, 1.2639,1.45284,1.64193,1.92516,2.1139, 2.30287,2.49147,2.68014,2.86869,3.05707 ,3.52762,3.90344,4.18525,4.47567, 4.67015,4.86438,5.1556,5.34969,5.54367, 5.83451,6.02837,6.2206,6.31697,6.35759)
FOOTPRINT_POINT_LONGITUDE = (73.6219,73.4266,73.1294,72.7929, 72.5385,72.5283,72.528,72.5291,72.5299, 72.5306,72.5312,72.5322,72.5327,72.5333 ,72.5339,72.5344,72.5349,72.5355, 72.5362,72.5366,72.537,72.5371,72.5373, 72.5373,72.5374,72.5373,72.5374,72.5373 ,72.5372,72.537,72.5367,72.5365,72.5363 ,72.5359,72.5356,72.5353,72.5349, 72.5344,72.5339,72.533,72.5324,72.5321, 72.5314,72.5309,72.5301,72.5294,72.5287 ,72.5282,72.5279,72.5277,72.7281, 73.0067,73.5476,73.5573,73.5605,73.5605 ,73.5614,73.5619,73.5624,73.5629, 73.5633,73.5638,73.5647,73.5655,73.5666 ,73.5672,73.568,73.5686,73.5695,73.5701 ,73.5709,73.5717,73.5726,73.574,73.5755 ,73.5766,73.5776,73.5788,73.5799, 73.5818,73.583,73.5841,73.5854,73.5867, 73.588,73.5893,73.5929,73.596,73.5983, 73.6007,73.6024,73.6042,73.6069,73.6087 ,73.6105,73.6132,73.615,73.6177,73.6189 ,73.6219)
ORBIT_NUMBER = 3058
ORBITAL_ECCENTRICITY = 0.572
ORBITAL_INCLINATION = 86.65
ORBITAL_SEMIMAJOR_AXIS = 8629.82
PERIAPSIS_ALTITUDE = 298.02
PERIAPSIS_ARGUMENT_ANGLE = 180.86
PERIAPSIS_TIME = 2006-05-28T22:48:24.000Z
SPACECRAFT_ORIENTATION = (0.0,-1.0,0.0)
^MEX_ORIENTATION_DESC = "MEX_ORIENTATION_DESC.TXT"
SPACECRAFT_POINTING_MODE = ACROSSTRACK
^MEX_POINTING_DESC = "MEX_POINTING_DESC.TXT"
RIGHT_ASCENSION = -1e+32
DECLINATION = -1e+32
OFFSET_ANGLE = 0.15
SPACECRAFT_SOLAR_DISTANCE = 2.48648e+08
TARGET_NAME = MARS
/* CAMERA DATA ELEMENTS */
DETECTOR_TEMPERATURE = 17.351
FOCAL_PLANE_TEMPERATURE = 7.9716
INST_CMPRS_NAME = "DISCRETE COSINE TRANSFORMATION (DCT)"
INST_CMPRS_RATIO = 15.6583
INST_CMPRS_QUALITY = 0
INST_CMPRS_QUANTZ_TBL_ID = 0
INSTRUMENT_TEMPERATURE = 11.234
LENS_TEMPERATURE = 8.3794
MACROPIXEL_SIZE = 4
MISSING_FRAMES = 0
PIXEL_SUBSAMPLING_FLAG = N
SIGNAL_CHAIN_ID = 3
/* RADIOMETRIC DATA ELEMENTS */
BANDWIDTH = 174.0
CENTER_FILTER_WAVELENGTH = 675.0
RADIANCE_OFFSET = 1.12155
RADIANCE_SCALING_FACTOR = 0.00980182
REFLECTANCE_SCALING_FACTOR = 0.000325957
MEX:REFLECTANCE_OFFSET = 0.0372971
/* IMAGE OBJECT DEFINITIONS */
OBJECT = IMAGE
  INTERCHANGE_FORMAT = BINARY
  LINES = 11349
  LINE_SAMPLES = 1288
  SAMPLE_TYPE = UNSIGNED_INTEGER
  SAMPLE_BITS = 8
  BANDS = 1
  BAND_STORAGE_TYPE = BAND_SEQUENTIAL
  MAXIMUM = 255
  MEAN = 111.988
  MINIMUM = 1
  STANDARD_DEVIATION = 22.0214
END_OBJECT = IMAGE
/* MAP OBJECT DEFINITIONS */
OBJECT = IMAGE_MAP_PROJECTION
  ^DATA_SET_MAP_PROJECTION_CATALOG= "DSMAP.CAT"
  A_AXIS_RADIUS = 3396.0
  B_AXIS_RADIUS = 3396.0
  C_AXIS_RADIUS = 3396.0
  CENTER_LATITUDE = 0.0
  CENTER_LONGITUDE = 73.0
  COORDINATE_SYSTEM_NAME = PLANETOGRAPHIC
  COORDINATE_SYSTEM_TYPE = "BODY-FIXED ROTATING"
  EASTERNMOST_LONGITUDE = 73.6219
  FIRST_STANDARD_PARALLEL = "N/A"
  LINE_FIRST_PIXEL = 1
  LINE_LAST_PIXEL = 11349
  LINE_PROJECTION_OFFSET = 7562.875
  MAP_PROJECTION_ROTATION = 0.0
  MAP_PROJECTION_TYPE = SINUSOIDAL
  MAP_RESOLUTION = 1185.42760773333
  MAP_SCALE = 0.05
  MAXIMUM_LATITUDE = 6.3739
  MINIMUM_LATITUDE = -3.19953
  POSITIVE_LONGITUDE_DIRECTION = EAST
  REFERENCE_LATITUDE = "N/A"
  REFERENCE_LONGITUDE = "N/A"
  SAMPLE_FIRST_PIXEL = 1
  SAMPLE_LAST_PIXEL = 1288
  SAMPLE_PROJECTION_OFFSET = 564.875
  SECOND_STANDARD_PARALLEL = "N/A"
  WESTERNMOST_LONGITUDE = 72.5277
END_OBJECT = IMAGE_MAP_PROJECTION
END
