PDS_VERSION_ID = PDS3
/* FILE DATA ELEMENTS */
RECORD_TYPE = UNDEFINED
/* POINTERS TO DATA OBJECTS */
^IMAGE = ("H3047_0001_IR4.TIF")
/* IDENTIFICATION DATA ELEMENTS */
DATA_SET_ID = "MEX-M-HRSC-4-REFDR-MAPPROJECT-EXT1-V4.0"
DATA_SET_NAME = "MARS EXPRESS HRSC MAP PROJECTED REFDR EXTENSION1 V4.0"
DETECTOR_ID = MEX_HRSC_IR
EVENT_TYPE = "MARS-REGIONAL-MAPPING-Vo"
INSTRUMENT_HOST_ID = MEX
INSTRUMENT_HOST_NAME = "MARS EXPRESS"
INSTRUMENT_ID = HRSC
INSTRUMENT_NAME = "HIGH RESOLUTION STEREO CAMERA"
MISSION_NAME = "MARS EXPRESS"
MISSION_PHASE_NAME = ME_Phase_3
PROCESSING_LEVEL_ID = 4
PRODUCT_CREATION_TIME = 2023-02-09T11:24:25.000Z
PRODUCT_ID = "H3047_0001_IR4.TIF"
RELEASE_ID = 0003
REVISION_ID = 0000
/* QUALITY DATA ELEMENTS */
DATA_QUALITY_ID = 1
DATA_QUALITY_DESC = "Data calculated based on original SPICE kernels"
/* TIME DATA ELEMENTS */
SPACECRAFT_CLOCK_START_COUNT = "1/0096670302.09053"
SPACECRAFT_CLOCK_STOP_COUNT = "1/0096670460.49315"
START_TIME = 2006-05-25T20:51:52.266Z
STOP_TIME = 2006-05-25T20:53:36.378Z
/* ORBITAL DATA ELEMENTS */
ASCENDING_NODE_LONGITUDE = 164.32
MAXIMUM_RESOLUTION = 0.0989
FOOTPRINT_POINT_LATITUDE = (3.40789,3.41049,3.41281,3.41499, 3.41698,3.41881,3.42124,3.42134,3.42836 ,3.29224,3.15621,2.95215,2.74762, 2.54314,2.40679,2.27034,2.0673,1.73778, 1.47394,1.20995,1.07781,0.945447, 0.813056,0.548621,0.350073,0.151224, -0.0477559,-0.180453,-0.313333, -0.446315,-0.579097,-0.778495,-0.911422 ,-1.04432,-1.17757,-1.31046,-1.50967, -1.64248,-1.77569,-1.97502,-2.10835, -2.24204,-2.37557,-2.5756,-2.70922, -2.84223,-2.97543,-3.1088,-3.24258, -3.30948,-3.37342,-3.3759,-3.38133, -3.38362,-3.38626,-3.38904,-3.38902, -3.38759,-3.25359,-3.11997,-2.98633, -2.85311,-2.58891,-2.45323,-2.3187, -2.11879,-1.98521,-1.85205,-1.71826, -1.58471,-1.38541,-1.18648,-1.05333, -0.853808,-0.65412,-0.455076,-0.322381, -0.189945,-0.0572896,0.0762521,0.20958, 0.473013,0.60535,0.737468,0.869765, 1.00211,1.13436,1.39853,1.72837,2.05779 ,2.26093,2.39753,2.53389,2.66941, 2.80633,2.94248,3.07887,3.28329,3.35122 ,3.40789)
FOOTPRINT_POINT_LONGITUDE = (74.5608,74.3876,74.2251,74.0627, 73.9008,73.7393,73.4974,73.4873,73.4844 ,73.4848,73.4852,73.4858,73.4863, 73.4868,73.4872,73.4875,73.4879,73.4885 ,73.4889,73.4893,73.4894,73.4895, 73.4896,73.4899,73.4901,73.4901,73.4902 ,73.4902,73.4902,73.4901,73.4901,73.49, 73.49,73.4899,73.4898,73.4898,73.4897, 73.4897,73.4896,73.4895,73.4893,73.4891 ,73.4889,73.4886,73.4883,73.4883, 73.4881,73.4879,73.4876,73.4875,73.4873 ,73.6583,73.9371,74.1207,74.3337,74.499 ,74.5087,74.5152,74.5154,74.5158, 74.5163,74.5169,74.5192,74.5186,74.5186 ,74.5195,74.52,74.5206,74.5209,74.5214, 74.5225,74.5238,74.5245,74.5255,74.5264 ,74.5276,74.5284,74.5293,74.5301, 74.5305,74.531,74.5334,74.5343,74.5353, 74.5362,74.5371,74.538,74.5399,74.5425, 74.5452,74.5469,74.548,74.5492,74.5507, 74.5517,74.5529,74.554,74.5557,74.5564, 74.5608)
ORBIT_NUMBER = 3047
ORBITAL_ECCENTRICITY = 0.572
ORBITAL_INCLINATION = 86.65
ORBITAL_SEMIMAJOR_AXIS = 8629.49
PERIAPSIS_ALTITUDE = 296.98
PERIAPSIS_ARGUMENT_ANGLE = 182.82
PERIAPSIS_TIME = 2006-05-25T20:53:50.000Z
SPACECRAFT_ORIENTATION = (0.0,-1.0,0.0)
^MEX_ORIENTATION_DESC = "MEX_ORIENTATION_DESC.TXT"
SPACECRAFT_POINTING_MODE = ACROSSTRACK
^MEX_POINTING_DESC = "MEX_POINTING_DESC.TXT"
RIGHT_ASCENSION = -1e+32
DECLINATION = -1e+32
OFFSET_ANGLE = 0.15
SPACECRAFT_SOLAR_DISTANCE = 2.48512e+08
TARGET_NAME = MARS
/* CAMERA DATA ELEMENTS */
DETECTOR_TEMPERATURE = 18.7783
FOCAL_PLANE_TEMPERATURE = 8.1755
INST_CMPRS_NAME = "DISCRETE COSINE TRANSFORMATION (DCT)"
INST_CMPRS_RATIO = 27.3554
INST_CMPRS_QUALITY = 0
INST_CMPRS_QUANTZ_TBL_ID = 0
INSTRUMENT_TEMPERATURE = 12.8652
LENS_TEMPERATURE = 8.7872
MACROPIXEL_SIZE = 8
MISSING_FRAMES = 0
PIXEL_SUBSAMPLING_FLAG = N
SIGNAL_CHAIN_ID = 2
/* RADIOMETRIC DATA ELEMENTS */
BANDWIDTH = 81.0
CENTER_FILTER_WAVELENGTH = 955.5
RADIANCE_OFFSET = 0.195691
RADIANCE_SCALING_FACTOR = 0.00263113
REFLECTANCE_SCALING_FACTOR = 0.000350566
MEX:REFLECTANCE_OFFSET = 0.0260733
/* IMAGE OBJECT DEFINITIONS */
OBJECT = IMAGE
  INTERCHANGE_FORMAT = BINARY
  LINES = 4033
  LINE_SAMPLES = 632
  SAMPLE_TYPE = UNSIGNED_INTEGER
  SAMPLE_BITS = 8
  BANDS = 1
  BAND_STORAGE_TYPE = BAND_SEQUENTIAL
  MAXIMUM = 255
  MEAN = 87.7514
  MINIMUM = 2
  STANDARD_DEVIATION = 16.2464
END_OBJECT = IMAGE
/* MAP OBJECT DEFINITIONS */
OBJECT = IMAGE_MAP_PROJECTION
  ^DATA_SET_MAP_PROJECTION_CATALOG= "DSMAP.CAT"
  A_AXIS_RADIUS = 3396.0
  B_AXIS_RADIUS = 3396.0
  C_AXIS_RADIUS = 3396.0
  CENTER_LATITUDE = 0.0
  CENTER_LONGITUDE = 74.0
  COORDINATE_SYSTEM_NAME = PLANETOGRAPHIC
  COORDINATE_SYSTEM_TYPE = "BODY-FIXED ROTATING"
  EASTERNMOST_LONGITUDE = 74.5608
  FIRST_STANDARD_PARALLEL = "N/A"
  LINE_FIRST_PIXEL = 1
  LINE_LAST_PIXEL = 4033
  LINE_PROJECTION_OFFSET = 2025.6875
  MAP_PROJECTION_ROTATION = 0.0
  MAP_PROJECTION_TYPE = SINUSOIDAL
  MAP_RESOLUTION = 592.713803866667
  MAP_SCALE = 0.1
  MAXIMUM_LATITUDE = 3.42836
  MINIMUM_LATITUDE = -3.38904
  POSITIVE_LONGITUDE_DIRECTION = EAST
  REFERENCE_LATITUDE = "N/A"
  REFERENCE_LONGITUDE = "N/A"
  SAMPLE_FIRST_PIXEL = 1
  SAMPLE_LAST_PIXEL = 632
  SAMPLE_PROJECTION_OFFSET = 305.9375
  SECOND_STANDARD_PARALLEL = "N/A"
  WESTERNMOST_LONGITUDE = 73.48439999999999
END_OBJECT = IMAGE_MAP_PROJECTION
END
