PDS_VERSION_ID = PDS3
/* FILE DATA ELEMENTS */
RECORD_TYPE = UNDEFINED
/* POINTERS TO DATA OBJECTS */
^IMAGE = ("H3042_0000_P24.TIF")
/* IDENTIFICATION DATA ELEMENTS */
DATA_SET_ID = "MEX-M-HRSC-4-REFDR-MAPPROJECT-EXT1-V4.0"
DATA_SET_NAME = "MARS EXPRESS HRSC MAP PROJECTED REFDR EXTENSION1 V4.0"
DETECTOR_ID = MEX_HRSC_P2
EVENT_TYPE = "MARS-REGIONAL-MAPPING-Vo-Eo"
INSTRUMENT_HOST_ID = MEX
INSTRUMENT_HOST_NAME = "MARS EXPRESS"
INSTRUMENT_ID = HRSC
INSTRUMENT_NAME = "HIGH RESOLUTION STEREO CAMERA"
MISSION_NAME = "MARS EXPRESS"
MISSION_PHASE_NAME = ME_Phase_3
PROCESSING_LEVEL_ID = 4
PRODUCT_CREATION_TIME = 2023-02-09T11:24:25.000Z
PRODUCT_ID = "H3042_0000_P24.TIF"
RELEASE_ID = 0003
REVISION_ID = 0000
/* QUALITY DATA ELEMENTS */
DATA_QUALITY_ID = 1
DATA_QUALITY_DESC = "Data calculated based on original SPICE kernels"
/* TIME DATA ELEMENTS */
SPACECRAFT_CLOCK_START_COUNT = "1/0096548957.07288"
SPACECRAFT_CLOCK_STOP_COUNT = "1/0096549230.24535"
START_TIME = 2006-05-24T11:10:46.356Z
STOP_TIME = 2006-05-24T11:13:42.922Z
/* ORBITAL DATA ELEMENTS */
ASCENDING_NODE_LONGITUDE = 164.43
MAXIMUM_RESOLUTION = 0.0598
FOOTPRINT_POINT_LATITUDE = (26.1946,26.1869,26.1818,26.1765, 26.1711,26.1655,26.1597,26.1593,26.1917 ,25.9368,25.6832,25.4336,25.1837, 24.8103,24.5656,24.3207,23.9551,23.7154 ,23.4756,23.2355,22.998,22.7634,22.5285 ,22.2934,22.0608,21.8312,21.6015, 21.3716,21.1426,20.9181,20.5812,20.3565 ,20.1322,19.6936,19.2544,18.8147, 18.4845,18.154,17.9336,17.7129,17.4922, 17.2713,17.0502,16.7185,16.4972,16.2757 ,15.9433,15.7217,15.3893,14.924,14.831, 14.7665,14.7761,14.7858,14.7987,14.799, 14.8,15.3585,15.7895,16.0112,16.2328, 16.4544,16.6758,16.8971,17.1183,17.3393 ,17.6706,17.8913,18.1119,18.3323, 18.7728,19.2127,19.6521,20.0908,20.3132 ,20.5381,20.7629,20.9874,21.2119, 21.4419,21.6718,21.9016,22.1312,22.3648 ,22.5999,22.8348,23.0695,23.308,23.5481 ,23.788,24.0277,24.3944,24.6394,24.8841 ,25.2586,25.5085,25.7582,26.0129, 26.1404,26.1946)
FOOTPRINT_POINT_LONGITUDE = (206.92,206.471,206.197,205.926,205.656 ,205.388,205.121,205.105,205.098, 205.105,205.113,205.119,205.126,205.136 ,205.142,205.148,205.157,205.163, 205.169,205.175,205.18,205.185,205.19, 205.196,205.201,205.205,205.21,205.215, 205.219,205.224,205.23,205.234,205.238, 205.246,205.254,205.261,205.266,205.272 ,205.275,205.278,205.282,205.285, 205.288,205.292,205.295,205.298,205.303 ,205.305,205.309,205.315,205.316, 205.317,205.706,206.102,206.632,206.645 ,206.649,206.661,206.67,206.674,206.679 ,206.684,206.689,206.694,206.699, 206.704,206.712,206.717,206.722,206.728 ,206.738,206.749,206.76,206.772,206.778 ,206.783,206.789,206.795,206.802, 206.808,206.814,206.821,206.827,206.834 ,206.84,206.847,206.854,206.861,206.868 ,206.875,206.883,206.894,206.902, 206.909,206.921,206.929,206.937,206.946 ,206.95,206.92)
ORBIT_NUMBER = 3042
ORBITAL_ECCENTRICITY = 0.572
ORBITAL_INCLINATION = 86.63
ORBITAL_SEMIMAJOR_AXIS = 8623.68
PERIAPSIS_ALTITUDE = 297.2
PERIAPSIS_ARGUMENT_ANGLE = 183.7
PERIAPSIS_TIME = 2006-05-24T11:18:04.000Z
SPACECRAFT_ORIENTATION = (0.0,-1.0,0.0)
^MEX_ORIENTATION_DESC = "MEX_ORIENTATION_DESC.TXT"
SPACECRAFT_POINTING_MODE = ACROSSTRACK
^MEX_POINTING_DESC = "MEX_POINTING_DESC.TXT"
RIGHT_ASCENSION = -1e+32
DECLINATION = -1e+32
OFFSET_ANGLE = 0.7
SPACECRAFT_SOLAR_DISTANCE = 2.48446e+08
TARGET_NAME = MARS
/* CAMERA DATA ELEMENTS */
DETECTOR_TEMPERATURE = 18.3705
FOCAL_PLANE_TEMPERATURE = 7.9716
INST_CMPRS_NAME = "DISCRETE COSINE TRANSFORMATION (DCT)"
INST_CMPRS_RATIO = 8.54909
INST_CMPRS_QUALITY = 0
INST_CMPRS_QUANTZ_TBL_ID = 0
INSTRUMENT_TEMPERATURE = 11.0301
LENS_TEMPERATURE = 8.1755
MACROPIXEL_SIZE = 4
MISSING_FRAMES = 0
PIXEL_SUBSAMPLING_FLAG = N
SIGNAL_CHAIN_ID = 3
/* RADIOMETRIC DATA ELEMENTS */
BANDWIDTH = 177.0
CENTER_FILTER_WAVELENGTH = 676.5
RADIANCE_OFFSET = 3.49486
RADIANCE_SCALING_FACTOR = 0.0142764
REFLECTANCE_SCALING_FACTOR = 0.000467239
MEX:REFLECTANCE_OFFSET = 0.11438
/* IMAGE OBJECT DEFINITIONS */
OBJECT = IMAGE
  INTERCHANGE_FORMAT = BINARY
  LINES = 13570
  LINE_SAMPLES = 2068
  SAMPLE_TYPE = UNSIGNED_INTEGER
  SAMPLE_BITS = 8
  BANDS = 1
  BAND_STORAGE_TYPE = BAND_SEQUENTIAL
  MAXIMUM = 255
  MEAN = 123.567
  MINIMUM = 1
  STANDARD_DEVIATION = 9.96562
END_OBJECT = IMAGE
/* MAP OBJECT DEFINITIONS */
OBJECT = IMAGE_MAP_PROJECTION
  ^DATA_SET_MAP_PROJECTION_CATALOG= "DSMAP.CAT"
  A_AXIS_RADIUS = 3396.0
  B_AXIS_RADIUS = 3396.0
  C_AXIS_RADIUS = 3396.0
  CENTER_LATITUDE = 0.0
  CENTER_LONGITUDE = 206.0
  COORDINATE_SYSTEM_NAME = PLANETOGRAPHIC
  COORDINATE_SYSTEM_TYPE = "BODY-FIXED ROTATING"
  EASTERNMOST_LONGITUDE = 206.95
  FIRST_STANDARD_PARALLEL = "N/A"
  LINE_FIRST_PIXEL = 1
  LINE_LAST_PIXEL = 13570
  LINE_PROJECTION_OFFSET = 31087.125
  MAP_PROJECTION_ROTATION = 0.0
  MAP_PROJECTION_TYPE = SINUSOIDAL
  MAP_RESOLUTION = 1185.42760773333
  MAP_SCALE = 0.05
  MAXIMUM_LATITUDE = 26.1946
  MINIMUM_LATITUDE = 14.7665
  POSITIVE_LONGITUDE_DIRECTION = EAST
  REFERENCE_LATITUDE = "N/A"
  REFERENCE_LONGITUDE = "N/A"
  SAMPLE_FIRST_PIXEL = 1
  SAMPLE_LAST_PIXEL = 2068
  SAMPLE_PROJECTION_OFFSET = 1011.375
  SECOND_STANDARD_PARALLEL = "N/A"
  WESTERNMOST_LONGITUDE = 205.098
END_OBJECT = IMAGE_MAP_PROJECTION
END
