PDS_VERSION_ID = PDS3
/* FILE DATA ELEMENTS */
RECORD_TYPE = UNDEFINED
/* POINTERS TO DATA OBJECTS */
^IMAGE = ("H3026_0000_GR4.TIF")
/* IDENTIFICATION DATA ELEMENTS */
DATA_SET_ID = "MEX-M-HRSC-4-REFDR-MAPPROJECT-EXT1-V4.0"
DATA_SET_NAME = "MARS EXPRESS HRSC MAP PROJECTED REFDR EXTENSION1 V4.0"
DETECTOR_ID = MEX_HRSC_GREEN
EVENT_TYPE = "MARS-REGIONAL-MAPPING-Te-Fl-La"
INSTRUMENT_HOST_ID = MEX
INSTRUMENT_HOST_NAME = "MARS EXPRESS"
INSTRUMENT_ID = HRSC
INSTRUMENT_NAME = "HIGH RESOLUTION STEREO CAMERA"
MISSION_NAME = "MARS EXPRESS"
MISSION_PHASE_NAME = ME_Phase_3
PROCESSING_LEVEL_ID = 4
PRODUCT_CREATION_TIME = 2023-02-09T11:24:25.000Z
PRODUCT_ID = "H3026_0000_GR4.TIF"
RELEASE_ID = 0003
REVISION_ID = 0000
/* QUALITY DATA ELEMENTS */
DATA_QUALITY_ID = 1
DATA_QUALITY_DESC = "Data calculated based on original SPICE kernels"
/* TIME DATA ELEMENTS */
SPACECRAFT_CLOCK_START_COUNT = "1/0096161950.09071"
SPACECRAFT_CLOCK_STOP_COUNT = "1/0096162240.57600"
START_TIME = 2006-05-19T23:43:25.733Z
STOP_TIME = 2006-05-19T23:43:28.034Z
/* ORBITAL DATA ELEMENTS */
ASCENDING_NODE_LONGITUDE = 164.76
MAXIMUM_RESOLUTION = 0.1145
FOOTPRINT_POINT_LATITUDE = (10.1383,10.1384,10.1386,10.1387, 10.1388,10.1389,10.1391,10.1393,10.1396 ,10.1397,10.1398,10.14,10.1401,10.1402, 10.1403,10.1404,10.1405,10.1406,10.1407 ,10.1408,10.1409,10.141,10.1411,10.1413 ,10.1415,10.1416,10.1418,10.142,10.1421 ,10.1422,10.1423,10.1424,10.1424, 10.1425,10.1425,10.1426,10.1426,10.1426 ,10.1427,10.1427,10.1427,10.1381, 10.1128,10.0825,10.0421,9.99675,9.99506 ,9.99338,9.99341,9.99279,9.9923,9.99225 ,9.99221,9.99216,9.99233,9.99227, 9.99221,9.99211,9.99204,9.99198,9.99192 ,9.99156,9.99149,9.99142,9.99134, 9.99127,9.99119,9.99111,9.99152,9.99143 ,9.99134,9.99125,9.99147,9.99138, 9.99128,9.99119,9.99104,9.99095,9.99084 ,9.99074,9.99067,9.9905,9.99017,9.99005 ,9.98987,9.98943,9.98931,9.98907, 9.98894,9.98869,9.98856,9.98835,9.98822 ,9.98986,10.0287,10.0658,10.1063, 10.1316,10.1333,10.1383)
FOOTPRINT_POINT_LONGITUDE = (338.157,338.134,338.111,338.087, 338.064,338.04,338.017,337.97,337.923, 337.9,337.876,337.841,337.818,337.794, 337.771,337.748,337.724,337.701,337.677 ,337.654,337.63,337.607,337.56,337.513, 337.467,337.42,337.373,337.303,337.256, 337.209,337.162,337.139,337.116,337.08, 337.057,337.022,336.998,336.975,336.951 ,336.928,336.916,336.905,336.905, 336.905,336.906,336.906,336.906,336.907 ,336.964,337.022,337.068,337.092, 337.116,337.139,337.175,337.199,337.222 ,337.246,337.269,337.293,337.316, 337.352,337.375,337.399,337.422,337.458 ,337.481,337.505,337.529,337.552, 337.576,337.599,337.623,337.646,337.67, 337.693,337.717,337.741,337.764,337.788 ,337.811,337.847,337.882,337.906, 337.941,337.977,338.0,338.036,338.059, 338.083,338.107,338.142,338.154,338.162 ,338.163,338.163,338.164,338.164, 338.164,338.157)
ORBIT_NUMBER = 3026
ORBITAL_ECCENTRICITY = 0.572
ORBITAL_INCLINATION = 86.64
ORBITAL_SEMIMAJOR_AXIS = 8619.58
PERIAPSIS_ALTITUDE = 296.24
PERIAPSIS_ARGUMENT_ANGLE = 186.54
PERIAPSIS_TIME = 2006-05-19T23:47:45.000Z
SPACECRAFT_ORIENTATION = (0.0,-1.0,0.0)
^MEX_ORIENTATION_DESC = "MEX_ORIENTATION_DESC.TXT"
SPACECRAFT_POINTING_MODE = NADIR
^MEX_POINTING_DESC = "MEX_POINTING_DESC.TXT"
RIGHT_ASCENSION = -1e+32
DECLINATION = -1e+32
OFFSET_ANGLE = -1e+32
SPACECRAFT_SOLAR_DISTANCE = 2.48216e+08
TARGET_NAME = MARS
/* CAMERA DATA ELEMENTS */
DETECTOR_TEMPERATURE = 18.3705
FOCAL_PLANE_TEMPERATURE = 8.1755
INST_CMPRS_NAME = "DISCRETE COSINE TRANSFORMATION (DCT)"
INST_CMPRS_RATIO = 10.3883
INST_CMPRS_QUALITY = 0
INST_CMPRS_QUANTZ_TBL_ID = 0
INSTRUMENT_TEMPERATURE = 11.0301
LENS_TEMPERATURE = 8.5833
MACROPIXEL_SIZE = 8
MISSING_FRAMES = 0
PIXEL_SUBSAMPLING_FLAG = N
SIGNAL_CHAIN_ID = 2
/* RADIOMETRIC DATA ELEMENTS */
BANDWIDTH = 88.0
CENTER_FILTER_WAVELENGTH = 538.0
RADIANCE_OFFSET = 0.976503
RADIANCE_SCALING_FACTOR = 0.0029591
REFLECTANCE_SCALING_FACTOR = 0.000156967
MEX:REFLECTANCE_OFFSET = 0.051799
/* IMAGE OBJECT DEFINITIONS */
OBJECT = IMAGE
  INTERCHANGE_FORMAT = BINARY
  LINES = 285
  LINE_SAMPLES = 744
  SAMPLE_TYPE = UNSIGNED_INTEGER
  SAMPLE_BITS = 8
  BANDS = 1
  BAND_STORAGE_TYPE = BAND_SEQUENTIAL
  MAXIMUM = 254
  MEAN = 122.387
  MINIMUM = 14
  STANDARD_DEVIATION = 33.4553
END_OBJECT = IMAGE
/* MAP OBJECT DEFINITIONS */
OBJECT = IMAGE_MAP_PROJECTION
  ^DATA_SET_MAP_PROJECTION_CATALOG= "DSMAP.CAT"
  A_AXIS_RADIUS = 3396.0
  B_AXIS_RADIUS = 3396.0
  C_AXIS_RADIUS = 3396.0
  CENTER_LATITUDE = 0.0
  CENTER_LONGITUDE = 338.0
  COORDINATE_SYSTEM_NAME = PLANETOGRAPHIC
  COORDINATE_SYSTEM_TYPE = "BODY-FIXED ROTATING"
  EASTERNMOST_LONGITUDE = 338.164
  FIRST_STANDARD_PARALLEL = "N/A"
  LINE_FIRST_PIXEL = 1
  LINE_LAST_PIXEL = 285
  LINE_PROJECTION_OFFSET = 6209.4375
  MAP_PROJECTION_ROTATION = 0.0
  MAP_PROJECTION_TYPE = SINUSOIDAL
  MAP_RESOLUTION = 592.713803866667
  MAP_SCALE = 0.1
  MAXIMUM_LATITUDE = 10.1427
  MINIMUM_LATITUDE = 9.98822
  POSITIVE_LONGITUDE_DIRECTION = EAST
  REFERENCE_LATITUDE = "N/A"
  REFERENCE_LONGITUDE = "N/A"
  SAMPLE_FIRST_PIXEL = 1
  SAMPLE_LAST_PIXEL = 744
  SAMPLE_PROJECTION_OFFSET = 646.6875
  SECOND_STANDARD_PARALLEL = "N/A"
  WESTERNMOST_LONGITUDE = 336.905
END_OBJECT = IMAGE_MAP_PROJECTION
END
