PDS_VERSION_ID = PDS3
/* FILE DATA ELEMENTS */
RECORD_TYPE = UNDEFINED
/* POINTERS TO DATA OBJECTS */
^IMAGE = ("H3025_0000_RE4.TIF")
/* IDENTIFICATION DATA ELEMENTS */
DATA_SET_ID = "MEX-M-HRSC-4-REFDR-MAPPROJECT-EXT1-V4.0"
DATA_SET_NAME = "MARS EXPRESS HRSC MAP PROJECTED REFDR EXTENSION1 V4.0"
DETECTOR_ID = MEX_HRSC_RED
EVENT_TYPE = "MARS-REGIONAL-MAPPING-Vo"
INSTRUMENT_HOST_ID = MEX
INSTRUMENT_HOST_NAME = "MARS EXPRESS"
INSTRUMENT_ID = HRSC
INSTRUMENT_NAME = "HIGH RESOLUTION STEREO CAMERA"
MISSION_NAME = "MARS EXPRESS"
MISSION_PHASE_NAME = ME_Phase_3
PROCESSING_LEVEL_ID = 4
PRODUCT_CREATION_TIME = 2023-02-09T11:24:25.000Z
PRODUCT_ID = "H3025_0000_RE4.TIF"
RELEASE_ID = 0003
REVISION_ID = 0000
/* QUALITY DATA ELEMENTS */
DATA_QUALITY_ID = 1
DATA_QUALITY_DESC = "Data calculated based on original SPICE kernels"
/* TIME DATA ELEMENTS */
SPACECRAFT_CLOCK_START_COUNT = "1/0096137966.09052"
SPACECRAFT_CLOCK_STOP_COUNT = "1/0096138245.57267"
START_TIME = 2006-05-19T17:00:32.724Z
STOP_TIME = 2006-05-19T17:03:09.208Z
/* ORBITAL DATA ELEMENTS */
ASCENDING_NODE_LONGITUDE = 164.78
MAXIMUM_RESOLUTION = 0.1009
FOOTPRINT_POINT_LATITUDE = (11.1897,11.1903,11.1915,11.1932, 11.1933,11.1932,10.9712,10.6383,10.4163 ,10.0831,9.75015,9.52769,9.3056,9.08622 ,8.87117,8.65594,8.44079,8.11743,7.7945 ,7.57911,7.3635,7.15317,6.94506,6.63249 ,6.42468,6.21555,6.00742,5.79937, 5.48702,5.27858,5.07101,4.86954,4.66885 ,4.46754,4.1656,3.96443,3.76292,3.46101 ,3.15961,2.95822,2.75687,2.45524, 1.96308,1.57523,1.28334,0.89578,0.79906 ,0.746912,0.746015,0.746094,0.745393, 0.744237,0.74439,0.745925,0.93986, 1.13389,1.42444,1.71521,2.00611,2.20024 ,2.39969,2.60075,2.80212,3.10419, 3.40612,3.60742,3.80849,4.01016,4.21141 ,4.51296,4.71412,5.01582,5.32582, 5.53438,5.74275,5.95116,6.15942,6.3674, 6.57517,6.78416,6.99266,7.20158,7.52176 ,7.73742,7.95291,8.16847,8.38361, 8.59872,8.8146,9.02999,9.24784,9.58104, 9.8033,10.0261,10.2486,10.4705,10.6925, 11.025,11.1359,11.1897)
FOOTPRINT_POINT_LONGITUDE = (76.4084,76.0947,75.6649,75.1884, 75.1767,75.1703,75.1729,75.1766,75.179, 75.1825,75.1857,75.188,75.19,75.1921, 75.1939,75.1958,75.1976,75.2004,75.2029 ,75.2045,75.2062,75.2077,75.2091, 75.2112,75.2123,75.2139,75.2151,75.2162 ,75.2178,75.2189,75.22,75.221,75.2218, 75.2227,75.2241,75.2249,75.2257,75.2269 ,75.2277,75.2284,75.2291,75.2299,75.231 ,75.2318,75.2327,75.2333,75.2333, 75.2334,75.4478,75.6928,75.8989,76.2619 ,76.2718,76.2784,76.2799,76.2815, 76.2839,76.2863,76.2889,76.2907,76.2925 ,76.2943,76.2963,76.2994,76.3025, 76.3046,76.3066,76.309,76.3111,76.3144, 76.3166,76.3201,76.3238,76.3264,76.3289 ,76.3315,76.3341,76.3366,76.3391, 76.3421,76.345,76.3481,76.3527,76.3558, 76.3589,76.3621,76.3652,76.3683,76.3718 ,76.3751,76.3786,76.3838,76.3873, 76.3911,76.3949,76.3985,76.4022,76.4077 ,76.4096,76.4084)
ORBIT_NUMBER = 3025
ORBITAL_ECCENTRICITY = 0.572
ORBITAL_INCLINATION = 86.64
ORBITAL_SEMIMAJOR_AXIS = 8628.3
PERIAPSIS_ALTITUDE = 295.25
PERIAPSIS_ARGUMENT_ANGLE = 186.74
PERIAPSIS_TIME = 2006-05-19T17:04:40.000Z
SPACECRAFT_ORIENTATION = (0.0,-1.0,0.0)
^MEX_ORIENTATION_DESC = "MEX_ORIENTATION_DESC.TXT"
SPACECRAFT_POINTING_MODE = NADIR
^MEX_POINTING_DESC = "MEX_POINTING_DESC.TXT"
RIGHT_ASCENSION = -1e+32
DECLINATION = -1e+32
OFFSET_ANGLE = -1e+32
SPACECRAFT_SOLAR_DISTANCE = 2.48201e+08
TARGET_NAME = MARS
/* CAMERA DATA ELEMENTS */
DETECTOR_TEMPERATURE = 18.7783
FOCAL_PLANE_TEMPERATURE = 8.5833
INST_CMPRS_NAME = "DISCRETE COSINE TRANSFORMATION (DCT)"
INST_CMPRS_RATIO = 20.389
INST_CMPRS_QUALITY = 0
INST_CMPRS_QUANTZ_TBL_ID = 0
INSTRUMENT_TEMPERATURE = 11.6418
LENS_TEMPERATURE = 8.9911
MACROPIXEL_SIZE = 8
MISSING_FRAMES = 0
PIXEL_SUBSAMPLING_FLAG = N
SIGNAL_CHAIN_ID = 2
/* RADIOMETRIC DATA ELEMENTS */
BANDWIDTH = 48.0
CENTER_FILTER_WAVELENGTH = 748.0
RADIANCE_OFFSET = 0.299916
RADIANCE_SCALING_FACTOR = 0.00276962
REFLECTANCE_SCALING_FACTOR = 0.000389362
MEX:REFLECTANCE_OFFSET = 0.0421631
/* IMAGE OBJECT DEFINITIONS */
OBJECT = IMAGE
  INTERCHANGE_FORMAT = BINARY
  LINES = 7175
  LINE_SAMPLES = 750
  SAMPLE_TYPE = UNSIGNED_INTEGER
  SAMPLE_BITS = 8
  BANDS = 1
  BAND_STORAGE_TYPE = BAND_SEQUENTIAL
  MAXIMUM = 255
  MEAN = 124.193
  MINIMUM = 1
  STANDARD_DEVIATION = 25.6772
END_OBJECT = IMAGE
/* MAP OBJECT DEFINITIONS */
OBJECT = IMAGE_MAP_PROJECTION
  ^DATA_SET_MAP_PROJECTION_CATALOG= "DSMAP.CAT"
  A_AXIS_RADIUS = 3396.0
  B_AXIS_RADIUS = 3396.0
  C_AXIS_RADIUS = 3396.0
  CENTER_LATITUDE = 0.0
  CENTER_LONGITUDE = 76.0
  COORDINATE_SYSTEM_NAME = PLANETOGRAPHIC
  COORDINATE_SYSTEM_TYPE = "BODY-FIXED ROTATING"
  EASTERNMOST_LONGITUDE = 76.4096
  FIRST_STANDARD_PARALLEL = "N/A"
  LINE_FIRST_PIXEL = 1
  LINE_LAST_PIXEL = 7175
  LINE_PROJECTION_OFFSET = 6638.6875
  MAP_PROJECTION_ROTATION = 0.0
  MAP_PROJECTION_TYPE = SINUSOIDAL
  MAP_RESOLUTION = 592.713803866667
  MAP_SCALE = 0.1
  MAXIMUM_LATITUDE = 11.1933
  MINIMUM_LATITUDE = 0.744237
  POSITIVE_LONGITUDE_DIRECTION = EAST
  REFERENCE_LATITUDE = "N/A"
  REFERENCE_LONGITUDE = "N/A"
  SAMPLE_FIRST_PIXEL = 1
  SAMPLE_LAST_PIXEL = 750
  SAMPLE_PROJECTION_OFFSET = 498.5625
  SECOND_STANDARD_PARALLEL = "N/A"
  WESTERNMOST_LONGITUDE = 75.1703
END_OBJECT = IMAGE_MAP_PROJECTION
END
