PDS_VERSION_ID = PDS3
/* FILE DATA ELEMENTS */
RECORD_TYPE = UNDEFINED
/* POINTERS TO DATA OBJECTS */
^IMAGE = ("H3023_0000_S24.TIF")
/* IDENTIFICATION DATA ELEMENTS */
DATA_SET_ID = "MEX-M-HRSC-4-REFDR-MAPPROJECT-EXT1-V4.0"
DATA_SET_NAME = "MARS EXPRESS HRSC MAP PROJECTED REFDR EXTENSION1 V4.0"
DETECTOR_ID = MEX_HRSC_S2
EVENT_TYPE = "MARS-LOCAL-STEREO-Vo"
INSTRUMENT_HOST_ID = MEX
INSTRUMENT_HOST_NAME = "MARS EXPRESS"
INSTRUMENT_ID = HRSC
INSTRUMENT_NAME = "HIGH RESOLUTION STEREO CAMERA"
MISSION_NAME = "MARS EXPRESS"
MISSION_PHASE_NAME = ME_Phase_3
PROCESSING_LEVEL_ID = 4
PRODUCT_CREATION_TIME = 2023-02-09T11:24:25.000Z
PRODUCT_ID = "H3023_0000_S24.TIF"
RELEASE_ID = 0003
REVISION_ID = 0000
/* QUALITY DATA ELEMENTS */
DATA_QUALITY_ID = 1
DATA_QUALITY_DESC = "Data calculated based on original SPICE kernels"
/* TIME DATA ELEMENTS */
SPACECRAFT_CLOCK_START_COUNT = "1/0096089498.09079"
SPACECRAFT_CLOCK_STOP_COUNT = "1/0096089682.65228"
START_TIME = 2006-05-19T03:33:02.215Z
STOP_TIME = 2006-05-19T03:34:46.426Z
/* ORBITAL DATA ELEMENTS */
ASCENDING_NODE_LONGITUDE = 164.82
MAXIMUM_RESOLUTION = 0.0288
FOOTPRINT_POINT_LATITUDE = (16.7546,16.7548,16.755,16.7554,16.7559 ,16.7564,16.7571,16.7572,16.7578, 16.6048,16.4516,16.2983,16.0683,15.8383 ,15.6852,15.5318,15.3015,15.1478, 14.9943,14.8408,14.6101,14.4562,14.3023 ,14.1486,13.9945,13.7636,13.6277, 13.4342,13.1759,12.9821,12.8526,12.6587 ,12.4647,12.3352,12.2059,12.012,11.7535 ,11.4949,11.3656,11.1717,11.0424, 10.8484,10.654,10.5247,10.3952,10.201, 10.0714,9.8773,9.81246,9.79562,9.79494, 9.79463,9.79434,9.79432,9.79423,9.79422 ,9.79421,9.79465,9.92432,10.0538, 10.1833,10.3775,10.5071,10.6365,10.7659 ,10.9601,11.1543,11.2837,11.413,11.5426 ,11.6718,11.8012,11.9953,12.1246, 12.3829,12.5767,12.8354,13.0938,13.2873 ,13.6099,13.8198,13.9735,14.1271, 14.3581,14.5122,14.6659,14.8196,14.9732 ,15.1269,15.2805,15.4343,15.6649, 15.8182,16.0483,16.2017,16.3552,16.5082 ,16.6611,16.7376,16.7546)
FOOTPRINT_POINT_LONGITUDE = (272.999,272.763,272.568,272.291, 272.069,271.847,271.583,271.569,271.564 ,271.567,271.57,271.573,271.577,271.581 ,271.584,271.587,271.591,271.593, 271.596,271.598,271.602,271.605,271.607 ,271.609,271.612,271.615,271.617,271.62 ,271.624,271.627,271.629,271.631, 271.634,271.636,271.637,271.64,271.643, 271.646,271.648,271.65,271.652,271.654, 271.656,271.657,271.659,271.661,271.662 ,271.664,271.665,271.665,271.875, 272.038,272.201,272.4,272.692,272.855, 272.867,272.871,272.873,272.875,272.877 ,272.88,272.882,272.884,272.886,272.89, 272.893,272.895,272.897,272.899,272.902 ,272.904,272.907,272.91,272.914,272.917 ,272.922,272.927,272.93,272.936,272.94, 272.943,272.946,272.951,272.954,272.957 ,272.96,272.963,272.966,272.969,272.972 ,272.977,272.98,272.985,272.988,272.991 ,272.994,272.998,272.999,272.999)
ORBIT_NUMBER = 3023
ORBITAL_ECCENTRICITY = 0.573
ORBITAL_INCLINATION = 86.63
ORBITAL_SEMIMAJOR_AXIS = 8631.7
PERIAPSIS_ALTITUDE = 293.7
PERIAPSIS_ARGUMENT_ANGLE = 187.11
PERIAPSIS_TIME = 2006-05-19T03:38:33.000Z
SPACECRAFT_ORIENTATION = (0.0,-1.0,0.0)
^MEX_ORIENTATION_DESC = "MEX_ORIENTATION_DESC.TXT"
SPACECRAFT_POINTING_MODE = NADIR
^MEX_POINTING_DESC = "MEX_POINTING_DESC.TXT"
RIGHT_ASCENSION = -1e+32
DECLINATION = -1e+32
OFFSET_ANGLE = -1e+32
SPACECRAFT_SOLAR_DISTANCE = 2.4817e+08
TARGET_NAME = MARS
/* CAMERA DATA ELEMENTS */
DETECTOR_TEMPERATURE = 18.7783
FOCAL_PLANE_TEMPERATURE = 8.3794
INST_CMPRS_NAME = "DISCRETE COSINE TRANSFORMATION (DCT)"
INST_CMPRS_RATIO = 7.16006
INST_CMPRS_QUALITY = 0
INST_CMPRS_QUANTZ_TBL_ID = 0
INSTRUMENT_TEMPERATURE = 11.234
LENS_TEMPERATURE = 8.7872
MACROPIXEL_SIZE = 2
MISSING_FRAMES = 0
PIXEL_SUBSAMPLING_FLAG = N
SIGNAL_CHAIN_ID = 1
/* RADIOMETRIC DATA ELEMENTS */
BANDWIDTH = 178.0
CENTER_FILTER_WAVELENGTH = 679.0
RADIANCE_OFFSET = 2.56293
RADIANCE_SCALING_FACTOR = 0.017868
REFLECTANCE_SCALING_FACTOR = 0.000582773
MEX:REFLECTANCE_OFFSET = 0.0835916
/* IMAGE OBJECT DEFINITIONS */
OBJECT = IMAGE
  INTERCHANGE_FORMAT = BINARY
  LINES = 16510
  LINE_SAMPLES = 3415
  SAMPLE_TYPE = UNSIGNED_INTEGER
  SAMPLE_BITS = 8
  BANDS = 1
  BAND_STORAGE_TYPE = BAND_SEQUENTIAL
  MAXIMUM = 255
  MEAN = 132.69
  MINIMUM = 1
  STANDARD_DEVIATION = 16.8335
END_OBJECT = IMAGE
/* MAP OBJECT DEFINITIONS */
OBJECT = IMAGE_MAP_PROJECTION
  ^DATA_SET_MAP_PROJECTION_CATALOG= "DSMAP.CAT"
  A_AXIS_RADIUS = 3396.0
  B_AXIS_RADIUS = 3396.0
  C_AXIS_RADIUS = 3396.0
  CENTER_LATITUDE = 0.0
  CENTER_LONGITUDE = 272.0
  COORDINATE_SYSTEM_NAME = PLANETOGRAPHIC
  COORDINATE_SYSTEM_TYPE = "BODY-FIXED ROTATING"
  EASTERNMOST_LONGITUDE = 272.999
  FIRST_STANDARD_PARALLEL = "N/A"
  LINE_FIRST_PIXEL = 1
  LINE_LAST_PIXEL = 16510
  LINE_PROJECTION_OFFSET = 39793.25
  MAP_PROJECTION_ROTATION = 0.0
  MAP_PROJECTION_TYPE = SINUSOIDAL
  MAP_RESOLUTION = 2370.85521546667
  MAP_SCALE = 0.025
  MAXIMUM_LATITUDE = 16.7578
  MINIMUM_LATITUDE = 9.79421
  POSITIVE_LONGITUDE_DIRECTION = EAST
  REFERENCE_LATITUDE = "N/A"
  REFERENCE_LONGITUDE = "N/A"
  SAMPLE_FIRST_PIXEL = 1
  SAMPLE_LAST_PIXEL = 3415
  SAMPLE_PROJECTION_OFFSET = 1068.75
  SECOND_STANDARD_PARALLEL = "N/A"
  WESTERNMOST_LONGITUDE = 271.564
END_OBJECT = IMAGE_MAP_PROJECTION
END
