PDS_VERSION_ID = PDS3
/* FILE DATA ELEMENTS */
RECORD_TYPE = UNDEFINED
/* POINTERS TO DATA OBJECTS */
^IMAGE = ("H3023_0000_GR4.TIF")
/* IDENTIFICATION DATA ELEMENTS */
DATA_SET_ID = "MEX-M-HRSC-4-REFDR-MAPPROJECT-EXT1-V4.0"
DATA_SET_NAME = "MARS EXPRESS HRSC MAP PROJECTED REFDR EXTENSION1 V4.0"
DETECTOR_ID = MEX_HRSC_GREEN
EVENT_TYPE = "MARS-LOCAL-STEREO-Vo"
INSTRUMENT_HOST_ID = MEX
INSTRUMENT_HOST_NAME = "MARS EXPRESS"
INSTRUMENT_ID = HRSC
INSTRUMENT_NAME = "HIGH RESOLUTION STEREO CAMERA"
MISSION_NAME = "MARS EXPRESS"
MISSION_PHASE_NAME = ME_Phase_3
PROCESSING_LEVEL_ID = 4
PRODUCT_CREATION_TIME = 2023-02-09T11:24:25.000Z
PRODUCT_ID = "H3023_0000_GR4.TIF"
RELEASE_ID = 0003
REVISION_ID = 0000
/* QUALITY DATA ELEMENTS */
DATA_QUALITY_ID = 1
DATA_QUALITY_DESC = "Data calculated based on original SPICE kernels"
/* TIME DATA ELEMENTS */
SPACECRAFT_CLOCK_START_COUNT = "1/0096089498.09079"
SPACECRAFT_CLOCK_STOP_COUNT = "1/0096089682.65228"
START_TIME = 2006-05-19T03:32:18.855Z
STOP_TIME = 2006-05-19T03:34:09.994Z
/* ORBITAL DATA ELEMENTS */
ASCENDING_NODE_LONGITUDE = 164.82
MAXIMUM_RESOLUTION = 0.1132
FOOTPRINT_POINT_LATITUDE = (16.7774,16.7783,16.7793,16.78,16.7804, 16.7806,16.7805,16.7801,16.7801,16.7779 ,16.6306,16.487,16.3432,16.1994,16.0554 ,15.9113,15.767,15.6239,15.3425,15.0606 ,14.7783,14.4955,14.354,14.2124,14.0706 ,13.9288,13.7868,13.6447,13.5026, 13.3603,13.2179,13.0754,12.9329,12.7902 ,12.6475,12.5046,12.3616,12.2185, 12.0754,11.932,11.7886,11.6452,11.5016, 11.3579,11.0963,10.9153,10.6739,10.4321 ,10.1901,9.8872,9.8266,9.82323,9.82295, 9.82226,9.82153,9.81997,9.81873,9.81866 ,9.8203,10.0021,10.2444,10.4863,10.728, 10.9695,11.2107,11.4951,11.6387,11.7822 ,11.9256,12.0689,12.2121,12.3553, 12.4983,12.6412,12.784,12.9267,13.0693, 13.2119,13.3543,13.4966,13.6388,13.7809 ,13.9229,14.0649,14.2067,14.3483, 14.4899,14.7727,15.0552,15.3371,15.6186 ,15.7617,15.906,16.0501,16.1941,16.338, 16.4819,16.6992,16.7729,16.7774)
FOOTPRINT_POINT_LONGITUDE = (273.04,272.871,272.66,272.435,272.21, 272.013,271.788,271.563,271.548,271.541 ,271.544,271.547,271.55,271.554,271.556 ,271.56,271.562,271.565,271.571,271.576 ,271.582,271.587,271.589,271.592, 271.595,271.597,271.6,271.602,271.604, 271.607,271.609,271.612,271.614,271.616 ,271.619,271.621,271.623,271.625, 271.627,271.629,271.632,271.634,271.636 ,271.638,271.641,271.644,271.647,271.65 ,271.653,271.657,271.657,271.658, 271.818,272.085,272.294,272.643,272.875 ,272.887,272.895,272.898,272.902, 272.907,272.911,272.915,272.92,272.926, 272.928,272.931,272.934,272.937,272.94, 272.943,272.945,272.948,272.951,272.954 ,272.957,272.96,272.963,272.966,272.969 ,272.972,272.975,272.978,272.981, 272.985,272.988,272.994,273.0,273.007, 273.014,273.017,273.02,273.024,273.027, 273.031,273.034,273.039,273.041,273.04)
ORBIT_NUMBER = 3023
ORBITAL_ECCENTRICITY = 0.573
ORBITAL_INCLINATION = 86.63
ORBITAL_SEMIMAJOR_AXIS = 8631.7
PERIAPSIS_ALTITUDE = 293.7
PERIAPSIS_ARGUMENT_ANGLE = 187.11
PERIAPSIS_TIME = 2006-05-19T03:38:33.000Z
SPACECRAFT_ORIENTATION = (0.0,-1.0,0.0)
^MEX_ORIENTATION_DESC = "MEX_ORIENTATION_DESC.TXT"
SPACECRAFT_POINTING_MODE = NADIR
^MEX_POINTING_DESC = "MEX_POINTING_DESC.TXT"
RIGHT_ASCENSION = -1e+32
DECLINATION = -1e+32
OFFSET_ANGLE = -1e+32
SPACECRAFT_SOLAR_DISTANCE = 2.4817e+08
TARGET_NAME = MARS
/* CAMERA DATA ELEMENTS */
DETECTOR_TEMPERATURE = 18.3705
FOCAL_PLANE_TEMPERATURE = 8.3794
INST_CMPRS_NAME = "DISCRETE COSINE TRANSFORMATION (DCT)"
INST_CMPRS_RATIO = 14.6965
INST_CMPRS_QUALITY = 0
INST_CMPRS_QUANTZ_TBL_ID = 0
INSTRUMENT_TEMPERATURE = 11.234
LENS_TEMPERATURE = 8.7872
MACROPIXEL_SIZE = 8
MISSING_FRAMES = 0
PIXEL_SUBSAMPLING_FLAG = N
SIGNAL_CHAIN_ID = 2
/* RADIOMETRIC DATA ELEMENTS */
BANDWIDTH = 88.0
CENTER_FILTER_WAVELENGTH = 538.0
RADIANCE_OFFSET = 0.793376
RADIANCE_SCALING_FACTOR = 0.00500721
REFLECTANCE_SCALING_FACTOR = 0.00026551
MEX:REFLECTANCE_OFFSET = 0.0420691
/* IMAGE OBJECT DEFINITIONS */
OBJECT = IMAGE
  INTERCHANGE_FORMAT = BINARY
  LINES = 4128
  LINE_SAMPLES = 854
  SAMPLE_TYPE = UNSIGNED_INTEGER
  SAMPLE_BITS = 8
  BANDS = 1
  BAND_STORAGE_TYPE = BAND_SEQUENTIAL
  MAXIMUM = 255
  MEAN = 142.854
  MINIMUM = 1
  STANDARD_DEVIATION = 17.8003
END_OBJECT = IMAGE
/* MAP OBJECT DEFINITIONS */
OBJECT = IMAGE_MAP_PROJECTION
  ^DATA_SET_MAP_PROJECTION_CATALOG= "DSMAP.CAT"
  A_AXIS_RADIUS = 3396.0
  B_AXIS_RADIUS = 3396.0
  C_AXIS_RADIUS = 3396.0
  CENTER_LATITUDE = 0.0
  CENTER_LONGITUDE = 272.0
  COORDINATE_SYSTEM_NAME = PLANETOGRAPHIC
  COORDINATE_SYSTEM_TYPE = "BODY-FIXED ROTATING"
  EASTERNMOST_LONGITUDE = 273.041
  FIRST_STANDARD_PARALLEL = "N/A"
  LINE_FIRST_PIXEL = 1
  LINE_LAST_PIXEL = 4128
  LINE_PROJECTION_OFFSET = 9947.9375
  MAP_PROJECTION_ROTATION = 0.0
  MAP_PROJECTION_TYPE = SINUSOIDAL
  MAP_RESOLUTION = 592.713803866667
  MAP_SCALE = 0.1
  MAXIMUM_LATITUDE = 16.7806
  MINIMUM_LATITUDE = 9.818659999999999
  POSITIVE_LONGITUDE_DIRECTION = EAST
  REFERENCE_LATITUDE = "N/A"
  REFERENCE_LONGITUDE = "N/A"
  SAMPLE_FIRST_PIXEL = 1
  SAMPLE_LAST_PIXEL = 854
  SAMPLE_PROJECTION_OFFSET = 266.8125
  SECOND_STANDARD_PARALLEL = "N/A"
  WESTERNMOST_LONGITUDE = 271.541
END_OBJECT = IMAGE_MAP_PROJECTION
END
