PDS_VERSION_ID = PDS3
/* FILE DATA ELEMENTS */
RECORD_TYPE = UNDEFINED
/* POINTERS TO DATA OBJECTS */
^IMAGE = ("H3006_0000_ND4.TIF")
/* IDENTIFICATION DATA ELEMENTS */
DATA_SET_ID = "MEX-M-HRSC-4-REFDR-MAPPROJECT-EXT1-V4.0"
DATA_SET_NAME = "MARS EXPRESS HRSC MAP PROJECTED REFDR EXTENSION1 V4.0"
DETECTOR_ID = MEX_HRSC_NADIR
EVENT_TYPE = "MARS-REGIONAL-MAPPING-Vo-Te-Fl"
INSTRUMENT_HOST_ID = MEX
INSTRUMENT_HOST_NAME = "MARS EXPRESS"
INSTRUMENT_ID = HRSC
INSTRUMENT_NAME = "HIGH RESOLUTION STEREO CAMERA"
MISSION_NAME = "MARS EXPRESS"
MISSION_PHASE_NAME = ME_Phase_3
PROCESSING_LEVEL_ID = 4
PRODUCT_CREATION_TIME = 2023-02-09T11:24:25.000Z
PRODUCT_ID = "H3006_0000_ND4.TIF"
RELEASE_ID = 0003
REVISION_ID = 0000
/* QUALITY DATA ELEMENTS */
DATA_QUALITY_ID = 1
DATA_QUALITY_DESC = "Data calculated based on original SPICE kernels"
/* TIME DATA ELEMENTS */
SPACECRAFT_CLOCK_START_COUNT = "1/0095678025.07287"
SPACECRAFT_CLOCK_STOP_COUNT = "1/0095678434.63529"
START_TIME = 2006-05-14T09:15:03.931Z
STOP_TIME = 2006-05-14T09:19:23.700Z
/* ORBITAL DATA ELEMENTS */
ASCENDING_NODE_LONGITUDE = 165.18
MAXIMUM_RESOLUTION = 0.0162
FOOTPRINT_POINT_LATITUDE = (28.3704,28.3705,28.3696,28.3676, 28.3645,28.3604,28.3533,28.3529,28.3524 ,27.9825,27.6158,27.2512,26.8905, 26.5335,26.1779,25.8268,25.3046,24.7888 ,24.4475,24.1109,23.7753,23.4434, 22.9505,22.6231,22.3014,21.979,21.6624, 21.1881,20.8764,20.5646,20.2582,19.7992 ,19.4979,19.0469,18.7509,18.3065, 18.0158,17.7245,17.2934,17.0076,16.7222 ,16.4422,16.1618,15.8814,15.332,14.9211 ,14.3825,13.9803,13.4529,13.0575, 12.9286,12.9123,12.9127,12.9125,12.9108 ,12.9107,12.911,13.4351,13.9629,14.3649 ,14.9038,15.3147,15.5898,15.8644, 16.1447,16.4253,16.7055,16.9908,17.2768 ,17.5623,17.8537,18.2905,18.7348, 19.0312,19.4823,19.7839,20.2431,20.5499 ,20.8617,21.1738,21.6483,21.9654, 22.2879,22.61,22.9375,23.4309,23.7634, 24.0991,24.4364,24.778,25.2943,25.8172, 26.1691,26.525,26.8825,27.2441,27.6092, 28.162,28.3473,28.3704)
FOOTPRINT_POINT_LONGITUDE = (143.391,143.036,142.656,142.274, 141.891,141.507,140.998,140.974,140.946 ,140.968,140.989,141.008,141.029, 141.047,141.065,141.083,141.107,141.132 ,141.147,141.162,141.176,141.19,141.201 ,141.219,141.236,141.247,141.26,141.278 ,141.289,141.299,141.31,141.324,141.333 ,141.347,141.356,141.368,141.377, 141.384,141.396,141.403,141.41,141.417, 141.425,141.431,141.444,141.454,141.465 ,141.474,141.484,141.492,141.495, 141.495,141.935,142.268,142.939,142.953 ,142.96,142.971,142.983,142.991,143.004 ,143.013,143.019,143.026,143.032, 143.039,143.046,143.053,143.06,143.067, 143.074,143.085,143.096,143.104,143.116 ,143.124,143.137,143.145,143.154, 143.163,143.176,143.185,143.195,143.204 ,143.214,143.229,143.24,143.25,143.261, 143.271,143.288,143.305,143.317,143.329 ,143.341,143.354,143.367,143.387, 143.394,143.391)
ORBIT_NUMBER = 3006
ORBITAL_ECCENTRICITY = 0.572
ORBITAL_INCLINATION = 86.62
ORBITAL_SEMIMAJOR_AXIS = 8621.73
PERIAPSIS_ALTITUDE = 293.51
PERIAPSIS_ARGUMENT_ANGLE = 190.14
PERIAPSIS_TIME = 2006-05-14T09:25:18.000Z
SPACECRAFT_ORIENTATION = (0.0,-1.0,0.0)
^MEX_ORIENTATION_DESC = "MEX_ORIENTATION_DESC.TXT"
SPACECRAFT_POINTING_MODE = ACROSSTRACK
^MEX_POINTING_DESC = "MEX_POINTING_DESC.TXT"
RIGHT_ASCENSION = -1e+32
DECLINATION = -1e+32
OFFSET_ANGLE = -0.54
SPACECRAFT_SOLAR_DISTANCE = 2.47887e+08
TARGET_NAME = MARS
/* CAMERA DATA ELEMENTS */
DETECTOR_TEMPERATURE = 18.5744
FOCAL_PLANE_TEMPERATURE = 7.9716
INST_CMPRS_NAME = "DISCRETE COSINE TRANSFORMATION (DCT)"
INST_CMPRS_RATIO = 6.86554
INST_CMPRS_QUALITY = 0
INST_CMPRS_QUANTZ_TBL_ID = 0
INSTRUMENT_TEMPERATURE = 11.234
LENS_TEMPERATURE = 8.3794
MACROPIXEL_SIZE = 1
MISSING_FRAMES = 0
PIXEL_SUBSAMPLING_FLAG = N
SIGNAL_CHAIN_ID = 0
/* RADIOMETRIC DATA ELEMENTS */
BANDWIDTH = 177.0
CENTER_FILTER_WAVELENGTH = 677.5
RADIANCE_OFFSET = 2.0985
RADIANCE_SCALING_FACTOR = 0.0204266
REFLECTANCE_SCALING_FACTOR = 0.000666786
MEX:REFLECTANCE_OFFSET = 0.0685014
/* IMAGE OBJECT DEFINITIONS */
OBJECT = IMAGE
  INTERCHANGE_FORMAT = BINARY
  LINES = 73307
  LINE_SAMPLES = 10216
  SAMPLE_TYPE = UNSIGNED_INTEGER
  SAMPLE_BITS = 8
  BANDS = 1
  BAND_STORAGE_TYPE = BAND_SEQUENTIAL
  MAXIMUM = 255
  MEAN = 110.963
  MINIMUM = 1
  STANDARD_DEVIATION = 22.4858
END_OBJECT = IMAGE
/* MAP OBJECT DEFINITIONS */
OBJECT = IMAGE_MAP_PROJECTION
  ^DATA_SET_MAP_PROJECTION_CATALOG= "DSMAP.CAT"
  A_AXIS_RADIUS = 3396.0
  B_AXIS_RADIUS = 3396.0
  C_AXIS_RADIUS = 3396.0
  CENTER_LATITUDE = 0.0
  CENTER_LONGITUDE = 142.0
  COORDINATE_SYSTEM_NAME = PLANETOGRAPHIC
  COORDINATE_SYSTEM_TYPE = "BODY-FIXED ROTATING"
  EASTERNMOST_LONGITUDE = 143.394
  FIRST_STANDARD_PARALLEL = "N/A"
  LINE_FIRST_PIXEL = 1
  LINE_LAST_PIXEL = 73307
  LINE_PROJECTION_OFFSET = 134526.0
  MAP_PROJECTION_ROTATION = 0.0
  MAP_PROJECTION_TYPE = SINUSOIDAL
  MAP_RESOLUTION = 4741.71043093333
  MAP_SCALE = 0.0125
  MAXIMUM_LATITUDE = 28.3705
  MINIMUM_LATITUDE = 12.9107
  POSITIVE_LONGITUDE_DIRECTION = EAST
  REFERENCE_LATITUDE = "N/A"
  REFERENCE_LONGITUDE = "N/A"
  SAMPLE_FIRST_PIXEL = 1
  SAMPLE_LAST_PIXEL = 10216
  SAMPLE_PROJECTION_OFFSET = 4395.0
  SECOND_STANDARD_PARALLEL = "N/A"
  WESTERNMOST_LONGITUDE = 140.946
END_OBJECT = IMAGE_MAP_PROJECTION
END
